BEGIN:VCALENDAR
VERSION:2.0
PRODID:-//Lovera Baptist Church San Antonio - ECPv6.15.20//NONSGML v1.0//EN
CALSCALE:GREGORIAN
METHOD:PUBLISH
X-WR-CALNAME:Lovera Baptist Church San Antonio
X-ORIGINAL-URL:https://loverabaptist.org
X-WR-CALDESC:Events for Lovera Baptist Church San Antonio
REFRESH-INTERVAL;VALUE=DURATION:PT1H
X-Robots-Tag:noindex
X-PUBLISHED-TTL:PT1H
BEGIN:VTIMEZONE
TZID:America/Chicago
BEGIN:DAYLIGHT
TZOFFSETFROM:-0600
TZOFFSETTO:-0500
TZNAME:CDT
DTSTART:20180311T080000
END:DAYLIGHT
BEGIN:STANDARD
TZOFFSETFROM:-0500
TZOFFSETTO:-0600
TZNAME:CST
DTSTART:20181104T070000
END:STANDARD
BEGIN:DAYLIGHT
TZOFFSETFROM:-0600
TZOFFSETTO:-0500
TZNAME:CDT
DTSTART:20190310T080000
END:DAYLIGHT
BEGIN:STANDARD
TZOFFSETFROM:-0500
TZOFFSETTO:-0600
TZNAME:CST
DTSTART:20191103T070000
END:STANDARD
BEGIN:DAYLIGHT
TZOFFSETFROM:-0600
TZOFFSETTO:-0500
TZNAME:CDT
DTSTART:20200308T080000
END:DAYLIGHT
BEGIN:STANDARD
TZOFFSETFROM:-0500
TZOFFSETTO:-0600
TZNAME:CST
DTSTART:20201101T070000
END:STANDARD
END:VTIMEZONE
BEGIN:VEVENT
DTSTART;TZID=America/Chicago:20190714T094500
DTEND;TZID=America/Chicago:20190714T104500
DTSTAMP:20260424T171336
CREATED:20190503T202039Z
LAST-MODIFIED:20190714T141457Z
UID:3967-1563097500-1563101100@loverabaptist.org
SUMMARY:Sunday School
DESCRIPTION:
URL:https://loverabaptist.org/event/sunday-school-66/
CATEGORIES:Regular Service
END:VEVENT
BEGIN:VEVENT
DTSTART;TZID=America/Chicago:20190710T190000
DTEND;TZID=America/Chicago:20190710T200000
DTSTAMP:20260424T171336
CREATED:20190503T202039Z
LAST-MODIFIED:20190710T134035Z
UID:3966-1562785200-1562788800@loverabaptist.org
SUMMARY:Worship Service
DESCRIPTION:
URL:https://loverabaptist.org/event/worship-service-78/
CATEGORIES:Regular Service
END:VEVENT
BEGIN:VEVENT
DTSTART;TZID=America/Chicago:20190707T110000
DTEND;TZID=America/Chicago:20190707T120000
DTSTAMP:20260424T171336
CREATED:20190503T202039Z
LAST-MODIFIED:20190707T124804Z
UID:3965-1562497200-1562500800@loverabaptist.org
SUMMARY:Worship Service
DESCRIPTION:
URL:https://loverabaptist.org/event/worship-service-77/
CATEGORIES:Regular Service
END:VEVENT
BEGIN:VEVENT
DTSTART;TZID=America/Chicago:20190707T094500
DTEND;TZID=America/Chicago:20190707T104500
DTSTAMP:20260424T171336
CREATED:20190503T202038Z
LAST-MODIFIED:20190707T124803Z
UID:3964-1562492700-1562496300@loverabaptist.org
SUMMARY:Sunday School
DESCRIPTION:
URL:https://loverabaptist.org/event/sunday-school-65/
CATEGORIES:Regular Service
END:VEVENT
BEGIN:VEVENT
DTSTART;TZID=America/Chicago:20190703T190000
DTEND;TZID=America/Chicago:20190703T200000
DTSTAMP:20260424T171336
CREATED:20190503T202038Z
LAST-MODIFIED:20190704T010149Z
UID:3963-1562180400-1562184000@loverabaptist.org
SUMMARY:Worship Service
DESCRIPTION:
URL:https://loverabaptist.org/event/worship-service-76/
CATEGORIES:Regular Service
END:VEVENT
BEGIN:VEVENT
DTSTART;TZID=America/Chicago:20190630T110000
DTEND;TZID=America/Chicago:20190630T120000
DTSTAMP:20260424T171336
CREATED:20190503T202038Z
LAST-MODIFIED:20190629T222042Z
UID:3962-1561892400-1561896000@loverabaptist.org
SUMMARY:Worship Service
DESCRIPTION:
URL:https://loverabaptist.org/event/worship-service-75/
CATEGORIES:Regular Service
END:VEVENT
BEGIN:VEVENT
DTSTART;TZID=America/Chicago:20190630T094500
DTEND;TZID=America/Chicago:20190630T104500
DTSTAMP:20260424T171336
CREATED:20190503T202038Z
LAST-MODIFIED:20190629T222042Z
UID:3961-1561887900-1561891500@loverabaptist.org
SUMMARY:Sunday School
DESCRIPTION:
URL:https://loverabaptist.org/event/sunday-school-64/
CATEGORIES:Regular Service
END:VEVENT
BEGIN:VEVENT
DTSTART;TZID=America/Chicago:20190626T190000
DTEND;TZID=America/Chicago:20190626T200000
DTSTAMP:20260424T171336
CREATED:20190503T202038Z
LAST-MODIFIED:20190626T214225Z
UID:3960-1561575600-1561579200@loverabaptist.org
SUMMARY:Worship Service
DESCRIPTION:
URL:https://loverabaptist.org/event/worship-service-74/
CATEGORIES:Regular Service
END:VEVENT
BEGIN:VEVENT
DTSTART;TZID=America/Chicago:20190623T110000
DTEND;TZID=America/Chicago:20190623T120000
DTSTAMP:20260424T171336
CREATED:20190503T202038Z
LAST-MODIFIED:20190623T212815Z
UID:3959-1561287600-1561291200@loverabaptist.org
SUMMARY:Worship Service
DESCRIPTION:
URL:https://loverabaptist.org/event/worship-service-73/
CATEGORIES:Regular Service
END:VEVENT
BEGIN:VEVENT
DTSTART;TZID=America/Chicago:20190623T094500
DTEND;TZID=America/Chicago:20190623T104500
DTSTAMP:20260424T171336
CREATED:20190503T202037Z
LAST-MODIFIED:20190623T212815Z
UID:3958-1561283100-1561286700@loverabaptist.org
SUMMARY:Sunday School
DESCRIPTION:
URL:https://loverabaptist.org/event/sunday-school-63/
CATEGORIES:Regular Service
END:VEVENT
BEGIN:VEVENT
DTSTART;TZID=America/Chicago:20190619T190000
DTEND;TZID=America/Chicago:20190619T200000
DTSTAMP:20260424T171336
CREATED:20190503T202037Z
LAST-MODIFIED:20190619T205714Z
UID:3957-1560970800-1560974400@loverabaptist.org
SUMMARY:Worship Service
DESCRIPTION:
URL:https://loverabaptist.org/event/worship-service-72/
CATEGORIES:Regular Service
END:VEVENT
BEGIN:VEVENT
DTSTART;TZID=America/Chicago:20190616T110000
DTEND;TZID=America/Chicago:20190616T120000
DTSTAMP:20260424T171336
CREATED:20190503T202037Z
LAST-MODIFIED:20190616T204149Z
UID:3956-1560682800-1560686400@loverabaptist.org
SUMMARY:Worship Service
DESCRIPTION:
URL:https://loverabaptist.org/event/worship-service-71/
CATEGORIES:Regular Service
END:VEVENT
BEGIN:VEVENT
DTSTART;TZID=America/Chicago:20190616T094500
DTEND;TZID=America/Chicago:20190616T104500
DTSTAMP:20260424T171336
CREATED:20190503T202037Z
LAST-MODIFIED:20190616T204149Z
UID:3955-1560678300-1560681900@loverabaptist.org
SUMMARY:Sunday School
DESCRIPTION:
URL:https://loverabaptist.org/event/sunday-school-62/
CATEGORIES:Regular Service
END:VEVENT
BEGIN:VEVENT
DTSTART;TZID=America/Chicago:20190612T190000
DTEND;TZID=America/Chicago:20190612T200000
DTSTAMP:20260424T171336
CREATED:20190503T202037Z
LAST-MODIFIED:20190612T201622Z
UID:3954-1560366000-1560369600@loverabaptist.org
SUMMARY:Worship Service
DESCRIPTION:
URL:https://loverabaptist.org/event/worship-service-70/
CATEGORIES:Regular Service
END:VEVENT
BEGIN:VEVENT
DTSTART;TZID=America/Chicago:20190609T110000
DTEND;TZID=America/Chicago:20190609T120000
DTSTAMP:20260424T171336
CREATED:20190503T202037Z
LAST-MODIFIED:20190609T195949Z
UID:3953-1560078000-1560081600@loverabaptist.org
SUMMARY:Worship Service
DESCRIPTION:
URL:https://loverabaptist.org/event/worship-service-69/
CATEGORIES:Regular Service
END:VEVENT
BEGIN:VEVENT
DTSTART;TZID=America/Chicago:20190609T094500
DTEND;TZID=America/Chicago:20190609T104500
DTSTAMP:20260424T171336
CREATED:20190503T202037Z
LAST-MODIFIED:20190609T195949Z
UID:3952-1560073500-1560077100@loverabaptist.org
SUMMARY:Sunday School
DESCRIPTION:
URL:https://loverabaptist.org/event/sunday-school-61/
CATEGORIES:Regular Service
END:VEVENT
BEGIN:VEVENT
DTSTART;TZID=America/Chicago:20190605T190000
DTEND;TZID=America/Chicago:20190605T200000
DTSTAMP:20260424T171336
CREATED:20190503T202036Z
LAST-MODIFIED:20190605T191436Z
UID:3951-1559761200-1559764800@loverabaptist.org
SUMMARY:Worship Service
DESCRIPTION:
URL:https://loverabaptist.org/event/worship-service-68/
CATEGORIES:Regular Service
END:VEVENT
BEGIN:VEVENT
DTSTART;TZID=America/Chicago:20190602T110000
DTEND;TZID=America/Chicago:20190602T120000
DTSTAMP:20260424T171336
CREATED:20190503T202036Z
LAST-MODIFIED:20190602T183846Z
UID:3950-1559473200-1559476800@loverabaptist.org
SUMMARY:Worship Service
DESCRIPTION:
URL:https://loverabaptist.org/event/worship-service-67/
CATEGORIES:Regular Service
END:VEVENT
BEGIN:VEVENT
DTSTART;TZID=America/Chicago:20190602T094500
DTEND;TZID=America/Chicago:20190602T104500
DTSTAMP:20260424T171336
CREATED:20190503T202036Z
LAST-MODIFIED:20190602T183845Z
UID:3949-1559468700-1559472300@loverabaptist.org
SUMMARY:Sunday School
DESCRIPTION:
URL:https://loverabaptist.org/event/sunday-school-60/
CATEGORIES:Regular Service
END:VEVENT
BEGIN:VEVENT
DTSTART;TZID=America/Chicago:20190529T190000
DTEND;TZID=America/Chicago:20190529T200000
DTSTAMP:20260424T171336
CREATED:20190503T202036Z
LAST-MODIFIED:20190529T174251Z
UID:3948-1559156400-1559160000@loverabaptist.org
SUMMARY:Worship Service
DESCRIPTION:
URL:https://loverabaptist.org/event/worship-service-66/
CATEGORIES:Regular Service
END:VEVENT
BEGIN:VEVENT
DTSTART;TZID=America/Chicago:20190526T110000
DTEND;TZID=America/Chicago:20190526T120000
DTSTAMP:20260424T171336
CREATED:20190503T202036Z
LAST-MODIFIED:20190526T170417Z
UID:3947-1558868400-1558872000@loverabaptist.org
SUMMARY:Worship Service
DESCRIPTION:
URL:https://loverabaptist.org/event/worship-service-65/
CATEGORIES:Regular Service
END:VEVENT
BEGIN:VEVENT
DTSTART;TZID=America/Chicago:20190526T094500
DTEND;TZID=America/Chicago:20190526T104500
DTSTAMP:20260424T171336
CREATED:20190503T202035Z
LAST-MODIFIED:20190526T170417Z
UID:3946-1558863900-1558867500@loverabaptist.org
SUMMARY:Sunday School
DESCRIPTION:
URL:https://loverabaptist.org/event/sunday-school-59/
CATEGORIES:Regular Service
END:VEVENT
BEGIN:VEVENT
DTSTART;TZID=America/Chicago:20190522T190000
DTEND;TZID=America/Chicago:20190522T200000
DTSTAMP:20260424T171336
CREATED:20190503T202035Z
LAST-MODIFIED:20190522T162638Z
UID:3945-1558551600-1558555200@loverabaptist.org
SUMMARY:Worship Service
DESCRIPTION:
URL:https://loverabaptist.org/event/worship-service-64/
CATEGORIES:Regular Service
END:VEVENT
BEGIN:VEVENT
DTSTART;TZID=America/Chicago:20190519T110000
DTEND;TZID=America/Chicago:20190519T120000
DTSTAMP:20260424T171336
CREATED:20190503T202035Z
LAST-MODIFIED:20190519T154301Z
UID:3944-1558263600-1558267200@loverabaptist.org
SUMMARY:Worship Service
DESCRIPTION:
URL:https://loverabaptist.org/event/worship-service-63/
CATEGORIES:Regular Service
END:VEVENT
BEGIN:VEVENT
DTSTART;TZID=America/Chicago:20190519T094500
DTEND;TZID=America/Chicago:20190519T104500
DTSTAMP:20260424T171336
CREATED:20190503T202035Z
LAST-MODIFIED:20190519T154300Z
UID:3943-1558259100-1558262700@loverabaptist.org
SUMMARY:Sunday School
DESCRIPTION:
URL:https://loverabaptist.org/event/sunday-school-58/
CATEGORIES:Regular Service
END:VEVENT
BEGIN:VEVENT
DTSTART;TZID=America/Chicago:20190515T190000
DTEND;TZID=America/Chicago:20190515T200000
DTSTAMP:20260424T171336
CREATED:20190503T202035Z
LAST-MODIFIED:20190515T142847Z
UID:3942-1557946800-1557950400@loverabaptist.org
SUMMARY:Worship Service
DESCRIPTION:
URL:https://loverabaptist.org/event/worship-service-62/
CATEGORIES:Regular Service
END:VEVENT
BEGIN:VEVENT
DTSTART;TZID=America/Chicago:20190512T110000
DTEND;TZID=America/Chicago:20190512T120000
DTSTAMP:20260424T171336
CREATED:20190503T202035Z
LAST-MODIFIED:20190510T214945Z
UID:3941-1557658800-1557662400@loverabaptist.org
SUMMARY:Worship Service
DESCRIPTION:
URL:https://loverabaptist.org/event/worship-service-61/
CATEGORIES:Regular Service
END:VEVENT
BEGIN:VEVENT
DTSTART;TZID=America/Chicago:20190512T094500
DTEND;TZID=America/Chicago:20190512T104500
DTSTAMP:20260424T171336
CREATED:20190211T132243Z
LAST-MODIFIED:20190510T214945Z
UID:3587-1557654300-1557657900@loverabaptist.org
SUMMARY:Sunday School
DESCRIPTION:
URL:https://loverabaptist.org/event/sunday-school-57/
CATEGORIES:Regular Service
END:VEVENT
BEGIN:VEVENT
DTSTART;TZID=America/Chicago:20190508T190000
DTEND;TZID=America/Chicago:20190508T200000
DTSTAMP:20260424T171336
CREATED:20190503T202034Z
LAST-MODIFIED:20190508T214312Z
UID:3940-1557342000-1557345600@loverabaptist.org
SUMMARY:Worship Service
DESCRIPTION:
URL:https://loverabaptist.org/event/worship-service-60/
CATEGORIES:Regular Service
END:VEVENT
BEGIN:VEVENT
DTSTART;TZID=America/Chicago:20190505T110000
DTEND;TZID=America/Chicago:20190505T120000
DTSTAMP:20260424T171336
CREATED:20190503T202034Z
LAST-MODIFIED:20190505T203302Z
UID:3939-1557054000-1557057600@loverabaptist.org
SUMMARY:Worship Service
DESCRIPTION:
URL:https://loverabaptist.org/event/worship-service-59/
CATEGORIES:Regular Service
END:VEVENT
END:VCALENDAR