BEGIN:VCALENDAR
VERSION:2.0
PRODID:-//Lovera Baptist Church San Antonio - ECPv6.15.20//NONSGML v1.0//EN
CALSCALE:GREGORIAN
METHOD:PUBLISH
X-WR-CALNAME:Lovera Baptist Church San Antonio
X-ORIGINAL-URL:https://loverabaptist.org
X-WR-CALDESC:Events for Lovera Baptist Church San Antonio
REFRESH-INTERVAL;VALUE=DURATION:PT1H
X-Robots-Tag:noindex
X-PUBLISHED-TTL:PT1H
BEGIN:VTIMEZONE
TZID:America/Chicago
BEGIN:DAYLIGHT
TZOFFSETFROM:-0600
TZOFFSETTO:-0500
TZNAME:CDT
DTSTART:20180311T080000
END:DAYLIGHT
BEGIN:STANDARD
TZOFFSETFROM:-0500
TZOFFSETTO:-0600
TZNAME:CST
DTSTART:20181104T070000
END:STANDARD
BEGIN:DAYLIGHT
TZOFFSETFROM:-0600
TZOFFSETTO:-0500
TZNAME:CDT
DTSTART:20190310T080000
END:DAYLIGHT
BEGIN:STANDARD
TZOFFSETFROM:-0500
TZOFFSETTO:-0600
TZNAME:CST
DTSTART:20191103T070000
END:STANDARD
BEGIN:DAYLIGHT
TZOFFSETFROM:-0600
TZOFFSETTO:-0500
TZNAME:CDT
DTSTART:20200308T080000
END:DAYLIGHT
BEGIN:STANDARD
TZOFFSETFROM:-0500
TZOFFSETTO:-0600
TZNAME:CST
DTSTART:20201101T070000
END:STANDARD
END:VTIMEZONE
BEGIN:VEVENT
DTSTART;TZID=America/Chicago:20190828T190000
DTEND;TZID=America/Chicago:20190828T200000
DTSTAMP:20260424T141004
CREATED:20190530T180048Z
LAST-MODIFIED:20190828T123636Z
UID:4069-1567018800-1567022400@loverabaptist.org
SUMMARY:Worship Service
DESCRIPTION:
URL:https://loverabaptist.org/event/worship-service-92/
CATEGORIES:Regular Service
END:VEVENT
BEGIN:VEVENT
DTSTART;TZID=America/Chicago:20190825T110000
DTEND;TZID=America/Chicago:20190825T120000
DTSTAMP:20260424T141004
CREATED:20190527T173028Z
LAST-MODIFIED:20190825T121523Z
UID:4063-1566730800-1566734400@loverabaptist.org
SUMMARY:Worship Service
DESCRIPTION:
URL:https://loverabaptist.org/event/worship-service-91/
CATEGORIES:Regular Service
END:VEVENT
BEGIN:VEVENT
DTSTART;TZID=America/Chicago:20190825T094500
DTEND;TZID=America/Chicago:20190825T104500
DTSTAMP:20260424T141004
CREATED:20190527T173028Z
LAST-MODIFIED:20190825T121522Z
UID:4062-1566726300-1566729900@loverabaptist.org
SUMMARY:Sunday School
DESCRIPTION:
URL:https://loverabaptist.org/event/sunday-school-72/
CATEGORIES:Regular Service
END:VEVENT
BEGIN:VEVENT
DTSTART;TZID=America/Chicago:20190821T190000
DTEND;TZID=America/Chicago:20190821T200000
DTSTAMP:20260424T141004
CREATED:20190523T163345Z
LAST-MODIFIED:20190821T234002Z
UID:4056-1566414000-1566417600@loverabaptist.org
SUMMARY:Worship Service
DESCRIPTION:
URL:https://loverabaptist.org/event/worship-service-90/
CATEGORIES:Regular Service
END:VEVENT
BEGIN:VEVENT
DTSTART;TZID=America/Chicago:20190818T110000
DTEND;TZID=America/Chicago:20190818T120000
DTSTAMP:20260424T141004
CREATED:20190520T155558Z
LAST-MODIFIED:20190818T232553Z
UID:4050-1566126000-1566129600@loverabaptist.org
SUMMARY:Worship Service
DESCRIPTION:
URL:https://loverabaptist.org/event/worship-service-89/
CATEGORIES:Regular Service
END:VEVENT
BEGIN:VEVENT
DTSTART;TZID=America/Chicago:20190818T094500
DTEND;TZID=America/Chicago:20190818T104500
DTSTAMP:20260424T141004
CREATED:20190520T155558Z
LAST-MODIFIED:20190818T232552Z
UID:4049-1566121500-1566125100@loverabaptist.org
SUMMARY:Sunday School
DESCRIPTION:
URL:https://loverabaptist.org/event/sunday-school-71/
CATEGORIES:Regular Service
END:VEVENT
BEGIN:VEVENT
DTSTART;TZID=America/Chicago:20190814T190000
DTEND;TZID=America/Chicago:20190814T200000
DTSTAMP:20260424T141004
CREATED:20190516T145127Z
LAST-MODIFIED:20190814T215841Z
UID:4043-1565809200-1565812800@loverabaptist.org
SUMMARY:Worship Service
DESCRIPTION:
URL:https://loverabaptist.org/event/worship-service-88/
CATEGORIES:Regular Service
END:VEVENT
BEGIN:VEVENT
DTSTART;TZID=America/Chicago:20190811T110000
DTEND;TZID=America/Chicago:20190811T120000
DTSTAMP:20260424T141004
CREATED:20190515T135458Z
LAST-MODIFIED:20190810T194157Z
UID:4038-1565521200-1565524800@loverabaptist.org
SUMMARY:Worship Service
DESCRIPTION:
URL:https://loverabaptist.org/event/worship-service-87/
CATEGORIES:Regular Service
END:VEVENT
BEGIN:VEVENT
DTSTART;TZID=America/Chicago:20190811T094500
DTEND;TZID=America/Chicago:20190811T104500
DTSTAMP:20260424T141004
CREATED:20190515T135458Z
LAST-MODIFIED:20190810T194156Z
UID:4037-1565516700-1565520300@loverabaptist.org
SUMMARY:Sunday School
DESCRIPTION:
URL:https://loverabaptist.org/event/sunday-school-70/
CATEGORIES:Regular Service
END:VEVENT
BEGIN:VEVENT
DTSTART;TZID=America/Chicago:20190807T190000
DTEND;TZID=America/Chicago:20190807T200000
DTSTAMP:20260424T141004
CREATED:20190509T214612Z
LAST-MODIFIED:20190807T190758Z
UID:4030-1565204400-1565208000@loverabaptist.org
SUMMARY:Worship Service
DESCRIPTION:
URL:https://loverabaptist.org/event/worship-service-86/
CATEGORIES:Regular Service
END:VEVENT
BEGIN:VEVENT
DTSTART;TZID=America/Chicago:20190804T110000
DTEND;TZID=America/Chicago:20190804T120000
DTSTAMP:20260424T141004
CREATED:20190506T204450Z
LAST-MODIFIED:20190804T174742Z
UID:4024-1564916400-1564920000@loverabaptist.org
SUMMARY:Worship Service
DESCRIPTION:
URL:https://loverabaptist.org/event/worship-service-85/
CATEGORIES:Regular Service
END:VEVENT
BEGIN:VEVENT
DTSTART;TZID=America/Chicago:20190804T094500
DTEND;TZID=America/Chicago:20190804T104500
DTSTAMP:20260424T141004
CREATED:20190506T204450Z
LAST-MODIFIED:20190804T174741Z
UID:4023-1564911900-1564915500@loverabaptist.org
SUMMARY:Sunday School
DESCRIPTION:
URL:https://loverabaptist.org/event/sunday-school-69/
CATEGORIES:Regular Service
END:VEVENT
BEGIN:VEVENT
DTSTART;TZID=America/Chicago:20190731T190000
DTEND;TZID=America/Chicago:20190731T200000
DTSTAMP:20260424T141004
CREATED:20190503T202040Z
LAST-MODIFIED:20190730T170350Z
UID:3975-1564599600-1564603200@loverabaptist.org
SUMMARY:Worship Service
DESCRIPTION:
URL:https://loverabaptist.org/event/worship-service-84/
CATEGORIES:Regular Service
END:VEVENT
BEGIN:VEVENT
DTSTART;TZID=America/Chicago:20190728T110000
DTEND;TZID=America/Chicago:20190728T120000
DTSTAMP:20260424T141004
CREATED:20190503T202040Z
LAST-MODIFIED:20190728T162450Z
UID:3974-1564311600-1564315200@loverabaptist.org
SUMMARY:Worship Service
DESCRIPTION:
URL:https://loverabaptist.org/event/worship-service-83/
CATEGORIES:Regular Service
END:VEVENT
BEGIN:VEVENT
DTSTART;TZID=America/Chicago:20190728T094500
DTEND;TZID=America/Chicago:20190728T104500
DTSTAMP:20260424T141004
CREATED:20190503T202040Z
LAST-MODIFIED:20190728T162450Z
UID:3973-1564307100-1564310700@loverabaptist.org
SUMMARY:Sunday School
DESCRIPTION:
URL:https://loverabaptist.org/event/sunday-school-68/
CATEGORIES:Regular Service
END:VEVENT
BEGIN:VEVENT
DTSTART;TZID=America/Chicago:20190724T190000
DTEND;TZID=America/Chicago:20190724T200000
DTSTAMP:20260424T141004
CREATED:20190503T202040Z
LAST-MODIFIED:20190724T160119Z
UID:3972-1563994800-1563998400@loverabaptist.org
SUMMARY:Worship Service
DESCRIPTION:
URL:https://loverabaptist.org/event/worship-service-82/
CATEGORIES:Regular Service
END:VEVENT
BEGIN:VEVENT
DTSTART;TZID=America/Chicago:20190721T110000
DTEND;TZID=America/Chicago:20190721T120000
DTSTAMP:20260424T141004
CREATED:20190503T202040Z
LAST-MODIFIED:20190721T152303Z
UID:3971-1563706800-1563710400@loverabaptist.org
SUMMARY:Worship Service
DESCRIPTION:
URL:https://loverabaptist.org/event/worship-service-81/
CATEGORIES:Regular Service
END:VEVENT
BEGIN:VEVENT
DTSTART;TZID=America/Chicago:20190721T094500
DTEND;TZID=America/Chicago:20190721T104500
DTSTAMP:20260424T141004
CREATED:20190503T202040Z
LAST-MODIFIED:20190721T152303Z
UID:3970-1563702300-1563705900@loverabaptist.org
SUMMARY:Sunday School
DESCRIPTION:
URL:https://loverabaptist.org/event/sunday-school-67/
CATEGORIES:Regular Service
END:VEVENT
BEGIN:VEVENT
DTSTART;TZID=America/Chicago:20190717T190000
DTEND;TZID=America/Chicago:20190717T200000
DTSTAMP:20260424T141004
CREATED:20190503T202039Z
LAST-MODIFIED:20190717T143932Z
UID:3969-1563390000-1563393600@loverabaptist.org
SUMMARY:Worship Service
DESCRIPTION:
URL:https://loverabaptist.org/event/worship-service-80/
CATEGORIES:Regular Service
END:VEVENT
BEGIN:VEVENT
DTSTART;TZID=America/Chicago:20190714T110000
DTEND;TZID=America/Chicago:20190714T120000
DTSTAMP:20260424T141004
CREATED:20190503T202039Z
LAST-MODIFIED:20190714T141457Z
UID:3968-1563102000-1563105600@loverabaptist.org
SUMMARY:Worship Service
DESCRIPTION:
URL:https://loverabaptist.org/event/worship-service-79/
CATEGORIES:Regular Service
END:VEVENT
BEGIN:VEVENT
DTSTART;TZID=America/Chicago:20190714T094500
DTEND;TZID=America/Chicago:20190714T104500
DTSTAMP:20260424T141004
CREATED:20190503T202039Z
LAST-MODIFIED:20190714T141457Z
UID:3967-1563097500-1563101100@loverabaptist.org
SUMMARY:Sunday School
DESCRIPTION:
URL:https://loverabaptist.org/event/sunday-school-66/
CATEGORIES:Regular Service
END:VEVENT
BEGIN:VEVENT
DTSTART;TZID=America/Chicago:20190710T190000
DTEND;TZID=America/Chicago:20190710T200000
DTSTAMP:20260424T141004
CREATED:20190503T202039Z
LAST-MODIFIED:20190710T134035Z
UID:3966-1562785200-1562788800@loverabaptist.org
SUMMARY:Worship Service
DESCRIPTION:
URL:https://loverabaptist.org/event/worship-service-78/
CATEGORIES:Regular Service
END:VEVENT
BEGIN:VEVENT
DTSTART;TZID=America/Chicago:20190707T110000
DTEND;TZID=America/Chicago:20190707T120000
DTSTAMP:20260424T141004
CREATED:20190503T202039Z
LAST-MODIFIED:20190707T124804Z
UID:3965-1562497200-1562500800@loverabaptist.org
SUMMARY:Worship Service
DESCRIPTION:
URL:https://loverabaptist.org/event/worship-service-77/
CATEGORIES:Regular Service
END:VEVENT
BEGIN:VEVENT
DTSTART;TZID=America/Chicago:20190707T094500
DTEND;TZID=America/Chicago:20190707T104500
DTSTAMP:20260424T141004
CREATED:20190503T202038Z
LAST-MODIFIED:20190707T124803Z
UID:3964-1562492700-1562496300@loverabaptist.org
SUMMARY:Sunday School
DESCRIPTION:
URL:https://loverabaptist.org/event/sunday-school-65/
CATEGORIES:Regular Service
END:VEVENT
BEGIN:VEVENT
DTSTART;TZID=America/Chicago:20190703T190000
DTEND;TZID=America/Chicago:20190703T200000
DTSTAMP:20260424T141004
CREATED:20190503T202038Z
LAST-MODIFIED:20190704T010149Z
UID:3963-1562180400-1562184000@loverabaptist.org
SUMMARY:Worship Service
DESCRIPTION:
URL:https://loverabaptist.org/event/worship-service-76/
CATEGORIES:Regular Service
END:VEVENT
BEGIN:VEVENT
DTSTART;TZID=America/Chicago:20190630T110000
DTEND;TZID=America/Chicago:20190630T120000
DTSTAMP:20260424T141004
CREATED:20190503T202038Z
LAST-MODIFIED:20190629T222042Z
UID:3962-1561892400-1561896000@loverabaptist.org
SUMMARY:Worship Service
DESCRIPTION:
URL:https://loverabaptist.org/event/worship-service-75/
CATEGORIES:Regular Service
END:VEVENT
BEGIN:VEVENT
DTSTART;TZID=America/Chicago:20190630T094500
DTEND;TZID=America/Chicago:20190630T104500
DTSTAMP:20260424T141004
CREATED:20190503T202038Z
LAST-MODIFIED:20190629T222042Z
UID:3961-1561887900-1561891500@loverabaptist.org
SUMMARY:Sunday School
DESCRIPTION:
URL:https://loverabaptist.org/event/sunday-school-64/
CATEGORIES:Regular Service
END:VEVENT
BEGIN:VEVENT
DTSTART;TZID=America/Chicago:20190626T190000
DTEND;TZID=America/Chicago:20190626T200000
DTSTAMP:20260424T141004
CREATED:20190503T202038Z
LAST-MODIFIED:20190626T214225Z
UID:3960-1561575600-1561579200@loverabaptist.org
SUMMARY:Worship Service
DESCRIPTION:
URL:https://loverabaptist.org/event/worship-service-74/
CATEGORIES:Regular Service
END:VEVENT
BEGIN:VEVENT
DTSTART;TZID=America/Chicago:20190623T110000
DTEND;TZID=America/Chicago:20190623T120000
DTSTAMP:20260424T141004
CREATED:20190503T202038Z
LAST-MODIFIED:20190623T212815Z
UID:3959-1561287600-1561291200@loverabaptist.org
SUMMARY:Worship Service
DESCRIPTION:
URL:https://loverabaptist.org/event/worship-service-73/
CATEGORIES:Regular Service
END:VEVENT
BEGIN:VEVENT
DTSTART;TZID=America/Chicago:20190623T094500
DTEND;TZID=America/Chicago:20190623T104500
DTSTAMP:20260424T141004
CREATED:20190503T202037Z
LAST-MODIFIED:20190623T212815Z
UID:3958-1561283100-1561286700@loverabaptist.org
SUMMARY:Sunday School
DESCRIPTION:
URL:https://loverabaptist.org/event/sunday-school-63/
CATEGORIES:Regular Service
END:VEVENT
END:VCALENDAR