BEGIN:VCALENDAR
VERSION:2.0
PRODID:-//Lovera Baptist Church San Antonio - ECPv6.15.20//NONSGML v1.0//EN
CALSCALE:GREGORIAN
METHOD:PUBLISH
X-ORIGINAL-URL:https://loverabaptist.org
X-WR-CALDESC:Events for Lovera Baptist Church San Antonio
REFRESH-INTERVAL;VALUE=DURATION:PT1H
X-Robots-Tag:noindex
X-PUBLISHED-TTL:PT1H
BEGIN:VTIMEZONE
TZID:America/Chicago
BEGIN:DAYLIGHT
TZOFFSETFROM:-0600
TZOFFSETTO:-0500
TZNAME:CDT
DTSTART:20220313T080000
END:DAYLIGHT
BEGIN:STANDARD
TZOFFSETFROM:-0500
TZOFFSETTO:-0600
TZNAME:CST
DTSTART:20221106T070000
END:STANDARD
BEGIN:DAYLIGHT
TZOFFSETFROM:-0600
TZOFFSETTO:-0500
TZNAME:CDT
DTSTART:20230312T080000
END:DAYLIGHT
BEGIN:STANDARD
TZOFFSETFROM:-0500
TZOFFSETTO:-0600
TZNAME:CST
DTSTART:20231105T070000
END:STANDARD
BEGIN:DAYLIGHT
TZOFFSETFROM:-0600
TZOFFSETTO:-0500
TZNAME:CDT
DTSTART:20240310T080000
END:DAYLIGHT
BEGIN:STANDARD
TZOFFSETFROM:-0500
TZOFFSETTO:-0600
TZNAME:CST
DTSTART:20241103T070000
END:STANDARD
END:VTIMEZONE
BEGIN:VEVENT
DTSTART;TZID=America/Chicago:20231231T110000
DTEND;TZID=America/Chicago:20231231T120000
DTSTAMP:20260419T172737
CREATED:20231105T060937Z
LAST-MODIFIED:20231231T153840Z
UID:9622-1704020400-1704024000@loverabaptist.org
SUMMARY:Worship Service
DESCRIPTION:
URL:https://loverabaptist.org/event/worship-service-549/
CATEGORIES:Regular Service
END:VEVENT
BEGIN:VEVENT
DTSTART;TZID=America/Chicago:20231231T094500
DTEND;TZID=America/Chicago:20231231T104500
DTSTAMP:20260419T172737
CREATED:20231105T060937Z
LAST-MODIFIED:20231231T153840Z
UID:9621-1704015900-1704019500@loverabaptist.org
SUMMARY:Sunday School
DESCRIPTION:
URL:https://loverabaptist.org/event/sunday-school-300/
CATEGORIES:Regular Service
END:VEVENT
BEGIN:VEVENT
DTSTART;TZID=America/Chicago:20231227T190000
DTEND;TZID=America/Chicago:20231227T200000
DTSTAMP:20260419T172737
CREATED:20231105T060937Z
LAST-MODIFIED:20231227T151008Z
UID:9620-1703703600-1703707200@loverabaptist.org
SUMMARY:Worship Service
DESCRIPTION:
URL:https://loverabaptist.org/event/worship-service-539/
CATEGORIES:Regular Service
END:VEVENT
BEGIN:VEVENT
DTSTART;TZID=America/Chicago:20231224T110000
DTEND;TZID=America/Chicago:20231224T120000
DTSTAMP:20260419T172737
CREATED:20231105T060936Z
LAST-MODIFIED:20231224T150951Z
UID:9619-1703415600-1703419200@loverabaptist.org
SUMMARY:Worship Service
DESCRIPTION:
URL:https://loverabaptist.org/event/worship-service-538/
CATEGORIES:Regular Service
END:VEVENT
BEGIN:VEVENT
DTSTART;TZID=America/Chicago:20231224T094500
DTEND;TZID=America/Chicago:20231224T104500
DTSTAMP:20260419T172737
CREATED:20231105T060936Z
LAST-MODIFIED:20231224T150951Z
UID:9618-1703411100-1703414700@loverabaptist.org
SUMMARY:Sunday School
DESCRIPTION:
URL:https://loverabaptist.org/event/sunday-school-295/
CATEGORIES:Regular Service
END:VEVENT
BEGIN:VEVENT
DTSTART;TZID=America/Chicago:20231220T190000
DTEND;TZID=America/Chicago:20231220T200000
DTSTAMP:20260419T172737
CREATED:20231105T060936Z
LAST-MODIFIED:20231220T144011Z
UID:9617-1703098800-1703102400@loverabaptist.org
SUMMARY:Worship Service
DESCRIPTION:
URL:https://loverabaptist.org/event/worship-service-537/
CATEGORIES:Regular Service
END:VEVENT
BEGIN:VEVENT
DTSTART;TZID=America/Chicago:20231217T110000
DTEND;TZID=America/Chicago:20231217T120000
DTSTAMP:20260419T172737
CREATED:20231105T060935Z
LAST-MODIFIED:20231217T142451Z
UID:9616-1702810800-1702814400@loverabaptist.org
SUMMARY:Worship Service
DESCRIPTION:
URL:https://loverabaptist.org/event/worship-service-536/
CATEGORIES:Regular Service
END:VEVENT
BEGIN:VEVENT
DTSTART;TZID=America/Chicago:20231217T094500
DTEND;TZID=America/Chicago:20231217T104500
DTSTAMP:20260419T172737
CREATED:20231105T060935Z
LAST-MODIFIED:20231217T142451Z
UID:9615-1702806300-1702809900@loverabaptist.org
SUMMARY:Sunday School
DESCRIPTION:
URL:https://loverabaptist.org/event/sunday-school-294/
CATEGORIES:Regular Service
END:VEVENT
BEGIN:VEVENT
DTSTART;TZID=America/Chicago:20231213T190000
DTEND;TZID=America/Chicago:20231213T200000
DTSTAMP:20260419T172737
CREATED:20231105T060934Z
LAST-MODIFIED:20231213T140826Z
UID:9614-1702494000-1702497600@loverabaptist.org
SUMMARY:Worship Service
DESCRIPTION:
URL:https://loverabaptist.org/event/worship-service-535/
CATEGORIES:Regular Service
END:VEVENT
BEGIN:VEVENT
DTSTART;TZID=America/Chicago:20231210T110000
DTEND;TZID=America/Chicago:20231210T120000
DTSTAMP:20260419T172737
CREATED:20231105T060934Z
LAST-MODIFIED:20231210T135303Z
UID:9613-1702206000-1702209600@loverabaptist.org
SUMMARY:Worship Service
DESCRIPTION:
URL:https://loverabaptist.org/event/worship-service-534/
CATEGORIES:Regular Service
END:VEVENT
BEGIN:VEVENT
DTSTART;TZID=America/Chicago:20231210T094500
DTEND;TZID=America/Chicago:20231210T104500
DTSTAMP:20260419T172737
CREATED:20231105T060934Z
LAST-MODIFIED:20231210T135302Z
UID:9612-1702201500-1702205100@loverabaptist.org
SUMMARY:Sunday School
DESCRIPTION:
URL:https://loverabaptist.org/event/sunday-school-293/
CATEGORIES:Regular Service
END:VEVENT
BEGIN:VEVENT
DTSTART;TZID=America/Chicago:20231206T190000
DTEND;TZID=America/Chicago:20231206T200000
DTSTAMP:20260419T172737
CREATED:20231105T060933Z
LAST-MODIFIED:20231206T135523Z
UID:9611-1701889200-1701892800@loverabaptist.org
SUMMARY:Worship Service
DESCRIPTION:
URL:https://loverabaptist.org/event/worship-service-533/
CATEGORIES:Regular Service
END:VEVENT
BEGIN:VEVENT
DTSTART;TZID=America/Chicago:20231203T110000
DTEND;TZID=America/Chicago:20231203T120000
DTSTAMP:20260419T172737
CREATED:20231105T060933Z
LAST-MODIFIED:20231203T135254Z
UID:9610-1701601200-1701604800@loverabaptist.org
SUMMARY:Worship Service
DESCRIPTION:
URL:https://loverabaptist.org/event/worship-service-532/
CATEGORIES:Regular Service
END:VEVENT
BEGIN:VEVENT
DTSTART;TZID=America/Chicago:20231203T094500
DTEND;TZID=America/Chicago:20231203T104500
DTSTAMP:20260419T172737
CREATED:20231105T060932Z
LAST-MODIFIED:20231203T135254Z
UID:9609-1701596700-1701600300@loverabaptist.org
SUMMARY:Sunday School
DESCRIPTION:
URL:https://loverabaptist.org/event/sunday-school-292/
CATEGORIES:Regular Service
END:VEVENT
BEGIN:VEVENT
DTSTART;TZID=America/Chicago:20231129T190000
DTEND;TZID=America/Chicago:20231129T200000
DTSTAMP:20260419T172737
CREATED:20231105T060932Z
LAST-MODIFIED:20231129T134021Z
UID:9608-1701284400-1701288000@loverabaptist.org
SUMMARY:Worship Service
DESCRIPTION:
URL:https://loverabaptist.org/event/worship-service-531/
CATEGORIES:Regular Service
END:VEVENT
BEGIN:VEVENT
DTSTART;TZID=America/Chicago:20231126T110000
DTEND;TZID=America/Chicago:20231126T120000
DTSTAMP:20260419T172737
CREATED:20231105T060932Z
LAST-MODIFIED:20231126T130919Z
UID:9607-1700996400-1701000000@loverabaptist.org
SUMMARY:Worship Service
DESCRIPTION:
URL:https://loverabaptist.org/event/worship-service-530/
CATEGORIES:Regular Service
END:VEVENT
BEGIN:VEVENT
DTSTART;TZID=America/Chicago:20231126T094500
DTEND;TZID=America/Chicago:20231126T104500
DTSTAMP:20260419T172737
CREATED:20231105T060931Z
LAST-MODIFIED:20231126T130919Z
UID:9606-1700991900-1700995500@loverabaptist.org
SUMMARY:Sunday School
DESCRIPTION:
URL:https://loverabaptist.org/event/sunday-school-291/
CATEGORIES:Regular Service
END:VEVENT
BEGIN:VEVENT
DTSTART;TZID=America/Chicago:20231122T190000
DTEND;TZID=America/Chicago:20231122T200000
DTSTAMP:20260419T172737
CREATED:20231105T060931Z
LAST-MODIFIED:20231122T125456Z
UID:9605-1700679600-1700683200@loverabaptist.org
SUMMARY:Worship Service
DESCRIPTION:
URL:https://loverabaptist.org/event/worship-service-529/
CATEGORIES:Regular Service
END:VEVENT
BEGIN:VEVENT
DTSTART;TZID=America/Chicago:20231119T110000
DTEND;TZID=America/Chicago:20231119T120000
DTSTAMP:20260419T172737
CREATED:20231105T060930Z
LAST-MODIFIED:20231119T175249Z
UID:9604-1700391600-1700395200@loverabaptist.org
SUMMARY:Worship Service
DESCRIPTION:
URL:https://loverabaptist.org/event/worship-service-528/
CATEGORIES:Regular Service
END:VEVENT
BEGIN:VEVENT
DTSTART;TZID=America/Chicago:20231119T094500
DTEND;TZID=America/Chicago:20231119T104500
DTSTAMP:20260419T172737
CREATED:20231105T060930Z
LAST-MODIFIED:20231119T163824Z
UID:9603-1700387100-1700390700@loverabaptist.org
SUMMARY:Sunday School
DESCRIPTION:
URL:https://loverabaptist.org/event/sunday-school-290/
CATEGORIES:Regular Service
END:VEVENT
BEGIN:VEVENT
DTSTART;TZID=America/Chicago:20231115T190000
DTEND;TZID=America/Chicago:20231115T200000
DTSTAMP:20260419T172737
CREATED:20231105T060930Z
LAST-MODIFIED:20231116T015429Z
UID:9602-1700074800-1700078400@loverabaptist.org
SUMMARY:Worship Service
DESCRIPTION:
URL:https://loverabaptist.org/event/worship-service-527/
CATEGORIES:Regular Service
END:VEVENT
BEGIN:VEVENT
DTSTART;TZID=America/Chicago:20231112T110000
DTEND;TZID=America/Chicago:20231112T120000
DTSTAMP:20260419T172737
CREATED:20231105T060929Z
LAST-MODIFIED:20231112T122353Z
UID:9601-1699786800-1699790400@loverabaptist.org
SUMMARY:Worship Service
DESCRIPTION:
URL:https://loverabaptist.org/event/worship-service-526/
CATEGORIES:Regular Service
END:VEVENT
BEGIN:VEVENT
DTSTART;TZID=America/Chicago:20231112T094500
DTEND;TZID=America/Chicago:20231112T104500
DTSTAMP:20260419T172737
CREATED:20231105T060929Z
LAST-MODIFIED:20231112T122353Z
UID:9600-1699782300-1699785900@loverabaptist.org
SUMMARY:Sunday School
DESCRIPTION:
URL:https://loverabaptist.org/event/sunday-school-289/
CATEGORIES:Regular Service
END:VEVENT
BEGIN:VEVENT
DTSTART;TZID=America/Chicago:20231108T190000
DTEND;TZID=America/Chicago:20231108T200000
DTSTAMP:20260419T172737
CREATED:20231105T060929Z
LAST-MODIFIED:20231108T120804Z
UID:9599-1699470000-1699473600@loverabaptist.org
SUMMARY:Worship Service
DESCRIPTION:
URL:https://loverabaptist.org/event/worship-service-525/
CATEGORIES:Regular Service
END:VEVENT
BEGIN:VEVENT
DTSTART;TZID=America/Chicago:20231105T110000
DTEND;TZID=America/Chicago:20231105T120000
DTSTAMP:20260419T172737
CREATED:20231105T060928Z
LAST-MODIFIED:20231105T065325Z
UID:9598-1699182000-1699185600@loverabaptist.org
SUMMARY:Worship Service
DESCRIPTION:
URL:https://loverabaptist.org/event/worship-service-524/
CATEGORIES:Regular Service
END:VEVENT
BEGIN:VEVENT
DTSTART;TZID=America/Chicago:20231105T094500
DTEND;TZID=America/Chicago:20231105T104500
DTSTAMP:20260419T172737
CREATED:20231105T060928Z
LAST-MODIFIED:20231105T065325Z
UID:9597-1699177500-1699181100@loverabaptist.org
SUMMARY:Sunday School
DESCRIPTION:
URL:https://loverabaptist.org/event/sunday-school-288/
CATEGORIES:Regular Service
END:VEVENT
BEGIN:VEVENT
DTSTART;TZID=America/Chicago:20230723T110000
DTEND;TZID=America/Chicago:20230723T120000
DTSTAMP:20260419T172737
CREATED:20230424T141301Z
LAST-MODIFIED:20230426T143926Z
UID:9590-1690110000-1690113600@loverabaptist.org
SUMMARY:Worship Service
DESCRIPTION:
URL:https://loverabaptist.org/event/worship-service-514/
CATEGORIES:Regular Service
END:VEVENT
BEGIN:VEVENT
DTSTART;TZID=America/Chicago:20230723T094500
DTEND;TZID=America/Chicago:20230723T104500
DTSTAMP:20260419T172737
CREATED:20230424T141300Z
LAST-MODIFIED:20230426T143926Z
UID:9589-1690105500-1690109100@loverabaptist.org
SUMMARY:Sunday School
DESCRIPTION:
URL:https://loverabaptist.org/event/sunday-school-283/
CATEGORIES:Regular Service
END:VEVENT
BEGIN:VEVENT
DTSTART;TZID=America/Chicago:20230719T190000
DTEND;TZID=America/Chicago:20230719T200000
DTSTAMP:20260419T172737
CREATED:20230421T140946Z
LAST-MODIFIED:20230426T143926Z
UID:9584-1689793200-1689796800@loverabaptist.org
SUMMARY:Worship Service
DESCRIPTION:
URL:https://loverabaptist.org/event/worship-service-513/
CATEGORIES:Regular Service
END:VEVENT
BEGIN:VEVENT
DTSTART;TZID=America/Chicago:20230716T110000
DTEND;TZID=America/Chicago:20230716T120000
DTSTAMP:20260419T172737
CREATED:20230417T135505Z
LAST-MODIFIED:20230426T143925Z
UID:9577-1689505200-1689508800@loverabaptist.org
SUMMARY:Worship Service
DESCRIPTION:
URL:https://loverabaptist.org/event/worship-service-512/
CATEGORIES:Regular Service
END:VEVENT
END:VCALENDAR