BEGIN:VCALENDAR
VERSION:2.0
PRODID:-//Lovera Baptist Church San Antonio - ECPv6.15.20//NONSGML v1.0//EN
CALSCALE:GREGORIAN
METHOD:PUBLISH
X-ORIGINAL-URL:https://loverabaptist.org
X-WR-CALDESC:Events for Lovera Baptist Church San Antonio
REFRESH-INTERVAL;VALUE=DURATION:PT1H
X-Robots-Tag:noindex
X-PUBLISHED-TTL:PT1H
BEGIN:VTIMEZONE
TZID:America/Chicago
BEGIN:DAYLIGHT
TZOFFSETFROM:-0600
TZOFFSETTO:-0500
TZNAME:CDT
DTSTART:20220313T080000
END:DAYLIGHT
BEGIN:STANDARD
TZOFFSETFROM:-0500
TZOFFSETTO:-0600
TZNAME:CST
DTSTART:20221106T070000
END:STANDARD
BEGIN:DAYLIGHT
TZOFFSETFROM:-0600
TZOFFSETTO:-0500
TZNAME:CDT
DTSTART:20230312T080000
END:DAYLIGHT
BEGIN:STANDARD
TZOFFSETFROM:-0500
TZOFFSETTO:-0600
TZNAME:CST
DTSTART:20231105T070000
END:STANDARD
BEGIN:DAYLIGHT
TZOFFSETFROM:-0600
TZOFFSETTO:-0500
TZNAME:CDT
DTSTART:20240310T080000
END:DAYLIGHT
BEGIN:STANDARD
TZOFFSETFROM:-0500
TZOFFSETTO:-0600
TZNAME:CST
DTSTART:20241103T070000
END:STANDARD
BEGIN:DAYLIGHT
TZOFFSETFROM:-0600
TZOFFSETTO:-0500
TZNAME:CDT
DTSTART:20250309T080000
END:DAYLIGHT
BEGIN:STANDARD
TZOFFSETFROM:-0500
TZOFFSETTO:-0600
TZNAME:CST
DTSTART:20251102T070000
END:STANDARD
END:VTIMEZONE
BEGIN:VEVENT
DTSTART;TZID=America/Chicago:20240218T094500
DTEND;TZID=America/Chicago:20240218T104500
DTSTAMP:20260419T140828
CREATED:20231120T000912Z
LAST-MODIFIED:20240217T180803Z
UID:10199-1708249500-1708253100@loverabaptist.org
SUMMARY:Sunday School
DESCRIPTION:
URL:https://loverabaptist.org/event/sunday-school-307/
CATEGORIES:Regular Service
END:VEVENT
BEGIN:VEVENT
DTSTART;TZID=America/Chicago:20240214T190000
DTEND;TZID=America/Chicago:20240214T200000
DTSTAMP:20260419T140828
CREATED:20231117T000906Z
LAST-MODIFIED:20240214T180828Z
UID:9924-1707937200-1707940800@loverabaptist.org
SUMMARY:Worship Service
DESCRIPTION:
URL:https://loverabaptist.org/event/worship-service-562/
CATEGORIES:Regular Service
END:VEVENT
BEGIN:VEVENT
DTSTART;TZID=America/Chicago:20240211T110000
DTEND;TZID=America/Chicago:20240211T120000
DTSTAMP:20260419T140828
CREATED:20231113T122537Z
LAST-MODIFIED:20240210T181003Z
UID:9691-1707649200-1707652800@loverabaptist.org
SUMMARY:Worship Service
DESCRIPTION:
URL:https://loverabaptist.org/event/worship-service-561/
CATEGORIES:Regular Service
END:VEVENT
BEGIN:VEVENT
DTSTART;TZID=America/Chicago:20240211T094500
DTEND;TZID=America/Chicago:20240211T104500
DTSTAMP:20260419T140828
CREATED:20231113T122536Z
LAST-MODIFIED:20240210T181003Z
UID:9690-1707644700-1707648300@loverabaptist.org
SUMMARY:Sunday School
DESCRIPTION:
URL:https://loverabaptist.org/event/sunday-school-306/
CATEGORIES:Regular Service
END:VEVENT
BEGIN:VEVENT
DTSTART;TZID=America/Chicago:20240207T190000
DTEND;TZID=America/Chicago:20240207T200000
DTSTAMP:20260419T140828
CREATED:20231110T120853Z
LAST-MODIFIED:20240207T180802Z
UID:9685-1707332400-1707336000@loverabaptist.org
SUMMARY:Worship Service
DESCRIPTION:
URL:https://loverabaptist.org/event/worship-service-560/
CATEGORIES:Regular Service
END:VEVENT
BEGIN:VEVENT
DTSTART;TZID=America/Chicago:20240204T110000
DTEND;TZID=America/Chicago:20240204T120000
DTSTAMP:20260419T140828
CREATED:20231106T120746Z
LAST-MODIFIED:20240204T173943Z
UID:9678-1707044400-1707048000@loverabaptist.org
SUMMARY:Worship Service
DESCRIPTION:
URL:https://loverabaptist.org/event/worship-service-559/
CATEGORIES:Regular Service
END:VEVENT
BEGIN:VEVENT
DTSTART;TZID=America/Chicago:20240204T094500
DTEND;TZID=America/Chicago:20240204T104500
DTSTAMP:20260419T140828
CREATED:20231106T120746Z
LAST-MODIFIED:20240203T173815Z
UID:9677-1707039900-1707043500@loverabaptist.org
SUMMARY:Sunday School
DESCRIPTION:
URL:https://loverabaptist.org/event/sunday-school-305/
CATEGORIES:Regular Service
END:VEVENT
BEGIN:VEVENT
DTSTART;TZID=America/Chicago:20240131T190000
DTEND;TZID=America/Chicago:20240131T200000
DTSTAMP:20260419T140828
CREATED:20231105T060942Z
LAST-MODIFIED:20240131T173810Z
UID:9635-1706727600-1706731200@loverabaptist.org
SUMMARY:Worship Service
DESCRIPTION:
URL:https://loverabaptist.org/event/worship-service-558/
CATEGORIES:Regular Service
END:VEVENT
BEGIN:VEVENT
DTSTART;TZID=America/Chicago:20240128T110000
DTEND;TZID=America/Chicago:20240128T120000
DTSTAMP:20260419T140828
CREATED:20231105T060941Z
LAST-MODIFIED:20240128T174006Z
UID:9634-1706439600-1706443200@loverabaptist.org
SUMMARY:Worship Service
DESCRIPTION:
URL:https://loverabaptist.org/event/worship-service-557/
CATEGORIES:Regular Service
END:VEVENT
BEGIN:VEVENT
DTSTART;TZID=America/Chicago:20240128T094500
DTEND;TZID=America/Chicago:20240128T104500
DTSTAMP:20260419T140828
CREATED:20231105T060941Z
LAST-MODIFIED:20240127T173810Z
UID:9633-1706435100-1706438700@loverabaptist.org
SUMMARY:Sunday School
DESCRIPTION:
URL:https://loverabaptist.org/event/sunday-school-304/
CATEGORIES:Regular Service
END:VEVENT
BEGIN:VEVENT
DTSTART;TZID=America/Chicago:20240124T190000
DTEND;TZID=America/Chicago:20240124T200000
DTSTAMP:20260419T140828
CREATED:20231105T060941Z
LAST-MODIFIED:20240124T172543Z
UID:9632-1706122800-1706126400@loverabaptist.org
SUMMARY:Worship Service
DESCRIPTION:
URL:https://loverabaptist.org/event/worship-service-556/
CATEGORIES:Regular Service
END:VEVENT
BEGIN:VEVENT
DTSTART;TZID=America/Chicago:20240121T110000
DTEND;TZID=America/Chicago:20240121T120000
DTSTAMP:20260419T140828
CREATED:20231105T060940Z
LAST-MODIFIED:20240121T170828Z
UID:9631-1705834800-1705838400@loverabaptist.org
SUMMARY:Worship Service
DESCRIPTION:
URL:https://loverabaptist.org/event/worship-service-555/
CATEGORIES:Regular Service
END:VEVENT
BEGIN:VEVENT
DTSTART;TZID=America/Chicago:20240121T094500
DTEND;TZID=America/Chicago:20240121T104500
DTSTAMP:20260419T140828
CREATED:20231105T060940Z
LAST-MODIFIED:20240120T165643Z
UID:9630-1705830300-1705833900@loverabaptist.org
SUMMARY:Sunday School
DESCRIPTION:
URL:https://loverabaptist.org/event/sunday-school-303/
CATEGORIES:Regular Service
END:VEVENT
BEGIN:VEVENT
DTSTART;TZID=America/Chicago:20240117T190000
DTEND;TZID=America/Chicago:20240117T200000
DTSTAMP:20260419T140828
CREATED:20231105T060940Z
LAST-MODIFIED:20240117T163804Z
UID:9629-1705518000-1705521600@loverabaptist.org
SUMMARY:Worship Service
DESCRIPTION:
URL:https://loverabaptist.org/event/worship-service-554/
CATEGORIES:Regular Service
END:VEVENT
BEGIN:VEVENT
DTSTART;TZID=America/Chicago:20240114T110000
DTEND;TZID=America/Chicago:20240114T120000
DTSTAMP:20260419T140828
CREATED:20231105T060939Z
LAST-MODIFIED:20240114T162343Z
UID:9628-1705230000-1705233600@loverabaptist.org
SUMMARY:Worship Service
DESCRIPTION:
URL:https://loverabaptist.org/event/worship-service-553/
CATEGORIES:Regular Service
END:VEVENT
BEGIN:VEVENT
DTSTART;TZID=America/Chicago:20240114T094500
DTEND;TZID=America/Chicago:20240114T104500
DTSTAMP:20260419T140828
CREATED:20231105T060939Z
LAST-MODIFIED:20240114T162343Z
UID:9627-1705225500-1705229100@loverabaptist.org
SUMMARY:Sunday School
DESCRIPTION:
URL:https://loverabaptist.org/event/sunday-school-302/
CATEGORIES:Regular Service
END:VEVENT
BEGIN:VEVENT
DTSTART;TZID=America/Chicago:20240110T190000
DTEND;TZID=America/Chicago:20240110T200000
DTSTAMP:20260419T140828
CREATED:20231105T060939Z
LAST-MODIFIED:20240110T160826Z
UID:9626-1704913200-1704916800@loverabaptist.org
SUMMARY:Worship Service
DESCRIPTION:
URL:https://loverabaptist.org/event/worship-service-552/
CATEGORIES:Regular Service
END:VEVENT
BEGIN:VEVENT
DTSTART;TZID=America/Chicago:20240107T110000
DTEND;TZID=America/Chicago:20240107T120000
DTSTAMP:20260419T140828
CREATED:20231105T060938Z
LAST-MODIFIED:20240107T161035Z
UID:9625-1704625200-1704628800@loverabaptist.org
SUMMARY:Worship Service
DESCRIPTION:
URL:https://loverabaptist.org/event/worship-service-551/
CATEGORIES:Regular Service
END:VEVENT
BEGIN:VEVENT
DTSTART;TZID=America/Chicago:20240107T094500
DTEND;TZID=America/Chicago:20240107T104500
DTSTAMP:20260419T140828
CREATED:20231105T060938Z
LAST-MODIFIED:20240107T161035Z
UID:9624-1704620700-1704624300@loverabaptist.org
SUMMARY:Sunday School
DESCRIPTION:
URL:https://loverabaptist.org/event/sunday-school-301/
CATEGORIES:Regular Service
END:VEVENT
BEGIN:VEVENT
DTSTART;TZID=America/Chicago:20240103T190000
DTEND;TZID=America/Chicago:20240103T200000
DTSTAMP:20260419T140828
CREATED:20231105T060938Z
LAST-MODIFIED:20240103T155436Z
UID:9623-1704308400-1704312000@loverabaptist.org
SUMMARY:Worship Service
DESCRIPTION:
URL:https://loverabaptist.org/event/worship-service-550/
CATEGORIES:Regular Service
END:VEVENT
BEGIN:VEVENT
DTSTART;TZID=America/Chicago:20231231T110000
DTEND;TZID=America/Chicago:20231231T120000
DTSTAMP:20260419T140828
CREATED:20231105T060937Z
LAST-MODIFIED:20231231T153840Z
UID:9622-1704020400-1704024000@loverabaptist.org
SUMMARY:Worship Service
DESCRIPTION:
URL:https://loverabaptist.org/event/worship-service-549/
CATEGORIES:Regular Service
END:VEVENT
BEGIN:VEVENT
DTSTART;TZID=America/Chicago:20231231T094500
DTEND;TZID=America/Chicago:20231231T104500
DTSTAMP:20260419T140828
CREATED:20231105T060937Z
LAST-MODIFIED:20231231T153840Z
UID:9621-1704015900-1704019500@loverabaptist.org
SUMMARY:Sunday School
DESCRIPTION:
URL:https://loverabaptist.org/event/sunday-school-300/
CATEGORIES:Regular Service
END:VEVENT
BEGIN:VEVENT
DTSTART;TZID=America/Chicago:20231227T190000
DTEND;TZID=America/Chicago:20231227T200000
DTSTAMP:20260419T140828
CREATED:20231105T060937Z
LAST-MODIFIED:20231227T151008Z
UID:9620-1703703600-1703707200@loverabaptist.org
SUMMARY:Worship Service
DESCRIPTION:
URL:https://loverabaptist.org/event/worship-service-539/
CATEGORIES:Regular Service
END:VEVENT
BEGIN:VEVENT
DTSTART;TZID=America/Chicago:20231224T110000
DTEND;TZID=America/Chicago:20231224T120000
DTSTAMP:20260419T140828
CREATED:20231105T060936Z
LAST-MODIFIED:20231224T150951Z
UID:9619-1703415600-1703419200@loverabaptist.org
SUMMARY:Worship Service
DESCRIPTION:
URL:https://loverabaptist.org/event/worship-service-538/
CATEGORIES:Regular Service
END:VEVENT
BEGIN:VEVENT
DTSTART;TZID=America/Chicago:20231224T094500
DTEND;TZID=America/Chicago:20231224T104500
DTSTAMP:20260419T140828
CREATED:20231105T060936Z
LAST-MODIFIED:20231224T150951Z
UID:9618-1703411100-1703414700@loverabaptist.org
SUMMARY:Sunday School
DESCRIPTION:
URL:https://loverabaptist.org/event/sunday-school-295/
CATEGORIES:Regular Service
END:VEVENT
BEGIN:VEVENT
DTSTART;TZID=America/Chicago:20231220T190000
DTEND;TZID=America/Chicago:20231220T200000
DTSTAMP:20260419T140828
CREATED:20231105T060936Z
LAST-MODIFIED:20231220T144011Z
UID:9617-1703098800-1703102400@loverabaptist.org
SUMMARY:Worship Service
DESCRIPTION:
URL:https://loverabaptist.org/event/worship-service-537/
CATEGORIES:Regular Service
END:VEVENT
BEGIN:VEVENT
DTSTART;TZID=America/Chicago:20231217T110000
DTEND;TZID=America/Chicago:20231217T120000
DTSTAMP:20260419T140828
CREATED:20231105T060935Z
LAST-MODIFIED:20231217T142451Z
UID:9616-1702810800-1702814400@loverabaptist.org
SUMMARY:Worship Service
DESCRIPTION:
URL:https://loverabaptist.org/event/worship-service-536/
CATEGORIES:Regular Service
END:VEVENT
BEGIN:VEVENT
DTSTART;TZID=America/Chicago:20231217T094500
DTEND;TZID=America/Chicago:20231217T104500
DTSTAMP:20260419T140828
CREATED:20231105T060935Z
LAST-MODIFIED:20231217T142451Z
UID:9615-1702806300-1702809900@loverabaptist.org
SUMMARY:Sunday School
DESCRIPTION:
URL:https://loverabaptist.org/event/sunday-school-294/
CATEGORIES:Regular Service
END:VEVENT
BEGIN:VEVENT
DTSTART;TZID=America/Chicago:20231213T190000
DTEND;TZID=America/Chicago:20231213T200000
DTSTAMP:20260419T140828
CREATED:20231105T060934Z
LAST-MODIFIED:20231213T140826Z
UID:9614-1702494000-1702497600@loverabaptist.org
SUMMARY:Worship Service
DESCRIPTION:
URL:https://loverabaptist.org/event/worship-service-535/
CATEGORIES:Regular Service
END:VEVENT
BEGIN:VEVENT
DTSTART;TZID=America/Chicago:20231210T110000
DTEND;TZID=America/Chicago:20231210T120000
DTSTAMP:20260419T140828
CREATED:20231105T060934Z
LAST-MODIFIED:20231210T135303Z
UID:9613-1702206000-1702209600@loverabaptist.org
SUMMARY:Worship Service
DESCRIPTION:
URL:https://loverabaptist.org/event/worship-service-534/
CATEGORIES:Regular Service
END:VEVENT
END:VCALENDAR