BEGIN:VCALENDAR
VERSION:2.0
PRODID:-//Lovera Baptist Church San Antonio - ECPv6.15.20//NONSGML v1.0//EN
CALSCALE:GREGORIAN
METHOD:PUBLISH
X-ORIGINAL-URL:https://loverabaptist.org
X-WR-CALDESC:Events for Lovera Baptist Church San Antonio
REFRESH-INTERVAL;VALUE=DURATION:PT1H
X-Robots-Tag:noindex
X-PUBLISHED-TTL:PT1H
BEGIN:VTIMEZONE
TZID:America/Chicago
BEGIN:DAYLIGHT
TZOFFSETFROM:-0600
TZOFFSETTO:-0500
TZNAME:CDT
DTSTART:20200308T080000
END:DAYLIGHT
BEGIN:STANDARD
TZOFFSETFROM:-0500
TZOFFSETTO:-0600
TZNAME:CST
DTSTART:20201101T070000
END:STANDARD
BEGIN:DAYLIGHT
TZOFFSETFROM:-0600
TZOFFSETTO:-0500
TZNAME:CDT
DTSTART:20210314T080000
END:DAYLIGHT
BEGIN:STANDARD
TZOFFSETFROM:-0500
TZOFFSETTO:-0600
TZNAME:CST
DTSTART:20211107T070000
END:STANDARD
BEGIN:DAYLIGHT
TZOFFSETFROM:-0600
TZOFFSETTO:-0500
TZNAME:CDT
DTSTART:20220313T080000
END:DAYLIGHT
BEGIN:STANDARD
TZOFFSETFROM:-0500
TZOFFSETTO:-0600
TZNAME:CST
DTSTART:20221106T070000
END:STANDARD
BEGIN:DAYLIGHT
TZOFFSETFROM:-0600
TZOFFSETTO:-0500
TZNAME:CDT
DTSTART:20230312T080000
END:DAYLIGHT
BEGIN:STANDARD
TZOFFSETFROM:-0500
TZOFFSETTO:-0600
TZNAME:CST
DTSTART:20231105T070000
END:STANDARD
END:VTIMEZONE
BEGIN:VEVENT
DTSTART;TZID=America/Chicago:20220109T094500
DTEND;TZID=America/Chicago:20220109T104500
DTSTAMP:20260422T024135
CREATED:20211107T061903Z
LAST-MODIFIED:20220108T194414Z
UID:6778-1641721500-1641725100@loverabaptist.org
SUMMARY:Sunday School
DESCRIPTION:
URL:https://loverabaptist.org/event/sunday-school-196/
CATEGORIES:Regular Service
END:VEVENT
BEGIN:VEVENT
DTSTART;TZID=America/Chicago:20220105T190000
DTEND;TZID=America/Chicago:20220105T200000
DTSTAMP:20260422T024135
CREATED:20211107T061903Z
LAST-MODIFIED:20220105T191055Z
UID:6777-1641409200-1641412800@loverabaptist.org
SUMMARY:Worship Service
DESCRIPTION:
URL:https://loverabaptist.org/event/worship-service-338/
CATEGORIES:Regular Service
END:VEVENT
BEGIN:VEVENT
DTSTART;TZID=America/Chicago:20220102T110000
DTEND;TZID=America/Chicago:20220102T120000
DTSTAMP:20260422T024135
CREATED:20211004T205608Z
LAST-MODIFIED:20220101T183016Z
UID:6770-1641121200-1641124800@loverabaptist.org
SUMMARY:Worship Service
DESCRIPTION:
URL:https://loverabaptist.org/event/worship-service-337/
CATEGORIES:Regular Service
END:VEVENT
BEGIN:VEVENT
DTSTART;TZID=America/Chicago:20220102T094500
DTEND;TZID=America/Chicago:20220102T104500
DTSTAMP:20260422T024135
CREATED:20211004T205608Z
LAST-MODIFIED:20220101T183016Z
UID:6769-1641116700-1641120300@loverabaptist.org
SUMMARY:Sunday School
DESCRIPTION:
URL:https://loverabaptist.org/event/sunday-school-195/
CATEGORIES:Regular Service
END:VEVENT
BEGIN:VEVENT
DTSTART;TZID=America/Chicago:20211229T190000
DTEND;TZID=America/Chicago:20211229T200000
DTSTAMP:20260422T024135
CREATED:20211001T204250Z
LAST-MODIFIED:20211229T175016Z
UID:6764-1640804400-1640808000@loverabaptist.org
SUMMARY:Worship Service
DESCRIPTION:
URL:https://loverabaptist.org/event/worship-service-336/
CATEGORIES:Regular Service
END:VEVENT
BEGIN:VEVENT
DTSTART;TZID=America/Chicago:20211226T110000
DTEND;TZID=America/Chicago:20211226T120000
DTSTAMP:20260422T024135
CREATED:20210927T195523Z
LAST-MODIFIED:20211226T171712Z
UID:6756-1640516400-1640520000@loverabaptist.org
SUMMARY:Worship Service
DESCRIPTION:
URL:https://loverabaptist.org/event/worship-service-335/
CATEGORIES:Regular Service
END:VEVENT
BEGIN:VEVENT
DTSTART;TZID=America/Chicago:20211226T094500
DTEND;TZID=America/Chicago:20211226T104500
DTSTAMP:20260422T024135
CREATED:20210927T195523Z
LAST-MODIFIED:20211225T170016Z
UID:6755-1640511900-1640515500@loverabaptist.org
SUMMARY:Sunday School
DESCRIPTION:
URL:https://loverabaptist.org/event/sunday-school-194/
CATEGORIES:Regular Service
END:VEVENT
BEGIN:VEVENT
DTSTART;TZID=America/Chicago:20211222T190000
DTEND;TZID=America/Chicago:20211222T200000
DTSTAMP:20260422T024135
CREATED:20210924T195543Z
LAST-MODIFIED:20211222T161515Z
UID:6750-1640199600-1640203200@loverabaptist.org
SUMMARY:Worship Service
DESCRIPTION:
URL:https://loverabaptist.org/event/worship-service-334/
CATEGORIES:Regular Service
END:VEVENT
BEGIN:VEVENT
DTSTART;TZID=America/Chicago:20211219T110000
DTEND;TZID=America/Chicago:20211219T120000
DTSTAMP:20260422T024135
CREATED:20210920T192328Z
LAST-MODIFIED:20211219T175944Z
UID:6743-1639911600-1639915200@loverabaptist.org
SUMMARY:Worship Service
DESCRIPTION:
URL:https://loverabaptist.org/event/worship-service-333/
CATEGORIES:Regular Service
END:VEVENT
BEGIN:VEVENT
DTSTART;TZID=America/Chicago:20211219T094500
DTEND;TZID=America/Chicago:20211219T104500
DTSTAMP:20260422T024135
CREATED:20210920T192328Z
LAST-MODIFIED:20211219T164207Z
UID:6742-1639907100-1639910700@loverabaptist.org
SUMMARY:Sunday School
DESCRIPTION:
URL:https://loverabaptist.org/event/sunday-school-193/
CATEGORIES:Regular Service
END:VEVENT
BEGIN:VEVENT
DTSTART;TZID=America/Chicago:20211215T190000
DTEND;TZID=America/Chicago:20211215T200000
DTSTAMP:20260422T024135
CREATED:20210917T192309Z
LAST-MODIFIED:20211216T015524Z
UID:6736-1639594800-1639598400@loverabaptist.org
SUMMARY:Worship Service
DESCRIPTION:
URL:https://loverabaptist.org/event/worship-service-332/
CATEGORIES:Regular Service
END:VEVENT
BEGIN:VEVENT
DTSTART;TZID=America/Chicago:20211212T110000
DTEND;TZID=America/Chicago:20211212T120000
DTSTAMP:20260422T024135
CREATED:20210913T192522Z
LAST-MODIFIED:20211212T180018Z
UID:6729-1639306800-1639310400@loverabaptist.org
SUMMARY:Worship Service
DESCRIPTION:
URL:https://loverabaptist.org/event/worship-service-331/
CATEGORIES:Regular Service
END:VEVENT
BEGIN:VEVENT
DTSTART;TZID=America/Chicago:20211212T094500
DTEND;TZID=America/Chicago:20211212T104500
DTSTAMP:20260422T024135
CREATED:20210913T192522Z
LAST-MODIFIED:20211212T164517Z
UID:6728-1639302300-1639305900@loverabaptist.org
SUMMARY:Sunday School
DESCRIPTION:
URL:https://loverabaptist.org/event/sunday-school-192/
CATEGORIES:Regular Service
END:VEVENT
BEGIN:VEVENT
DTSTART;TZID=America/Chicago:20211208T190000
DTEND;TZID=America/Chicago:20211208T200000
DTSTAMP:20260422T024135
CREATED:20210910T185316Z
LAST-MODIFIED:20211209T015432Z
UID:6723-1638990000-1638993600@loverabaptist.org
SUMMARY:Worship Service
DESCRIPTION:
URL:https://loverabaptist.org/event/worship-service-330/
CATEGORIES:Regular Service
END:VEVENT
BEGIN:VEVENT
DTSTART;TZID=America/Chicago:20211205T110000
DTEND;TZID=America/Chicago:20211205T120000
DTSTAMP:20260422T024135
CREATED:20210906T181050Z
LAST-MODIFIED:20211205T134516Z
UID:6716-1638702000-1638705600@loverabaptist.org
SUMMARY:Worship Service
DESCRIPTION:
URL:https://loverabaptist.org/event/worship-service-329/
CATEGORIES:Regular Service
END:VEVENT
BEGIN:VEVENT
DTSTART;TZID=America/Chicago:20211205T094500
DTEND;TZID=America/Chicago:20211205T104500
DTSTAMP:20260422T024135
CREATED:20210906T181049Z
LAST-MODIFIED:20211205T134515Z
UID:6715-1638697500-1638701100@loverabaptist.org
SUMMARY:Sunday School
DESCRIPTION:
URL:https://loverabaptist.org/event/sunday-school-191/
CATEGORIES:Regular Service
END:VEVENT
BEGIN:VEVENT
DTSTART;TZID=America/Chicago:20211201T190000
DTEND;TZID=America/Chicago:20211201T200000
DTSTAMP:20260422T024135
CREATED:20210903T174522Z
LAST-MODIFIED:20211201T124138Z
UID:6710-1638385200-1638388800@loverabaptist.org
SUMMARY:Worship Service
DESCRIPTION:
URL:https://loverabaptist.org/event/worship-service-328/
CATEGORIES:Regular Service
END:VEVENT
BEGIN:VEVENT
DTSTART;TZID=America/Chicago:20211128T110000
DTEND;TZID=America/Chicago:20211128T120000
DTSTAMP:20260422T024135
CREATED:20210830T174024Z
LAST-MODIFIED:20211128T122522Z
UID:6702-1638097200-1638100800@loverabaptist.org
SUMMARY:Worship Service
DESCRIPTION:
URL:https://loverabaptist.org/event/worship-service-327/
CATEGORIES:Regular Service
END:VEVENT
BEGIN:VEVENT
DTSTART;TZID=America/Chicago:20211128T094500
DTEND;TZID=America/Chicago:20211128T104500
DTSTAMP:20260422T024135
CREATED:20210830T174023Z
LAST-MODIFIED:20211128T122522Z
UID:6701-1638092700-1638096300@loverabaptist.org
SUMMARY:Sunday School
DESCRIPTION:
URL:https://loverabaptist.org/event/sunday-school-190/
CATEGORIES:Regular Service
END:VEVENT
BEGIN:VEVENT
DTSTART;TZID=America/Chicago:20211124T190000
DTEND;TZID=America/Chicago:20211124T200000
DTSTAMP:20260422T024135
CREATED:20210827T174022Z
LAST-MODIFIED:20211123T132642Z
UID:6696-1637780400-1637784000@loverabaptist.org
SUMMARY:Worship Service
DESCRIPTION:
URL:https://loverabaptist.org/event/worship-service-326/
CATEGORIES:Regular Service
END:VEVENT
BEGIN:VEVENT
DTSTART;TZID=America/Chicago:20211121T110000
DTEND;TZID=America/Chicago:20211121T120000
DTSTAMP:20260422T024135
CREATED:20210823T170022Z
LAST-MODIFIED:20211121T132515Z
UID:6689-1637492400-1637496000@loverabaptist.org
SUMMARY:Worship Service
DESCRIPTION:
URL:https://loverabaptist.org/event/worship-service-325/
CATEGORIES:Regular Service
END:VEVENT
BEGIN:VEVENT
DTSTART;TZID=America/Chicago:20211121T094500
DTEND;TZID=America/Chicago:20211121T104500
DTSTAMP:20260422T024135
CREATED:20210823T170022Z
LAST-MODIFIED:20211121T132515Z
UID:6688-1637487900-1637491500@loverabaptist.org
SUMMARY:Sunday School
DESCRIPTION:
URL:https://loverabaptist.org/event/sunday-school-189/
CATEGORIES:Regular Service
END:VEVENT
BEGIN:VEVENT
DTSTART;TZID=America/Chicago:20211117T190000
DTEND;TZID=America/Chicago:20211117T200000
DTSTAMP:20260422T024135
CREATED:20210820T162521Z
LAST-MODIFIED:20211117T131047Z
UID:6683-1637175600-1637179200@loverabaptist.org
SUMMARY:Worship Service
DESCRIPTION:
URL:https://loverabaptist.org/event/worship-service-324/
CATEGORIES:Regular Service
END:VEVENT
BEGIN:VEVENT
DTSTART;TZID=America/Chicago:20211114T110000
DTEND;TZID=America/Chicago:20211114T120000
DTSTAMP:20260422T024135
CREATED:20210816T160908Z
LAST-MODIFIED:20211114T125850Z
UID:6676-1636887600-1636891200@loverabaptist.org
SUMMARY:Worship Service
DESCRIPTION:
URL:https://loverabaptist.org/event/worship-service-323/
CATEGORIES:Regular Service
END:VEVENT
BEGIN:VEVENT
DTSTART;TZID=America/Chicago:20211114T094500
DTEND;TZID=America/Chicago:20211114T104500
DTSTAMP:20260422T024135
CREATED:20210816T160907Z
LAST-MODIFIED:20211114T125850Z
UID:6675-1636883100-1636886700@loverabaptist.org
SUMMARY:Sunday School
DESCRIPTION:
URL:https://loverabaptist.org/event/sunday-school-188/
CATEGORIES:Regular Service
END:VEVENT
BEGIN:VEVENT
DTSTART;TZID=America/Chicago:20211110T190000
DTEND;TZID=America/Chicago:20211110T200000
DTSTAMP:20260422T024135
CREATED:20210813T155520Z
LAST-MODIFIED:20211110T121515Z
UID:6670-1636570800-1636574400@loverabaptist.org
SUMMARY:Worship Service
DESCRIPTION:
URL:https://loverabaptist.org/event/worship-service-322/
CATEGORIES:Regular Service
END:VEVENT
BEGIN:VEVENT
DTSTART;TZID=America/Chicago:20211107T110000
DTEND;TZID=America/Chicago:20211107T120000
DTSTAMP:20260422T024135
CREATED:20210809T153036Z
LAST-MODIFIED:20211107T063652Z
UID:6663-1636282800-1636286400@loverabaptist.org
SUMMARY:Worship Service
DESCRIPTION:
URL:https://loverabaptist.org/event/worship-service-321/
CATEGORIES:Regular Service
END:VEVENT
BEGIN:VEVENT
DTSTART;TZID=America/Chicago:20211107T094500
DTEND;TZID=America/Chicago:20211107T104500
DTSTAMP:20260422T024135
CREATED:20210809T153036Z
LAST-MODIFIED:20211107T063652Z
UID:6662-1636278300-1636281900@loverabaptist.org
SUMMARY:Sunday School
DESCRIPTION:
URL:https://loverabaptist.org/event/sunday-school-187/
CATEGORIES:Regular Service
END:VEVENT
BEGIN:VEVENT
DTSTART;TZID=America/Chicago:20211103T190000
DTEND;TZID=America/Chicago:20211103T200000
DTSTAMP:20260422T024135
CREATED:20210806T151226Z
LAST-MODIFIED:20211005T210025Z
UID:6657-1635966000-1635969600@loverabaptist.org
SUMMARY:Worship Service
DESCRIPTION:
URL:https://loverabaptist.org/event/worship-service-320/
CATEGORIES:Regular Service
END:VEVENT
BEGIN:VEVENT
DTSTART;TZID=America/Chicago:20211031T110000
DTEND;TZID=America/Chicago:20211031T120000
DTSTAMP:20260422T024135
CREATED:20210802T145721Z
LAST-MODIFIED:20211005T210025Z
UID:6650-1635678000-1635681600@loverabaptist.org
SUMMARY:Worship Service
DESCRIPTION:
URL:https://loverabaptist.org/event/worship-service-319/
CATEGORIES:Regular Service
END:VEVENT
END:VCALENDAR