BEGIN:VCALENDAR
VERSION:2.0
PRODID:-//Lovera Baptist Church San Antonio - ECPv6.15.20//NONSGML v1.0//EN
CALSCALE:GREGORIAN
METHOD:PUBLISH
X-WR-CALNAME:Lovera Baptist Church San Antonio
X-ORIGINAL-URL:https://loverabaptist.org
X-WR-CALDESC:Events for Lovera Baptist Church San Antonio
REFRESH-INTERVAL;VALUE=DURATION:PT1H
X-Robots-Tag:noindex
X-PUBLISHED-TTL:PT1H
BEGIN:VTIMEZONE
TZID:America/Chicago
BEGIN:DAYLIGHT
TZOFFSETFROM:-0600
TZOFFSETTO:-0500
TZNAME:CDT
DTSTART:20210314T080000
END:DAYLIGHT
BEGIN:STANDARD
TZOFFSETFROM:-0500
TZOFFSETTO:-0600
TZNAME:CST
DTSTART:20211107T070000
END:STANDARD
BEGIN:DAYLIGHT
TZOFFSETFROM:-0600
TZOFFSETTO:-0500
TZNAME:CDT
DTSTART:20220313T080000
END:DAYLIGHT
BEGIN:STANDARD
TZOFFSETFROM:-0500
TZOFFSETTO:-0600
TZNAME:CST
DTSTART:20221106T070000
END:STANDARD
BEGIN:DAYLIGHT
TZOFFSETFROM:-0600
TZOFFSETTO:-0500
TZNAME:CDT
DTSTART:20230312T080000
END:DAYLIGHT
BEGIN:STANDARD
TZOFFSETFROM:-0500
TZOFFSETTO:-0600
TZNAME:CST
DTSTART:20231105T070000
END:STANDARD
END:VTIMEZONE
BEGIN:VEVENT
DTSTART;TZID=America/Chicago:20220320T094500
DTEND;TZID=America/Chicago:20220320T104500
DTSTAMP:20260421T221505
CREATED:20211220T001140Z
LAST-MODIFIED:20220319T190818Z
UID:7911-1647769500-1647773100@loverabaptist.org
SUMMARY:Sunday School
DESCRIPTION:
URL:https://loverabaptist.org/event/sunday-school-206/
CATEGORIES:Regular Service
END:VEVENT
BEGIN:VEVENT
DTSTART;TZID=America/Chicago:20220316T190000
DTEND;TZID=America/Chicago:20220316T200000
DTSTAMP:20260421T221505
CREATED:20211217T001029Z
LAST-MODIFIED:20220316T182515Z
UID:7637-1647457200-1647460800@loverabaptist.org
SUMMARY:Worship Service
DESCRIPTION:
URL:https://loverabaptist.org/event/worship-service-358/
CATEGORIES:Regular Service
END:VEVENT
BEGIN:VEVENT
DTSTART;TZID=America/Chicago:20220313T110000
DTEND;TZID=America/Chicago:20220313T120000
DTSTAMP:20260421T221505
CREATED:20211213T001554Z
LAST-MODIFIED:20220312T180226Z
UID:7268-1647169200-1647172800@loverabaptist.org
SUMMARY:Worship Service
DESCRIPTION:
URL:https://loverabaptist.org/event/worship-service-357/
CATEGORIES:Regular Service
END:VEVENT
BEGIN:VEVENT
DTSTART;TZID=America/Chicago:20220313T094500
DTEND;TZID=America/Chicago:20220313T104500
DTSTAMP:20260421T221505
CREATED:20211213T001554Z
LAST-MODIFIED:20220312T180225Z
UID:7267-1647164700-1647168300@loverabaptist.org
SUMMARY:Sunday School
DESCRIPTION:
URL:https://loverabaptist.org/event/sunday-school-205/
CATEGORIES:Regular Service
END:VEVENT
BEGIN:VEVENT
DTSTART;TZID=America/Chicago:20220309T190000
DTEND;TZID=America/Chicago:20220309T200000
DTSTAMP:20260421T221505
CREATED:20211210T001113Z
LAST-MODIFIED:20220309T171342Z
UID:6995-1646852400-1646856000@loverabaptist.org
SUMMARY:Worship Service
DESCRIPTION:
URL:https://loverabaptist.org/event/worship-service-356/
CATEGORIES:Regular Service
END:VEVENT
BEGIN:VEVENT
DTSTART;TZID=America/Chicago:20220306T110000
DTEND;TZID=America/Chicago:20220306T120000
DTSTAMP:20260421T221505
CREATED:20211206T140033Z
LAST-MODIFIED:20220306T164711Z
UID:6859-1646564400-1646568000@loverabaptist.org
SUMMARY:Worship Service
DESCRIPTION:
URL:https://loverabaptist.org/event/worship-service-355/
CATEGORIES:Regular Service
END:VEVENT
BEGIN:VEVENT
DTSTART;TZID=America/Chicago:20220306T094500
DTEND;TZID=America/Chicago:20220306T104500
DTSTAMP:20260421T221505
CREATED:20211206T140032Z
LAST-MODIFIED:20220306T164710Z
UID:6858-1646559900-1646563500@loverabaptist.org
SUMMARY:Sunday School
DESCRIPTION:
URL:https://loverabaptist.org/event/sunday-school-204/
CATEGORIES:Regular Service
END:VEVENT
BEGIN:VEVENT
DTSTART;TZID=America/Chicago:20220302T190000
DTEND;TZID=America/Chicago:20220302T200000
DTSTAMP:20260421T221505
CREATED:20211203T131521Z
LAST-MODIFIED:20220302T155820Z
UID:6853-1646247600-1646251200@loverabaptist.org
SUMMARY:Worship Service
DESCRIPTION:
URL:https://loverabaptist.org/event/worship-service-354/
CATEGORIES:Regular Service
END:VEVENT
BEGIN:VEVENT
DTSTART;TZID=America/Chicago:20220227T110000
DTEND;TZID=America/Chicago:20220227T120000
DTSTAMP:20260421T221505
CREATED:20211129T123022Z
LAST-MODIFIED:20220227T153015Z
UID:6845-1645959600-1645963200@loverabaptist.org
SUMMARY:Worship Service
DESCRIPTION:
URL:https://loverabaptist.org/event/worship-service-353/
CATEGORIES:Regular Service
END:VEVENT
BEGIN:VEVENT
DTSTART;TZID=America/Chicago:20220227T094500
DTEND;TZID=America/Chicago:20220227T104500
DTSTAMP:20260421T221505
CREATED:20211129T123022Z
LAST-MODIFIED:20220227T153015Z
UID:6844-1645955100-1645958700@loverabaptist.org
SUMMARY:Sunday School
DESCRIPTION:
URL:https://loverabaptist.org/event/sunday-school-203/
CATEGORIES:Regular Service
END:VEVENT
BEGIN:VEVENT
DTSTART;TZID=America/Chicago:20220223T190000
DTEND;TZID=America/Chicago:20220223T200000
DTSTAMP:20260421T221505
CREATED:20211126T121150Z
LAST-MODIFIED:20220223T144116Z
UID:6839-1645642800-1645646400@loverabaptist.org
SUMMARY:Worship Service
DESCRIPTION:
URL:https://loverabaptist.org/event/worship-service-352/
CATEGORIES:Regular Service
END:VEVENT
BEGIN:VEVENT
DTSTART;TZID=America/Chicago:20220220T110000
DTEND;TZID=America/Chicago:20220220T120000
DTSTAMP:20260421T221505
CREATED:20211122T132521Z
LAST-MODIFIED:20220220T142351Z
UID:6833-1645354800-1645358400@loverabaptist.org
SUMMARY:Worship Service
DESCRIPTION:
URL:https://loverabaptist.org/event/worship-service-351/
CATEGORIES:Regular Service
END:VEVENT
BEGIN:VEVENT
DTSTART;TZID=America/Chicago:20220220T094500
DTEND;TZID=America/Chicago:20220220T104500
DTSTAMP:20260421T221505
CREATED:20211122T132521Z
LAST-MODIFIED:20220220T142350Z
UID:6832-1645350300-1645353900@loverabaptist.org
SUMMARY:Sunday School
DESCRIPTION:
URL:https://loverabaptist.org/event/sunday-school-202/
CATEGORIES:Regular Service
END:VEVENT
BEGIN:VEVENT
DTSTART;TZID=America/Chicago:20220216T190000
DTEND;TZID=America/Chicago:20220216T200000
DTSTAMP:20260421T221505
CREATED:20211119T131000Z
LAST-MODIFIED:20220216T134118Z
UID:6827-1645038000-1645041600@loverabaptist.org
SUMMARY:Worship Service
DESCRIPTION:
URL:https://loverabaptist.org/event/worship-service-350/
CATEGORIES:Regular Service
END:VEVENT
BEGIN:VEVENT
DTSTART;TZID=America/Chicago:20220213T110000
DTEND;TZID=America/Chicago:20220213T120000
DTSTAMP:20260421T221505
CREATED:20211115T131132Z
LAST-MODIFIED:20220213T132516Z
UID:6820-1644750000-1644753600@loverabaptist.org
SUMMARY:Worship Service
DESCRIPTION:
URL:https://loverabaptist.org/event/worship-service-349/
CATEGORIES:Regular Service
END:VEVENT
BEGIN:VEVENT
DTSTART;TZID=America/Chicago:20220213T094500
DTEND;TZID=America/Chicago:20220213T104500
DTSTAMP:20260421T221505
CREATED:20211115T131131Z
LAST-MODIFIED:20220213T132516Z
UID:6819-1644745500-1644749100@loverabaptist.org
SUMMARY:Sunday School
DESCRIPTION:
URL:https://loverabaptist.org/event/sunday-school-201/
CATEGORIES:Regular Service
END:VEVENT
BEGIN:VEVENT
DTSTART;TZID=America/Chicago:20220209T190000
DTEND;TZID=America/Chicago:20220209T200000
DTSTAMP:20260421T221505
CREATED:20211112T123020Z
LAST-MODIFIED:20220209T131016Z
UID:6814-1644433200-1644436800@loverabaptist.org
SUMMARY:Worship Service
DESCRIPTION:
URL:https://loverabaptist.org/event/worship-service-348/
CATEGORIES:Regular Service
END:VEVENT
BEGIN:VEVENT
DTSTART;TZID=America/Chicago:20220206T110000
DTEND;TZID=America/Chicago:20220206T120000
DTSTAMP:20260421T221505
CREATED:20211108T120013Z
LAST-MODIFIED:20220206T124516Z
UID:6806-1644145200-1644148800@loverabaptist.org
SUMMARY:Worship Service
DESCRIPTION:
URL:https://loverabaptist.org/event/worship-service-347/
CATEGORIES:Regular Service
END:VEVENT
BEGIN:VEVENT
DTSTART;TZID=America/Chicago:20220206T094500
DTEND;TZID=America/Chicago:20220206T104500
DTSTAMP:20260421T221505
CREATED:20211108T120013Z
LAST-MODIFIED:20220206T124516Z
UID:6805-1644140700-1644144300@loverabaptist.org
SUMMARY:Sunday School
DESCRIPTION:
URL:https://loverabaptist.org/event/sunday-school-200/
CATEGORIES:Regular Service
END:VEVENT
BEGIN:VEVENT
DTSTART;TZID=America/Chicago:20220202T190000
DTEND;TZID=America/Chicago:20220202T200000
DTSTAMP:20260421T221505
CREATED:20211107T061907Z
LAST-MODIFIED:20220203T000143Z
UID:6789-1643828400-1643832000@loverabaptist.org
SUMMARY:Worship Service
DESCRIPTION:
URL:https://loverabaptist.org/event/worship-service-346/
CATEGORIES:Regular Service
END:VEVENT
BEGIN:VEVENT
DTSTART;TZID=America/Chicago:20220130T110000
DTEND;TZID=America/Chicago:20220130T120000
DTSTAMP:20260421T221505
CREATED:20211107T061907Z
LAST-MODIFIED:20220129T233003Z
UID:6788-1643540400-1643544000@loverabaptist.org
SUMMARY:Worship Service
DESCRIPTION:
URL:https://loverabaptist.org/event/worship-service-345/
CATEGORIES:Regular Service
END:VEVENT
BEGIN:VEVENT
DTSTART;TZID=America/Chicago:20220130T094500
DTEND;TZID=America/Chicago:20220130T104500
DTSTAMP:20260421T221505
CREATED:20211107T061907Z
LAST-MODIFIED:20220129T233003Z
UID:6787-1643535900-1643539500@loverabaptist.org
SUMMARY:Sunday School
DESCRIPTION:
URL:https://loverabaptist.org/event/sunday-school-199/
CATEGORIES:Regular Service
END:VEVENT
BEGIN:VEVENT
DTSTART;TZID=America/Chicago:20220126T190000
DTEND;TZID=America/Chicago:20220126T200000
DTSTAMP:20260421T221505
CREATED:20211107T061906Z
LAST-MODIFIED:20220126T230016Z
UID:6786-1643223600-1643227200@loverabaptist.org
SUMMARY:Worship Service
DESCRIPTION:
URL:https://loverabaptist.org/event/worship-service-344/
CATEGORIES:Regular Service
END:VEVENT
BEGIN:VEVENT
DTSTART;TZID=America/Chicago:20220123T110000
DTEND;TZID=America/Chicago:20220123T120000
DTSTAMP:20260421T221505
CREATED:20211107T061906Z
LAST-MODIFIED:20220122T221515Z
UID:6785-1642935600-1642939200@loverabaptist.org
SUMMARY:Worship Service
DESCRIPTION:
URL:https://loverabaptist.org/event/worship-service-343/
CATEGORIES:Regular Service
END:VEVENT
BEGIN:VEVENT
DTSTART;TZID=America/Chicago:20220123T094500
DTEND;TZID=America/Chicago:20220123T104500
DTSTAMP:20260421T221505
CREATED:20211107T061906Z
LAST-MODIFIED:20220122T221515Z
UID:6784-1642931100-1642934700@loverabaptist.org
SUMMARY:Sunday School
DESCRIPTION:
URL:https://loverabaptist.org/event/sunday-school-198/
CATEGORIES:Regular Service
END:VEVENT
BEGIN:VEVENT
DTSTART;TZID=America/Chicago:20220119T190000
DTEND;TZID=America/Chicago:20220119T200000
DTSTAMP:20260421T221505
CREATED:20211107T061905Z
LAST-MODIFIED:20220119T215645Z
UID:6783-1642618800-1642622400@loverabaptist.org
SUMMARY:Worship Service
DESCRIPTION:
URL:https://loverabaptist.org/event/worship-service-342/
CATEGORIES:Regular Service
END:VEVENT
BEGIN:VEVENT
DTSTART;TZID=America/Chicago:20220116T110000
DTEND;TZID=America/Chicago:20220116T120000
DTSTAMP:20260421T221505
CREATED:20211107T061905Z
LAST-MODIFIED:20220115T211016Z
UID:6782-1642330800-1642334400@loverabaptist.org
SUMMARY:Worship Service
DESCRIPTION:
URL:https://loverabaptist.org/event/worship-service-341/
CATEGORIES:Regular Service
END:VEVENT
BEGIN:VEVENT
DTSTART;TZID=America/Chicago:20220116T094500
DTEND;TZID=America/Chicago:20220116T104500
DTSTAMP:20260421T221505
CREATED:20211107T061904Z
LAST-MODIFIED:20220115T211016Z
UID:6781-1642326300-1642329900@loverabaptist.org
SUMMARY:Sunday School
DESCRIPTION:
URL:https://loverabaptist.org/event/sunday-school-197/
CATEGORIES:Regular Service
END:VEVENT
BEGIN:VEVENT
DTSTART;TZID=America/Chicago:20220112T190000
DTEND;TZID=America/Chicago:20220112T200000
DTSTAMP:20260421T221505
CREATED:20211107T061904Z
LAST-MODIFIED:20220112T203749Z
UID:6780-1642014000-1642017600@loverabaptist.org
SUMMARY:Worship Service
DESCRIPTION:
URL:https://loverabaptist.org/event/worship-service-340/
CATEGORIES:Regular Service
END:VEVENT
BEGIN:VEVENT
DTSTART;TZID=America/Chicago:20220109T110000
DTEND;TZID=America/Chicago:20220109T120000
DTSTAMP:20260421T221505
CREATED:20211107T061904Z
LAST-MODIFIED:20220108T194414Z
UID:6779-1641726000-1641729600@loverabaptist.org
SUMMARY:Worship Service
DESCRIPTION:
URL:https://loverabaptist.org/event/worship-service-339/
CATEGORIES:Regular Service
END:VEVENT
END:VCALENDAR