BEGIN:VCALENDAR
VERSION:2.0
PRODID:-//Lovera Baptist Church San Antonio - ECPv6.15.20//NONSGML v1.0//EN
CALSCALE:GREGORIAN
METHOD:PUBLISH
X-WR-CALNAME:Lovera Baptist Church San Antonio
X-ORIGINAL-URL:https://loverabaptist.org
X-WR-CALDESC:Events for Lovera Baptist Church San Antonio
REFRESH-INTERVAL;VALUE=DURATION:PT1H
X-Robots-Tag:noindex
X-PUBLISHED-TTL:PT1H
BEGIN:VTIMEZONE
TZID:America/Chicago
BEGIN:DAYLIGHT
TZOFFSETFROM:-0600
TZOFFSETTO:-0500
TZNAME:CDT
DTSTART:20210314T080000
END:DAYLIGHT
BEGIN:STANDARD
TZOFFSETFROM:-0500
TZOFFSETTO:-0600
TZNAME:CST
DTSTART:20211107T070000
END:STANDARD
BEGIN:DAYLIGHT
TZOFFSETFROM:-0600
TZOFFSETTO:-0500
TZNAME:CDT
DTSTART:20220313T080000
END:DAYLIGHT
BEGIN:STANDARD
TZOFFSETFROM:-0500
TZOFFSETTO:-0600
TZNAME:CST
DTSTART:20221106T070000
END:STANDARD
BEGIN:DAYLIGHT
TZOFFSETFROM:-0600
TZOFFSETTO:-0500
TZNAME:CDT
DTSTART:20230312T080000
END:DAYLIGHT
BEGIN:STANDARD
TZOFFSETFROM:-0500
TZOFFSETTO:-0600
TZNAME:CST
DTSTART:20231105T070000
END:STANDARD
END:VTIMEZONE
BEGIN:VEVENT
DTSTART;TZID=America/Chicago:20220504T190000
DTEND;TZID=America/Chicago:20220504T200000
DTSTAMP:20260421T191835
CREATED:20220204T121145Z
LAST-MODIFIED:20220504T152253Z
UID:8235-1651690800-1651694400@loverabaptist.org
SUMMARY:Worship Service
DESCRIPTION:
URL:https://loverabaptist.org/event/worship-service-372/
CATEGORIES:Regular Service
END:VEVENT
BEGIN:VEVENT
DTSTART;TZID=America/Chicago:20220501T110000
DTEND;TZID=America/Chicago:20220501T120000
DTSTAMP:20260421T191835
CREATED:20220131T233817Z
LAST-MODIFIED:20220501T145016Z
UID:8229-1651402800-1651406400@loverabaptist.org
SUMMARY:Worship Service
DESCRIPTION:
URL:https://loverabaptist.org/event/worship-service-371/
CATEGORIES:Regular Service
END:VEVENT
BEGIN:VEVENT
DTSTART;TZID=America/Chicago:20220501T094500
DTEND;TZID=America/Chicago:20220501T104500
DTSTAMP:20260421T191835
CREATED:20220131T233816Z
LAST-MODIFIED:20220501T145016Z
UID:8228-1651398300-1651401900@loverabaptist.org
SUMMARY:Sunday School
DESCRIPTION:
URL:https://loverabaptist.org/event/sunday-school-212/
CATEGORIES:Regular Service
END:VEVENT
BEGIN:VEVENT
DTSTART;TZID=America/Chicago:20220427T190000
DTEND;TZID=America/Chicago:20220427T200000
DTSTAMP:20260421T191835
CREATED:20220128T232553Z
LAST-MODIFIED:20220427T135516Z
UID:8223-1651086000-1651089600@loverabaptist.org
SUMMARY:Worship Service
DESCRIPTION:
URL:https://loverabaptist.org/event/worship-service-370/
CATEGORIES:Regular Service
END:VEVENT
BEGIN:VEVENT
DTSTART;TZID=America/Chicago:20220424T110000
DTEND;TZID=America/Chicago:20220424T120000
DTSTAMP:20260421T191835
CREATED:20220124T222635Z
LAST-MODIFIED:20220424T131646Z
UID:8216-1650798000-1650801600@loverabaptist.org
SUMMARY:Worship Service
DESCRIPTION:
URL:https://loverabaptist.org/event/worship-service-369/
CATEGORIES:Regular Service
END:VEVENT
BEGIN:VEVENT
DTSTART;TZID=America/Chicago:20220424T094500
DTEND;TZID=America/Chicago:20220424T104500
DTSTAMP:20260421T191835
CREATED:20220124T222634Z
LAST-MODIFIED:20220424T131645Z
UID:8215-1650793500-1650797100@loverabaptist.org
SUMMARY:Sunday School
DESCRIPTION:
URL:https://loverabaptist.org/event/sunday-school-211/
CATEGORIES:Regular Service
END:VEVENT
BEGIN:VEVENT
DTSTART;TZID=America/Chicago:20220420T190000
DTEND;TZID=America/Chicago:20220420T200000
DTSTAMP:20260421T191835
CREATED:20220121T221119Z
LAST-MODIFIED:20220420T124017Z
UID:8210-1650481200-1650484800@loverabaptist.org
SUMMARY:Worship Service
DESCRIPTION:
URL:https://loverabaptist.org/event/worship-service-368/
CATEGORIES:Regular Service
END:VEVENT
BEGIN:VEVENT
DTSTART;TZID=America/Chicago:20220417T110000
DTEND;TZID=America/Chicago:20220417T120000
DTSTAMP:20260421T191835
CREATED:20220117T212830Z
LAST-MODIFIED:20220417T121210Z
UID:8203-1650193200-1650196800@loverabaptist.org
SUMMARY:Worship Service
DESCRIPTION:
URL:https://loverabaptist.org/event/worship-service-367/
CATEGORIES:Regular Service
END:VEVENT
BEGIN:VEVENT
DTSTART;TZID=America/Chicago:20220417T094500
DTEND;TZID=America/Chicago:20220417T104500
DTSTAMP:20260421T191835
CREATED:20220117T212830Z
LAST-MODIFIED:20220417T121209Z
UID:8202-1650188700-1650192300@loverabaptist.org
SUMMARY:Sunday School
DESCRIPTION:
URL:https://loverabaptist.org/event/sunday-school-210/
CATEGORIES:Regular Service
END:VEVENT
BEGIN:VEVENT
DTSTART;TZID=America/Chicago:20220413T190000
DTEND;TZID=America/Chicago:20220413T200000
DTSTAMP:20260421T191835
CREATED:20220114T205713Z
LAST-MODIFIED:20220413T235539Z
UID:8197-1649876400-1649880000@loverabaptist.org
SUMMARY:Worship Service
DESCRIPTION:
URL:https://loverabaptist.org/event/worship-service-366/
CATEGORIES:Regular Service
END:VEVENT
BEGIN:VEVENT
DTSTART;TZID=America/Chicago:20220410T110000
DTEND;TZID=America/Chicago:20220410T120000
DTSTAMP:20260421T191835
CREATED:20220110T201911Z
LAST-MODIFIED:20220409T230016Z
UID:8190-1649588400-1649592000@loverabaptist.org
SUMMARY:Worship Service
DESCRIPTION:
URL:https://loverabaptist.org/event/worship-service-365/
CATEGORIES:Regular Service
END:VEVENT
BEGIN:VEVENT
DTSTART;TZID=America/Chicago:20220410T094500
DTEND;TZID=America/Chicago:20220410T104500
DTSTAMP:20260421T191835
CREATED:20220110T201910Z
LAST-MODIFIED:20220409T230015Z
UID:8189-1649583900-1649587500@loverabaptist.org
SUMMARY:Sunday School
DESCRIPTION:
URL:https://loverabaptist.org/event/sunday-school-209/
CATEGORIES:Regular Service
END:VEVENT
BEGIN:VEVENT
DTSTART;TZID=America/Chicago:20220406T190000
DTEND;TZID=America/Chicago:20220406T200000
DTSTAMP:20260421T191835
CREATED:20220107T193023Z
LAST-MODIFIED:20220406T222946Z
UID:8184-1649271600-1649275200@loverabaptist.org
SUMMARY:Worship Service
DESCRIPTION:
URL:https://loverabaptist.org/event/worship-service-364/
CATEGORIES:Regular Service
END:VEVENT
BEGIN:VEVENT
DTSTART;TZID=America/Chicago:20220403T110000
DTEND;TZID=America/Chicago:20220403T120000
DTSTAMP:20260421T191835
CREATED:20220103T185657Z
LAST-MODIFIED:20220402T215303Z
UID:8177-1648983600-1648987200@loverabaptist.org
SUMMARY:Worship Service
DESCRIPTION:
URL:https://loverabaptist.org/event/worship-service-363/
CATEGORIES:Regular Service
END:VEVENT
BEGIN:VEVENT
DTSTART;TZID=America/Chicago:20220403T094500
DTEND;TZID=America/Chicago:20220403T104500
DTSTAMP:20260421T191835
CREATED:20220103T185657Z
LAST-MODIFIED:20220402T215303Z
UID:8176-1648979100-1648982700@loverabaptist.org
SUMMARY:Sunday School
DESCRIPTION:
URL:https://loverabaptist.org/event/sunday-school-208/
CATEGORIES:Regular Service
END:VEVENT
BEGIN:VEVENT
DTSTART;TZID=America/Chicago:20220330T190000
DTEND;TZID=America/Chicago:20220330T200000
DTSTAMP:20260421T191835
CREATED:20211231T181522Z
LAST-MODIFIED:20220330T211835Z
UID:8171-1648666800-1648670400@loverabaptist.org
SUMMARY:Worship Service
DESCRIPTION:
URL:https://loverabaptist.org/event/worship-service-362/
CATEGORIES:Regular Service
END:VEVENT
BEGIN:VEVENT
DTSTART;TZID=America/Chicago:20220327T110000
DTEND;TZID=America/Chicago:20220327T120000
DTSTAMP:20260421T191835
CREATED:20211227T172814Z
LAST-MODIFIED:20220326T202514Z
UID:8164-1648378800-1648382400@loverabaptist.org
SUMMARY:Worship Service
DESCRIPTION:
URL:https://loverabaptist.org/event/worship-service-361/
CATEGORIES:Regular Service
END:VEVENT
BEGIN:VEVENT
DTSTART;TZID=America/Chicago:20220327T094500
DTEND;TZID=America/Chicago:20220327T104500
DTSTAMP:20260421T191835
CREATED:20211227T172814Z
LAST-MODIFIED:20220326T202514Z
UID:8163-1648374300-1648377900@loverabaptist.org
SUMMARY:Sunday School
DESCRIPTION:
URL:https://loverabaptist.org/event/sunday-school-207/
CATEGORIES:Regular Service
END:VEVENT
BEGIN:VEVENT
DTSTART;TZID=America/Chicago:20220323T190000
DTEND;TZID=America/Chicago:20220323T200000
DTSTAMP:20260421T191835
CREATED:20211224T164343Z
LAST-MODIFIED:20220323T194112Z
UID:8157-1648062000-1648065600@loverabaptist.org
SUMMARY:Worship Service
DESCRIPTION:
URL:https://loverabaptist.org/event/worship-service-360/
CATEGORIES:Regular Service
END:VEVENT
BEGIN:VEVENT
DTSTART;TZID=America/Chicago:20220320T110000
DTEND;TZID=America/Chicago:20220320T120000
DTSTAMP:20260421T191835
CREATED:20211220T001140Z
LAST-MODIFIED:20220319T190818Z
UID:7912-1647774000-1647777600@loverabaptist.org
SUMMARY:Worship Service
DESCRIPTION:
URL:https://loverabaptist.org/event/worship-service-359/
CATEGORIES:Regular Service
END:VEVENT
BEGIN:VEVENT
DTSTART;TZID=America/Chicago:20220320T094500
DTEND;TZID=America/Chicago:20220320T104500
DTSTAMP:20260421T191835
CREATED:20211220T001140Z
LAST-MODIFIED:20220319T190818Z
UID:7911-1647769500-1647773100@loverabaptist.org
SUMMARY:Sunday School
DESCRIPTION:
URL:https://loverabaptist.org/event/sunday-school-206/
CATEGORIES:Regular Service
END:VEVENT
BEGIN:VEVENT
DTSTART;TZID=America/Chicago:20220316T190000
DTEND;TZID=America/Chicago:20220316T200000
DTSTAMP:20260421T191835
CREATED:20211217T001029Z
LAST-MODIFIED:20220316T182515Z
UID:7637-1647457200-1647460800@loverabaptist.org
SUMMARY:Worship Service
DESCRIPTION:
URL:https://loverabaptist.org/event/worship-service-358/
CATEGORIES:Regular Service
END:VEVENT
BEGIN:VEVENT
DTSTART;TZID=America/Chicago:20220313T110000
DTEND;TZID=America/Chicago:20220313T120000
DTSTAMP:20260421T191835
CREATED:20211213T001554Z
LAST-MODIFIED:20220312T180226Z
UID:7268-1647169200-1647172800@loverabaptist.org
SUMMARY:Worship Service
DESCRIPTION:
URL:https://loverabaptist.org/event/worship-service-357/
CATEGORIES:Regular Service
END:VEVENT
BEGIN:VEVENT
DTSTART;TZID=America/Chicago:20220313T094500
DTEND;TZID=America/Chicago:20220313T104500
DTSTAMP:20260421T191835
CREATED:20211213T001554Z
LAST-MODIFIED:20220312T180225Z
UID:7267-1647164700-1647168300@loverabaptist.org
SUMMARY:Sunday School
DESCRIPTION:
URL:https://loverabaptist.org/event/sunday-school-205/
CATEGORIES:Regular Service
END:VEVENT
BEGIN:VEVENT
DTSTART;TZID=America/Chicago:20220309T190000
DTEND;TZID=America/Chicago:20220309T200000
DTSTAMP:20260421T191835
CREATED:20211210T001113Z
LAST-MODIFIED:20220309T171342Z
UID:6995-1646852400-1646856000@loverabaptist.org
SUMMARY:Worship Service
DESCRIPTION:
URL:https://loverabaptist.org/event/worship-service-356/
CATEGORIES:Regular Service
END:VEVENT
BEGIN:VEVENT
DTSTART;TZID=America/Chicago:20220306T110000
DTEND;TZID=America/Chicago:20220306T120000
DTSTAMP:20260421T191835
CREATED:20211206T140033Z
LAST-MODIFIED:20220306T164711Z
UID:6859-1646564400-1646568000@loverabaptist.org
SUMMARY:Worship Service
DESCRIPTION:
URL:https://loverabaptist.org/event/worship-service-355/
CATEGORIES:Regular Service
END:VEVENT
BEGIN:VEVENT
DTSTART;TZID=America/Chicago:20220306T094500
DTEND;TZID=America/Chicago:20220306T104500
DTSTAMP:20260421T191835
CREATED:20211206T140032Z
LAST-MODIFIED:20220306T164710Z
UID:6858-1646559900-1646563500@loverabaptist.org
SUMMARY:Sunday School
DESCRIPTION:
URL:https://loverabaptist.org/event/sunday-school-204/
CATEGORIES:Regular Service
END:VEVENT
BEGIN:VEVENT
DTSTART;TZID=America/Chicago:20220302T190000
DTEND;TZID=America/Chicago:20220302T200000
DTSTAMP:20260421T191835
CREATED:20211203T131521Z
LAST-MODIFIED:20220302T155820Z
UID:6853-1646247600-1646251200@loverabaptist.org
SUMMARY:Worship Service
DESCRIPTION:
URL:https://loverabaptist.org/event/worship-service-354/
CATEGORIES:Regular Service
END:VEVENT
BEGIN:VEVENT
DTSTART;TZID=America/Chicago:20220227T110000
DTEND;TZID=America/Chicago:20220227T120000
DTSTAMP:20260421T191835
CREATED:20211129T123022Z
LAST-MODIFIED:20220227T153015Z
UID:6845-1645959600-1645963200@loverabaptist.org
SUMMARY:Worship Service
DESCRIPTION:
URL:https://loverabaptist.org/event/worship-service-353/
CATEGORIES:Regular Service
END:VEVENT
BEGIN:VEVENT
DTSTART;TZID=America/Chicago:20220227T094500
DTEND;TZID=America/Chicago:20220227T104500
DTSTAMP:20260421T191835
CREATED:20211129T123022Z
LAST-MODIFIED:20220227T153015Z
UID:6844-1645955100-1645958700@loverabaptist.org
SUMMARY:Sunday School
DESCRIPTION:
URL:https://loverabaptist.org/event/sunday-school-203/
CATEGORIES:Regular Service
END:VEVENT
END:VCALENDAR