BEGIN:VCALENDAR
VERSION:2.0
PRODID:-//Lovera Baptist Church San Antonio - ECPv6.15.20//NONSGML v1.0//EN
CALSCALE:GREGORIAN
METHOD:PUBLISH
X-WR-CALNAME:Lovera Baptist Church San Antonio
X-ORIGINAL-URL:https://loverabaptist.org
X-WR-CALDESC:Events for Lovera Baptist Church San Antonio
REFRESH-INTERVAL;VALUE=DURATION:PT1H
X-Robots-Tag:noindex
X-PUBLISHED-TTL:PT1H
BEGIN:VTIMEZONE
TZID:America/Chicago
BEGIN:DAYLIGHT
TZOFFSETFROM:-0600
TZOFFSETTO:-0500
TZNAME:CDT
DTSTART:20210314T080000
END:DAYLIGHT
BEGIN:STANDARD
TZOFFSETFROM:-0500
TZOFFSETTO:-0600
TZNAME:CST
DTSTART:20211107T070000
END:STANDARD
BEGIN:DAYLIGHT
TZOFFSETFROM:-0600
TZOFFSETTO:-0500
TZNAME:CDT
DTSTART:20220313T080000
END:DAYLIGHT
BEGIN:STANDARD
TZOFFSETFROM:-0500
TZOFFSETTO:-0600
TZNAME:CST
DTSTART:20221106T070000
END:STANDARD
BEGIN:DAYLIGHT
TZOFFSETFROM:-0600
TZOFFSETTO:-0500
TZNAME:CDT
DTSTART:20230312T080000
END:DAYLIGHT
BEGIN:STANDARD
TZOFFSETFROM:-0500
TZOFFSETTO:-0600
TZNAME:CST
DTSTART:20231105T070000
END:STANDARD
END:VTIMEZONE
BEGIN:VEVENT
DTSTART;TZID=America/Chicago:20220713T190000
DTEND;TZID=America/Chicago:20220713T200000
DTSTAMP:20260421T141503
CREATED:20220416T000231Z
LAST-MODIFIED:20220713T131530Z
UID:8365-1657738800-1657742400@loverabaptist.org
SUMMARY:Worship Service
DESCRIPTION:
URL:https://loverabaptist.org/event/worship-service-392/
CATEGORIES:Regular Service
END:VEVENT
BEGIN:VEVENT
DTSTART;TZID=America/Chicago:20220710T110000
DTEND;TZID=America/Chicago:20220710T120000
DTSTAMP:20260421T141503
CREATED:20220411T232819Z
LAST-MODIFIED:20220710T130759Z
UID:8358-1657450800-1657454400@loverabaptist.org
SUMMARY:Worship Service
DESCRIPTION:
URL:https://loverabaptist.org/event/worship-service-391/
CATEGORIES:Regular Service
END:VEVENT
BEGIN:VEVENT
DTSTART;TZID=America/Chicago:20220710T094500
DTEND;TZID=America/Chicago:20220710T104500
DTSTAMP:20260421T141503
CREATED:20220411T232819Z
LAST-MODIFIED:20220710T130759Z
UID:8357-1657446300-1657449900@loverabaptist.org
SUMMARY:Sunday School
DESCRIPTION:
URL:https://loverabaptist.org/event/sunday-school-222/
CATEGORIES:Regular Service
END:VEVENT
BEGIN:VEVENT
DTSTART;TZID=America/Chicago:20220706T190000
DTEND;TZID=America/Chicago:20220706T200000
DTSTAMP:20260421T141503
CREATED:20220408T225604Z
LAST-MODIFIED:20220706T121055Z
UID:8352-1657134000-1657137600@loverabaptist.org
SUMMARY:Worship Service
DESCRIPTION:
URL:https://loverabaptist.org/event/worship-service-390/
CATEGORIES:Regular Service
END:VEVENT
BEGIN:VEVENT
DTSTART;TZID=America/Chicago:20220703T110000
DTEND;TZID=America/Chicago:20220703T120000
DTSTAMP:20260421T141503
CREATED:20220404T221522Z
LAST-MODIFIED:20220702T235514Z
UID:8345-1656846000-1656849600@loverabaptist.org
SUMMARY:Worship Service
DESCRIPTION:
URL:https://loverabaptist.org/event/worship-service-389/
CATEGORIES:Regular Service
END:VEVENT
BEGIN:VEVENT
DTSTART;TZID=America/Chicago:20220703T094500
DTEND;TZID=America/Chicago:20220703T104500
DTSTAMP:20260421T141503
CREATED:20220404T221521Z
LAST-MODIFIED:20220702T235514Z
UID:8344-1656841500-1656845100@loverabaptist.org
SUMMARY:Sunday School
DESCRIPTION:
URL:https://loverabaptist.org/event/sunday-school-221/
CATEGORIES:Regular Service
END:VEVENT
BEGIN:VEVENT
DTSTART;TZID=America/Chicago:20220629T190000
DTEND;TZID=America/Chicago:20220629T200000
DTSTAMP:20260421T141503
CREATED:20220401T214053Z
LAST-MODIFIED:20220629T233551Z
UID:8339-1656529200-1656532800@loverabaptist.org
SUMMARY:Worship Service
DESCRIPTION:
URL:https://loverabaptist.org/event/worship-service-388/
CATEGORIES:Regular Service
END:VEVENT
BEGIN:VEVENT
DTSTART;TZID=America/Chicago:20220626T110000
DTEND;TZID=America/Chicago:20220626T120000
DTSTAMP:20260421T141503
CREATED:20220328T210025Z
LAST-MODIFIED:20220625T225719Z
UID:8332-1656241200-1656244800@loverabaptist.org
SUMMARY:Worship Service
DESCRIPTION:
URL:https://loverabaptist.org/event/worship-service-387/
CATEGORIES:Regular Service
END:VEVENT
BEGIN:VEVENT
DTSTART;TZID=America/Chicago:20220626T094500
DTEND;TZID=America/Chicago:20220626T104500
DTSTAMP:20260421T141503
CREATED:20220328T210025Z
LAST-MODIFIED:20220625T225719Z
UID:8331-1656236700-1656240300@loverabaptist.org
SUMMARY:Sunday School
DESCRIPTION:
URL:https://loverabaptist.org/event/sunday-school-220/
CATEGORIES:Regular Service
END:VEVENT
BEGIN:VEVENT
DTSTART;TZID=America/Chicago:20220622T190000
DTEND;TZID=America/Chicago:20220622T200000
DTSTAMP:20260421T141503
CREATED:20220325T201158Z
LAST-MODIFIED:20220622T225345Z
UID:8326-1655924400-1655928000@loverabaptist.org
SUMMARY:Worship Service
DESCRIPTION:
URL:https://loverabaptist.org/event/worship-service-386/
CATEGORIES:Regular Service
END:VEVENT
BEGIN:VEVENT
DTSTART;TZID=America/Chicago:20220619T110000
DTEND;TZID=America/Chicago:20220619T120000
DTSTAMP:20260421T141503
CREATED:20220321T192522Z
LAST-MODIFIED:20220618T220422Z
UID:8319-1655636400-1655640000@loverabaptist.org
SUMMARY:Worship Service
DESCRIPTION:
URL:https://loverabaptist.org/event/worship-service-385/
CATEGORIES:Regular Service
END:VEVENT
BEGIN:VEVENT
DTSTART;TZID=America/Chicago:20220619T094500
DTEND;TZID=America/Chicago:20220619T104500
DTSTAMP:20260421T141503
CREATED:20220321T192521Z
LAST-MODIFIED:20220618T220422Z
UID:8318-1655631900-1655635500@loverabaptist.org
SUMMARY:Sunday School
DESCRIPTION:
URL:https://loverabaptist.org/event/sunday-school-219/
CATEGORIES:Regular Service
END:VEVENT
BEGIN:VEVENT
DTSTART;TZID=America/Chicago:20220615T190000
DTEND;TZID=America/Chicago:20220615T200000
DTSTAMP:20260421T141503
CREATED:20220318T190832Z
LAST-MODIFIED:20220615T212740Z
UID:8313-1655319600-1655323200@loverabaptist.org
SUMMARY:Worship Service
DESCRIPTION:
URL:https://loverabaptist.org/event/worship-service-384/
CATEGORIES:Regular Service
END:VEVENT
BEGIN:VEVENT
DTSTART;TZID=America/Chicago:20220612T110000
DTEND;TZID=America/Chicago:20220612T120000
DTSTAMP:20260421T141503
CREATED:20220314T182557Z
LAST-MODIFIED:20220603T195551Z
UID:8306-1655031600-1655035200@loverabaptist.org
SUMMARY:Worship Service
DESCRIPTION:
URL:https://loverabaptist.org/event/worship-service-383/
CATEGORIES:Regular Service
END:VEVENT
BEGIN:VEVENT
DTSTART;TZID=America/Chicago:20220612T094500
DTEND;TZID=America/Chicago:20220612T104500
DTSTAMP:20260421T141503
CREATED:20220314T182556Z
LAST-MODIFIED:20220603T195550Z
UID:8305-1655027100-1655030700@loverabaptist.org
SUMMARY:Sunday School
DESCRIPTION:
URL:https://loverabaptist.org/event/sunday-school-218/
CATEGORIES:Regular Service
END:VEVENT
BEGIN:VEVENT
DTSTART;TZID=America/Chicago:20220608T190000
DTEND;TZID=America/Chicago:20220608T200000
DTSTAMP:20260421T141503
CREATED:20220311T175531Z
LAST-MODIFIED:20220603T195550Z
UID:8300-1654714800-1654718400@loverabaptist.org
SUMMARY:Worship Service
DESCRIPTION:
URL:https://loverabaptist.org/event/worship-service-382/
CATEGORIES:Regular Service
END:VEVENT
BEGIN:VEVENT
DTSTART;TZID=America/Chicago:20220605T110000
DTEND;TZID=America/Chicago:20220605T120000
DTSTAMP:20260421T141503
CREATED:20220307T165748Z
LAST-MODIFIED:20220603T195550Z
UID:8293-1654426800-1654430400@loverabaptist.org
SUMMARY:Worship Service
DESCRIPTION:
URL:https://loverabaptist.org/event/worship-service-381/
CATEGORIES:Regular Service
END:VEVENT
BEGIN:VEVENT
DTSTART;TZID=America/Chicago:20220605T094500
DTEND;TZID=America/Chicago:20220605T104500
DTSTAMP:20260421T141503
CREATED:20220307T165748Z
LAST-MODIFIED:20220603T195549Z
UID:8292-1654422300-1654425900@loverabaptist.org
SUMMARY:Sunday School
DESCRIPTION:
URL:https://loverabaptist.org/event/sunday-school-217/
CATEGORIES:Regular Service
END:VEVENT
BEGIN:VEVENT
DTSTART;TZID=America/Chicago:20220601T190000
DTEND;TZID=America/Chicago:20220601T200000
DTSTAMP:20260421T141503
CREATED:20220304T161521Z
LAST-MODIFIED:20220601T193018Z
UID:8287-1654110000-1654113600@loverabaptist.org
SUMMARY:Worship Service
DESCRIPTION:
URL:https://loverabaptist.org/event/worship-service-380/
CATEGORIES:Regular Service
END:VEVENT
BEGIN:VEVENT
DTSTART;TZID=America/Chicago:20220529T110000
DTEND;TZID=America/Chicago:20220529T120000
DTSTAMP:20260421T141503
CREATED:20220228T154245Z
LAST-MODIFIED:20220528T183114Z
UID:8280-1653822000-1653825600@loverabaptist.org
SUMMARY:Worship Service
DESCRIPTION:
URL:https://loverabaptist.org/event/worship-service-379/
CATEGORIES:Regular Service
END:VEVENT
BEGIN:VEVENT
DTSTART;TZID=America/Chicago:20220529T094500
DTEND;TZID=America/Chicago:20220529T104500
DTSTAMP:20260421T141503
CREATED:20220228T154244Z
LAST-MODIFIED:20220528T183114Z
UID:8279-1653817500-1653821100@loverabaptist.org
SUMMARY:Sunday School
DESCRIPTION:
URL:https://loverabaptist.org/event/sunday-school-216/
CATEGORIES:Regular Service
END:VEVENT
BEGIN:VEVENT
DTSTART;TZID=America/Chicago:20220525T190000
DTEND;TZID=America/Chicago:20220525T200000
DTSTAMP:20260421T141503
CREATED:20220225T151231Z
LAST-MODIFIED:20220525T181015Z
UID:8274-1653505200-1653508800@loverabaptist.org
SUMMARY:Worship Service
DESCRIPTION:
URL:https://loverabaptist.org/event/worship-service-378/
CATEGORIES:Regular Service
END:VEVENT
BEGIN:VEVENT
DTSTART;TZID=America/Chicago:20220522T110000
DTEND;TZID=America/Chicago:20220522T120000
DTSTAMP:20260421T141503
CREATED:20220221T142739Z
LAST-MODIFIED:20220521T172351Z
UID:8267-1653217200-1653220800@loverabaptist.org
SUMMARY:Worship Service
DESCRIPTION:
URL:https://loverabaptist.org/event/worship-service-377/
CATEGORIES:Regular Service
END:VEVENT
BEGIN:VEVENT
DTSTART;TZID=America/Chicago:20220522T094500
DTEND;TZID=America/Chicago:20220522T104500
DTSTAMP:20260421T141503
CREATED:20220221T142739Z
LAST-MODIFIED:20220521T172350Z
UID:8266-1653212700-1653216300@loverabaptist.org
SUMMARY:Sunday School
DESCRIPTION:
URL:https://loverabaptist.org/event/sunday-school-215/
CATEGORIES:Regular Service
END:VEVENT
BEGIN:VEVENT
DTSTART;TZID=America/Chicago:20220518T190000
DTEND;TZID=America/Chicago:20220518T200000
DTSTAMP:20260421T141503
CREATED:20220218T135723Z
LAST-MODIFIED:20220518T171104Z
UID:8261-1652900400-1652904000@loverabaptist.org
SUMMARY:Worship Service
DESCRIPTION:
URL:https://loverabaptist.org/event/worship-service-376/
CATEGORIES:Regular Service
END:VEVENT
BEGIN:VEVENT
DTSTART;TZID=America/Chicago:20220515T110000
DTEND;TZID=America/Chicago:20220515T120000
DTSTAMP:20260421T141503
CREATED:20220214T132522Z
LAST-MODIFIED:20220515T164109Z
UID:8254-1652612400-1652616000@loverabaptist.org
SUMMARY:Worship Service
DESCRIPTION:
URL:https://loverabaptist.org/event/worship-service-375/
CATEGORIES:Regular Service
END:VEVENT
BEGIN:VEVENT
DTSTART;TZID=America/Chicago:20220515T094500
DTEND;TZID=America/Chicago:20220515T104500
DTSTAMP:20260421T141503
CREATED:20220214T132522Z
LAST-MODIFIED:20220514T162517Z
UID:8253-1652607900-1652611500@loverabaptist.org
SUMMARY:Sunday School
DESCRIPTION:
URL:https://loverabaptist.org/event/sunday-school-214/
CATEGORIES:Regular Service
END:VEVENT
BEGIN:VEVENT
DTSTART;TZID=America/Chicago:20220511T190000
DTEND;TZID=America/Chicago:20220511T200000
DTSTAMP:20260421T141503
CREATED:20220211T131443Z
LAST-MODIFIED:20220511T161053Z
UID:8248-1652295600-1652299200@loverabaptist.org
SUMMARY:Worship Service
DESCRIPTION:
URL:https://loverabaptist.org/event/worship-service-374/
CATEGORIES:Regular Service
END:VEVENT
BEGIN:VEVENT
DTSTART;TZID=America/Chicago:20220508T110000
DTEND;TZID=America/Chicago:20220508T120000
DTSTAMP:20260421T141503
CREATED:20220207T125515Z
LAST-MODIFIED:20220508T155515Z
UID:8241-1652007600-1652011200@loverabaptist.org
SUMMARY:Worship Service
DESCRIPTION:
URL:https://loverabaptist.org/event/worship-service-373/
CATEGORIES:Regular Service
END:VEVENT
BEGIN:VEVENT
DTSTART;TZID=America/Chicago:20220508T094500
DTEND;TZID=America/Chicago:20220508T104500
DTSTAMP:20260421T141503
CREATED:20220207T125515Z
LAST-MODIFIED:20220507T155516Z
UID:8240-1652003100-1652006700@loverabaptist.org
SUMMARY:Sunday School
DESCRIPTION:
URL:https://loverabaptist.org/event/sunday-school-213/
CATEGORIES:Regular Service
END:VEVENT
END:VCALENDAR