BEGIN:VCALENDAR
VERSION:2.0
PRODID:-//Lovera Baptist Church San Antonio - ECPv6.15.20//NONSGML v1.0//EN
CALSCALE:GREGORIAN
METHOD:PUBLISH
X-WR-CALNAME:Lovera Baptist Church San Antonio
X-ORIGINAL-URL:https://loverabaptist.org
X-WR-CALDESC:Events for Lovera Baptist Church San Antonio
REFRESH-INTERVAL;VALUE=DURATION:PT1H
X-Robots-Tag:noindex
X-PUBLISHED-TTL:PT1H
BEGIN:VTIMEZONE
TZID:America/Chicago
BEGIN:DAYLIGHT
TZOFFSETFROM:-0600
TZOFFSETTO:-0500
TZNAME:CDT
DTSTART:20210314T080000
END:DAYLIGHT
BEGIN:STANDARD
TZOFFSETFROM:-0500
TZOFFSETTO:-0600
TZNAME:CST
DTSTART:20211107T070000
END:STANDARD
BEGIN:DAYLIGHT
TZOFFSETFROM:-0600
TZOFFSETTO:-0500
TZNAME:CDT
DTSTART:20220313T080000
END:DAYLIGHT
BEGIN:STANDARD
TZOFFSETFROM:-0500
TZOFFSETTO:-0600
TZNAME:CST
DTSTART:20221106T070000
END:STANDARD
BEGIN:DAYLIGHT
TZOFFSETFROM:-0600
TZOFFSETTO:-0500
TZNAME:CDT
DTSTART:20230312T080000
END:DAYLIGHT
BEGIN:STANDARD
TZOFFSETFROM:-0500
TZOFFSETTO:-0600
TZNAME:CST
DTSTART:20231105T070000
END:STANDARD
END:VTIMEZONE
BEGIN:VEVENT
DTSTART;TZID=America/Chicago:20220928T190000
DTEND;TZID=America/Chicago:20220928T200000
DTSTAMP:20260421T080542
CREATED:20220925T232920Z
LAST-MODIFIED:20220925T232920Z
UID:8733-1664391600-1664395200@loverabaptist.org
SUMMARY:Worship Service
DESCRIPTION:
URL:https://loverabaptist.org/event/worship-service-490/
CATEGORIES:Regular Service
END:VEVENT
BEGIN:VEVENT
DTSTART;TZID=America/Chicago:20220928T190000
DTEND;TZID=America/Chicago:20220928T200000
DTSTAMP:20260421T080542
CREATED:20220924T231441Z
LAST-MODIFIED:20220924T231441Z
UID:8695-1664391600-1664395200@loverabaptist.org
SUMMARY:Worship Service
DESCRIPTION:
URL:https://loverabaptist.org/event/worship-service-465/
CATEGORIES:Regular Service
END:VEVENT
BEGIN:VEVENT
DTSTART;TZID=America/Chicago:20220928T190000
DTEND;TZID=America/Chicago:20220928T200000
DTSTAMP:20260421T080542
CREATED:20220923T225320Z
LAST-MODIFIED:20220923T225320Z
UID:8655-1664391600-1664395200@loverabaptist.org
SUMMARY:Worship Service
DESCRIPTION:
URL:https://loverabaptist.org/event/worship-service-439/
CATEGORIES:Regular Service
END:VEVENT
BEGIN:VEVENT
DTSTART;TZID=America/Chicago:20220928T190000
DTEND;TZID=America/Chicago:20220928T200000
DTSTAMP:20260421T080542
CREATED:20220701T235207Z
LAST-MODIFIED:20220922T225249Z
UID:8498-1664391600-1664395200@loverabaptist.org
SUMMARY:Worship Service
DESCRIPTION:
URL:https://loverabaptist.org/event/worship-service-414/
CATEGORIES:Regular Service
END:VEVENT
BEGIN:VEVENT
DTSTART;TZID=America/Chicago:20220925T110000
DTEND;TZID=America/Chicago:20220925T120000
DTSTAMP:20260421T080542
CREATED:20220924T231441Z
LAST-MODIFIED:20220924T231441Z
UID:8694-1664103600-1664107200@loverabaptist.org
SUMMARY:Worship Service
DESCRIPTION:
URL:https://loverabaptist.org/event/worship-service-464/
CATEGORIES:Regular Service
END:VEVENT
BEGIN:VEVENT
DTSTART;TZID=America/Chicago:20220925T110000
DTEND;TZID=America/Chicago:20220925T120000
DTSTAMP:20260421T080542
CREATED:20220923T225320Z
LAST-MODIFIED:20220923T225320Z
UID:8654-1664103600-1664107200@loverabaptist.org
SUMMARY:Worship Service
DESCRIPTION:
URL:https://loverabaptist.org/event/worship-service-438/
CATEGORIES:Regular Service
END:VEVENT
BEGIN:VEVENT
DTSTART;TZID=America/Chicago:20220925T110000
DTEND;TZID=America/Chicago:20220925T120000
DTSTAMP:20260421T080542
CREATED:20220627T232321Z
LAST-MODIFIED:20220922T225249Z
UID:8491-1664103600-1664107200@loverabaptist.org
SUMMARY:Worship Service
DESCRIPTION:
URL:https://loverabaptist.org/event/worship-service-413/
CATEGORIES:Regular Service
END:VEVENT
BEGIN:VEVENT
DTSTART;TZID=America/Chicago:20220925T094500
DTEND;TZID=America/Chicago:20220925T104500
DTSTAMP:20260421T080542
CREATED:20220924T231441Z
LAST-MODIFIED:20220924T231441Z
UID:8693-1664099100-1664102700@loverabaptist.org
SUMMARY:Sunday School
DESCRIPTION:
URL:https://loverabaptist.org/event/sunday-school-259/
CATEGORIES:Regular Service
END:VEVENT
BEGIN:VEVENT
DTSTART;TZID=America/Chicago:20220925T094500
DTEND;TZID=America/Chicago:20220925T104500
DTSTAMP:20260421T080542
CREATED:20220923T225318Z
LAST-MODIFIED:20220923T225318Z
UID:8653-1664099100-1664102700@loverabaptist.org
SUMMARY:Sunday School
DESCRIPTION:
URL:https://loverabaptist.org/event/sunday-school-246/
CATEGORIES:Regular Service
END:VEVENT
BEGIN:VEVENT
DTSTART;TZID=America/Chicago:20220925T094500
DTEND;TZID=America/Chicago:20220925T104500
DTSTAMP:20260421T080542
CREATED:20220627T232321Z
LAST-MODIFIED:20220922T225249Z
UID:8490-1664099100-1664102700@loverabaptist.org
SUMMARY:Sunday School
DESCRIPTION:
URL:https://loverabaptist.org/event/sunday-school-233/
CATEGORIES:Regular Service
END:VEVENT
BEGIN:VEVENT
DTSTART;TZID=America/Chicago:20220921T190000
DTEND;TZID=America/Chicago:20220921T200000
DTSTAMP:20260421T080542
CREATED:20220624T225626Z
LAST-MODIFIED:20220921T224424Z
UID:8485-1663786800-1663790400@loverabaptist.org
SUMMARY:Worship Service
DESCRIPTION:
URL:https://loverabaptist.org/event/worship-service-412/
CATEGORIES:Regular Service
END:VEVENT
BEGIN:VEVENT
DTSTART;TZID=America/Chicago:20220918T110000
DTEND;TZID=America/Chicago:20220918T120000
DTSTAMP:20260421T080542
CREATED:20220620T222448Z
LAST-MODIFIED:20220917T221222Z
UID:8478-1663498800-1663502400@loverabaptist.org
SUMMARY:Worship Service
DESCRIPTION:
URL:https://loverabaptist.org/event/worship-service-411/
CATEGORIES:Regular Service
END:VEVENT
BEGIN:VEVENT
DTSTART;TZID=America/Chicago:20220918T094500
DTEND;TZID=America/Chicago:20220918T104500
DTSTAMP:20260421T080542
CREATED:20220620T222447Z
LAST-MODIFIED:20220917T221221Z
UID:8477-1663494300-1663497900@loverabaptist.org
SUMMARY:Sunday School
DESCRIPTION:
URL:https://loverabaptist.org/event/sunday-school-232/
CATEGORIES:Regular Service
END:VEVENT
BEGIN:VEVENT
DTSTART;TZID=America/Chicago:20220914T190000
DTEND;TZID=America/Chicago:20220914T200000
DTSTAMP:20260421T080542
CREATED:20220617T214537Z
LAST-MODIFIED:20220914T212918Z
UID:8472-1663182000-1663185600@loverabaptist.org
SUMMARY:Worship Service
DESCRIPTION:
URL:https://loverabaptist.org/event/worship-service-410/
CATEGORIES:Regular Service
END:VEVENT
BEGIN:VEVENT
DTSTART;TZID=America/Chicago:20220911T110000
DTEND;TZID=America/Chicago:20220911T120000
DTSTAMP:20260421T080542
CREATED:20220613T211225Z
LAST-MODIFIED:20220910T205706Z
UID:8462-1662894000-1662897600@loverabaptist.org
SUMMARY:Worship Service
DESCRIPTION:
URL:https://loverabaptist.org/event/worship-service-409/
CATEGORIES:Regular Service
END:VEVENT
BEGIN:VEVENT
DTSTART;TZID=America/Chicago:20220911T094500
DTEND;TZID=America/Chicago:20220911T104500
DTSTAMP:20260421T080542
CREATED:20220613T211225Z
LAST-MODIFIED:20220910T205706Z
UID:8461-1662889500-1662893100@loverabaptist.org
SUMMARY:Sunday School
DESCRIPTION:
URL:https://loverabaptist.org/event/sunday-school-231/
CATEGORIES:Regular Service
END:VEVENT
BEGIN:VEVENT
DTSTART;TZID=America/Chicago:20220907T190000
DTEND;TZID=America/Chicago:20220907T200000
DTSTAMP:20260421T080542
CREATED:20220613T211224Z
LAST-MODIFIED:20220907T200202Z
UID:8460-1662577200-1662580800@loverabaptist.org
SUMMARY:Worship Service
DESCRIPTION:
URL:https://loverabaptist.org/event/worship-service-408/
CATEGORIES:Regular Service
END:VEVENT
BEGIN:VEVENT
DTSTART;TZID=America/Chicago:20220904T110000
DTEND;TZID=America/Chicago:20220904T120000
DTSTAMP:20260421T080542
CREATED:20220613T211224Z
LAST-MODIFIED:20220903T195440Z
UID:8459-1662289200-1662292800@loverabaptist.org
SUMMARY:Worship Service
DESCRIPTION:
URL:https://loverabaptist.org/event/worship-service-407/
CATEGORIES:Regular Service
END:VEVENT
BEGIN:VEVENT
DTSTART;TZID=America/Chicago:20220904T094500
DTEND;TZID=America/Chicago:20220904T104500
DTSTAMP:20260421T080542
CREATED:20220613T211223Z
LAST-MODIFIED:20220903T195440Z
UID:8458-1662284700-1662288300@loverabaptist.org
SUMMARY:Sunday School
DESCRIPTION:
URL:https://loverabaptist.org/event/sunday-school-230/
CATEGORIES:Regular Service
END:VEVENT
BEGIN:VEVENT
DTSTART;TZID=America/Chicago:20220831T190000
DTEND;TZID=America/Chicago:20220831T200000
DTSTAMP:20260421T080542
CREATED:20220603T195558Z
LAST-MODIFIED:20220831T192003Z
UID:8455-1661972400-1661976000@loverabaptist.org
SUMMARY:Worship Service
DESCRIPTION:
URL:https://loverabaptist.org/event/worship-service-406/
CATEGORIES:Regular Service
END:VEVENT
BEGIN:VEVENT
DTSTART;TZID=America/Chicago:20220828T110000
DTEND;TZID=America/Chicago:20220828T120000
DTSTAMP:20260421T080542
CREATED:20220530T185751Z
LAST-MODIFIED:20220827T185315Z
UID:8448-1661684400-1661688000@loverabaptist.org
SUMMARY:Worship Service
DESCRIPTION:
URL:https://loverabaptist.org/event/worship-service-405/
CATEGORIES:Regular Service
END:VEVENT
BEGIN:VEVENT
DTSTART;TZID=America/Chicago:20220828T094500
DTEND;TZID=America/Chicago:20220828T104500
DTSTAMP:20260421T080542
CREATED:20220530T185751Z
LAST-MODIFIED:20220827T185314Z
UID:8447-1661679900-1661683500@loverabaptist.org
SUMMARY:Sunday School
DESCRIPTION:
URL:https://loverabaptist.org/event/sunday-school-229/
CATEGORIES:Regular Service
END:VEVENT
BEGIN:VEVENT
DTSTART;TZID=America/Chicago:20220824T190000
DTEND;TZID=America/Chicago:20220824T200000
DTSTAMP:20260421T080542
CREATED:20220527T181528Z
LAST-MODIFIED:20220824T184026Z
UID:8442-1661367600-1661371200@loverabaptist.org
SUMMARY:Worship Service
DESCRIPTION:
URL:https://loverabaptist.org/event/worship-service-404/
CATEGORIES:Regular Service
END:VEVENT
BEGIN:VEVENT
DTSTART;TZID=America/Chicago:20220821T110000
DTEND;TZID=America/Chicago:20220821T120000
DTSTAMP:20260421T080542
CREATED:20220523T175334Z
LAST-MODIFIED:20220820T181050Z
UID:8435-1661079600-1661083200@loverabaptist.org
SUMMARY:Worship Service
DESCRIPTION:
URL:https://loverabaptist.org/event/worship-service-403/
CATEGORIES:Regular Service
END:VEVENT
BEGIN:VEVENT
DTSTART;TZID=America/Chicago:20220821T094500
DTEND;TZID=America/Chicago:20220821T104500
DTSTAMP:20260421T080542
CREATED:20220523T175334Z
LAST-MODIFIED:20220820T181049Z
UID:8434-1661075100-1661078700@loverabaptist.org
SUMMARY:Sunday School
DESCRIPTION:
URL:https://loverabaptist.org/event/sunday-school-228/
CATEGORIES:Regular Service
END:VEVENT
BEGIN:VEVENT
DTSTART;TZID=America/Chicago:20220817T190000
DTEND;TZID=America/Chicago:20220817T200000
DTSTAMP:20260421T080542
CREATED:20220520T172309Z
LAST-MODIFIED:20220817T172824Z
UID:8429-1660762800-1660766400@loverabaptist.org
SUMMARY:Worship Service
DESCRIPTION:
URL:https://loverabaptist.org/event/worship-service-402/
CATEGORIES:Regular Service
END:VEVENT
BEGIN:VEVENT
DTSTART;TZID=America/Chicago:20220814T110000
DTEND;TZID=America/Chicago:20220814T120000
DTSTAMP:20260421T080542
CREATED:20220516T164322Z
LAST-MODIFIED:20220813T170909Z
UID:8422-1660474800-1660478400@loverabaptist.org
SUMMARY:Worship Service
DESCRIPTION:
URL:https://loverabaptist.org/event/worship-service-401/
CATEGORIES:Regular Service
END:VEVENT
BEGIN:VEVENT
DTSTART;TZID=America/Chicago:20220814T094500
DTEND;TZID=America/Chicago:20220814T104500
DTSTAMP:20260421T080542
CREATED:20220516T164321Z
LAST-MODIFIED:20220813T170909Z
UID:8421-1660470300-1660473900@loverabaptist.org
SUMMARY:Sunday School
DESCRIPTION:
URL:https://loverabaptist.org/event/sunday-school-227/
CATEGORIES:Regular Service
END:VEVENT
BEGIN:VEVENT
DTSTART;TZID=America/Chicago:20220810T190000
DTEND;TZID=America/Chicago:20220810T200000
DTSTAMP:20260421T080542
CREATED:20220513T162523Z
LAST-MODIFIED:20220810T165554Z
UID:8416-1660158000-1660161600@loverabaptist.org
SUMMARY:Worship Service
DESCRIPTION:
URL:https://loverabaptist.org/event/worship-service-400/
CATEGORIES:Regular Service
END:VEVENT
BEGIN:VEVENT
DTSTART;TZID=America/Chicago:20220807T110000
DTEND;TZID=America/Chicago:20220807T120000
DTSTAMP:20260421T080542
CREATED:20220509T155730Z
LAST-MODIFIED:20220807T162746Z
UID:8409-1659870000-1659873600@loverabaptist.org
SUMMARY:Worship Service
DESCRIPTION:
URL:https://loverabaptist.org/event/worship-service-399/
CATEGORIES:Regular Service
END:VEVENT
END:VCALENDAR