BEGIN:VCALENDAR
VERSION:2.0
PRODID:-//Lovera Baptist Church San Antonio - ECPv6.15.20//NONSGML v1.0//EN
CALSCALE:GREGORIAN
METHOD:PUBLISH
X-ORIGINAL-URL:https://loverabaptist.org
X-WR-CALDESC:Events for Lovera Baptist Church San Antonio
REFRESH-INTERVAL;VALUE=DURATION:PT1H
X-Robots-Tag:noindex
X-PUBLISHED-TTL:PT1H
BEGIN:VTIMEZONE
TZID:America/Chicago
BEGIN:DAYLIGHT
TZOFFSETFROM:-0600
TZOFFSETTO:-0500
TZNAME:CDT
DTSTART:20210314T080000
END:DAYLIGHT
BEGIN:STANDARD
TZOFFSETFROM:-0500
TZOFFSETTO:-0600
TZNAME:CST
DTSTART:20211107T070000
END:STANDARD
BEGIN:DAYLIGHT
TZOFFSETFROM:-0600
TZOFFSETTO:-0500
TZNAME:CDT
DTSTART:20220313T080000
END:DAYLIGHT
BEGIN:STANDARD
TZOFFSETFROM:-0500
TZOFFSETTO:-0600
TZNAME:CST
DTSTART:20221106T070000
END:STANDARD
BEGIN:DAYLIGHT
TZOFFSETFROM:-0600
TZOFFSETTO:-0500
TZNAME:CDT
DTSTART:20230312T080000
END:DAYLIGHT
BEGIN:STANDARD
TZOFFSETFROM:-0500
TZOFFSETTO:-0600
TZNAME:CST
DTSTART:20231105T070000
END:STANDARD
END:VTIMEZONE
BEGIN:VEVENT
DTSTART;TZID=America/Chicago:20221016T094500
DTEND;TZID=America/Chicago:20221016T104500
DTSTAMP:20260420T222539
CREATED:20220923T225323Z
LAST-MODIFIED:20220923T225323Z
UID:8662-1665913500-1665917100@loverabaptist.org
SUMMARY:Sunday School
DESCRIPTION:
URL:https://loverabaptist.org/event/sunday-school-249/
CATEGORIES:Regular Service
END:VEVENT
BEGIN:VEVENT
DTSTART;TZID=America/Chicago:20221016T094500
DTEND;TZID=America/Chicago:20221016T104500
DTSTAMP:20260420T222539
CREATED:20220718T135457Z
LAST-MODIFIED:20221016T134040Z
UID:8528-1665913500-1665917100@loverabaptist.org
SUMMARY:Sunday School
DESCRIPTION:
URL:https://loverabaptist.org/event/sunday-school-236/
CATEGORIES:Regular Service
END:VEVENT
BEGIN:VEVENT
DTSTART;TZID=America/Chicago:20221012T190000
DTEND;TZID=America/Chicago:20221012T200000
DTSTAMP:20260420T222539
CREATED:20220929T235312Z
LAST-MODIFIED:20220929T235312Z
UID:8933-1665601200-1665604800@loverabaptist.org
SUMMARY:Worship Service
DESCRIPTION:
URL:https://loverabaptist.org/event/worship-service-621/
CATEGORIES:Regular Service
END:VEVENT
BEGIN:VEVENT
DTSTART;TZID=America/Chicago:20221012T190000
DTEND;TZID=America/Chicago:20221012T200000
DTSTAMP:20260420T222539
CREATED:20220928T234704Z
LAST-MODIFIED:20220928T234704Z
UID:8894-1665601200-1665604800@loverabaptist.org
SUMMARY:Worship Service
DESCRIPTION:
URL:https://loverabaptist.org/event/worship-service-596/
CATEGORIES:Regular Service
END:VEVENT
BEGIN:VEVENT
DTSTART;TZID=America/Chicago:20221012T190000
DTEND;TZID=America/Chicago:20221012T200000
DTSTAMP:20260420T222539
CREATED:20220927T233745Z
LAST-MODIFIED:20220927T233745Z
UID:8854-1665601200-1665604800@loverabaptist.org
SUMMARY:Worship Service
DESCRIPTION:
URL:https://loverabaptist.org/event/worship-service-570/
CATEGORIES:Regular Service
END:VEVENT
BEGIN:VEVENT
DTSTART;TZID=America/Chicago:20221012T190000
DTEND;TZID=America/Chicago:20221012T200000
DTSTAMP:20260420T222539
CREATED:20220926T233759Z
LAST-MODIFIED:20220926T233759Z
UID:8814-1665601200-1665604800@loverabaptist.org
SUMMARY:Worship Service
DESCRIPTION:
URL:https://loverabaptist.org/event/worship-service-544/
CATEGORIES:Regular Service
END:VEVENT
BEGIN:VEVENT
DTSTART;TZID=America/Chicago:20221012T190000
DTEND;TZID=America/Chicago:20221012T200000
DTSTAMP:20260420T222539
CREATED:20220925T232933Z
LAST-MODIFIED:20220925T232933Z
UID:8776-1665601200-1665604800@loverabaptist.org
SUMMARY:Worship Service
DESCRIPTION:
URL:https://loverabaptist.org/event/worship-service-519/
CATEGORIES:Regular Service
END:VEVENT
BEGIN:VEVENT
DTSTART;TZID=America/Chicago:20221012T190000
DTEND;TZID=America/Chicago:20221012T200000
DTSTAMP:20260420T222539
CREATED:20220925T232922Z
LAST-MODIFIED:20220925T232922Z
UID:8739-1665601200-1665604800@loverabaptist.org
SUMMARY:Worship Service
DESCRIPTION:
URL:https://loverabaptist.org/event/worship-service-494/
CATEGORIES:Regular Service
END:VEVENT
BEGIN:VEVENT
DTSTART;TZID=America/Chicago:20221012T190000
DTEND;TZID=America/Chicago:20221012T200000
DTSTAMP:20260420T222539
CREATED:20220924T231443Z
LAST-MODIFIED:20220924T231443Z
UID:8701-1665601200-1665604800@loverabaptist.org
SUMMARY:Worship Service
DESCRIPTION:
URL:https://loverabaptist.org/event/worship-service-469/
CATEGORIES:Regular Service
END:VEVENT
BEGIN:VEVENT
DTSTART;TZID=America/Chicago:20221012T190000
DTEND;TZID=America/Chicago:20221012T200000
DTSTAMP:20260420T222539
CREATED:20220923T225322Z
LAST-MODIFIED:20220923T225322Z
UID:8661-1665601200-1665604800@loverabaptist.org
SUMMARY:Worship Service
DESCRIPTION:
URL:https://loverabaptist.org/event/worship-service-443/
CATEGORIES:Regular Service
END:VEVENT
BEGIN:VEVENT
DTSTART;TZID=America/Chicago:20221012T190000
DTEND;TZID=America/Chicago:20221012T200000
DTSTAMP:20260420T222539
CREATED:20220715T133039Z
LAST-MODIFIED:20221012T131257Z
UID:8523-1665601200-1665604800@loverabaptist.org
SUMMARY:Worship Service
DESCRIPTION:
URL:https://loverabaptist.org/event/worship-service-418/
CATEGORIES:Regular Service
END:VEVENT
BEGIN:VEVENT
DTSTART;TZID=America/Chicago:20221009T110000
DTEND;TZID=America/Chicago:20221009T120000
DTSTAMP:20260420T222539
CREATED:20220929T235311Z
LAST-MODIFIED:20220929T235311Z
UID:8932-1665313200-1665316800@loverabaptist.org
SUMMARY:Worship Service
DESCRIPTION:
URL:https://loverabaptist.org/event/worship-service-620/
CATEGORIES:Regular Service
END:VEVENT
BEGIN:VEVENT
DTSTART;TZID=America/Chicago:20221009T110000
DTEND;TZID=America/Chicago:20221009T120000
DTSTAMP:20260420T222539
CREATED:20220928T234703Z
LAST-MODIFIED:20220928T234703Z
UID:8893-1665313200-1665316800@loverabaptist.org
SUMMARY:Worship Service
DESCRIPTION:
URL:https://loverabaptist.org/event/worship-service-595/
CATEGORIES:Regular Service
END:VEVENT
BEGIN:VEVENT
DTSTART;TZID=America/Chicago:20221009T110000
DTEND;TZID=America/Chicago:20221009T120000
DTSTAMP:20260420T222539
CREATED:20220927T233745Z
LAST-MODIFIED:20220927T233745Z
UID:8853-1665313200-1665316800@loverabaptist.org
SUMMARY:Worship Service
DESCRIPTION:
URL:https://loverabaptist.org/event/worship-service-569/
CATEGORIES:Regular Service
END:VEVENT
BEGIN:VEVENT
DTSTART;TZID=America/Chicago:20221009T110000
DTEND;TZID=America/Chicago:20221009T120000
DTSTAMP:20260420T222539
CREATED:20220926T233759Z
LAST-MODIFIED:20220926T233759Z
UID:8813-1665313200-1665316800@loverabaptist.org
SUMMARY:Worship Service
DESCRIPTION:
URL:https://loverabaptist.org/event/worship-service-543/
CATEGORIES:Regular Service
END:VEVENT
BEGIN:VEVENT
DTSTART;TZID=America/Chicago:20221009T110000
DTEND;TZID=America/Chicago:20221009T120000
DTSTAMP:20260420T222539
CREATED:20220925T232933Z
LAST-MODIFIED:20220925T232933Z
UID:8775-1665313200-1665316800@loverabaptist.org
SUMMARY:Worship Service
DESCRIPTION:
URL:https://loverabaptist.org/event/worship-service-518/
CATEGORIES:Regular Service
END:VEVENT
BEGIN:VEVENT
DTSTART;TZID=America/Chicago:20221009T110000
DTEND;TZID=America/Chicago:20221009T120000
DTSTAMP:20260420T222539
CREATED:20220925T232922Z
LAST-MODIFIED:20220925T232922Z
UID:8738-1665313200-1665316800@loverabaptist.org
SUMMARY:Worship Service
DESCRIPTION:
URL:https://loverabaptist.org/event/worship-service-493/
CATEGORIES:Regular Service
END:VEVENT
BEGIN:VEVENT
DTSTART;TZID=America/Chicago:20221009T110000
DTEND;TZID=America/Chicago:20221009T120000
DTSTAMP:20260420T222539
CREATED:20220924T231443Z
LAST-MODIFIED:20220924T231443Z
UID:8700-1665313200-1665316800@loverabaptist.org
SUMMARY:Worship Service
DESCRIPTION:
URL:https://loverabaptist.org/event/worship-service-468/
CATEGORIES:Regular Service
END:VEVENT
BEGIN:VEVENT
DTSTART;TZID=America/Chicago:20221009T110000
DTEND;TZID=America/Chicago:20221009T120000
DTSTAMP:20260420T222539
CREATED:20220923T225322Z
LAST-MODIFIED:20220923T225322Z
UID:8660-1665313200-1665316800@loverabaptist.org
SUMMARY:Worship Service
DESCRIPTION:
URL:https://loverabaptist.org/event/worship-service-442/
CATEGORIES:Regular Service
END:VEVENT
BEGIN:VEVENT
DTSTART;TZID=America/Chicago:20221009T110000
DTEND;TZID=America/Chicago:20221009T120000
DTSTAMP:20260420T222539
CREATED:20220711T130944Z
LAST-MODIFIED:20221009T125235Z
UID:8516-1665313200-1665316800@loverabaptist.org
SUMMARY:Worship Service
DESCRIPTION:
URL:https://loverabaptist.org/event/worship-service-417/
CATEGORIES:Regular Service
END:VEVENT
BEGIN:VEVENT
DTSTART;TZID=America/Chicago:20221009T094500
DTEND;TZID=America/Chicago:20221009T104500
DTSTAMP:20260420T222539
CREATED:20220929T235311Z
LAST-MODIFIED:20220929T235311Z
UID:8931-1665308700-1665312300@loverabaptist.org
SUMMARY:Sunday School
DESCRIPTION:
URL:https://loverabaptist.org/event/sunday-school-336/
CATEGORIES:Regular Service
END:VEVENT
BEGIN:VEVENT
DTSTART;TZID=America/Chicago:20221009T094500
DTEND;TZID=America/Chicago:20221009T104500
DTSTAMP:20260420T222539
CREATED:20220928T234703Z
LAST-MODIFIED:20220928T234703Z
UID:8892-1665308700-1665312300@loverabaptist.org
SUMMARY:Sunday School
DESCRIPTION:
URL:https://loverabaptist.org/event/sunday-school-323/
CATEGORIES:Regular Service
END:VEVENT
BEGIN:VEVENT
DTSTART;TZID=America/Chicago:20221009T094500
DTEND;TZID=America/Chicago:20221009T104500
DTSTAMP:20260420T222539
CREATED:20220927T233745Z
LAST-MODIFIED:20220927T233745Z
UID:8852-1665308700-1665312300@loverabaptist.org
SUMMARY:Sunday School
DESCRIPTION:
URL:https://loverabaptist.org/event/sunday-school-310/
CATEGORIES:Regular Service
END:VEVENT
BEGIN:VEVENT
DTSTART;TZID=America/Chicago:20221009T094500
DTEND;TZID=America/Chicago:20221009T104500
DTSTAMP:20260420T222539
CREATED:20220926T233759Z
LAST-MODIFIED:20220926T233759Z
UID:8812-1665308700-1665312300@loverabaptist.org
SUMMARY:Sunday School
DESCRIPTION:
URL:https://loverabaptist.org/event/sunday-school-297/
CATEGORIES:Regular Service
END:VEVENT
BEGIN:VEVENT
DTSTART;TZID=America/Chicago:20221009T094500
DTEND;TZID=America/Chicago:20221009T104500
DTSTAMP:20260420T222539
CREATED:20220925T232933Z
LAST-MODIFIED:20220925T232933Z
UID:8774-1665308700-1665312300@loverabaptist.org
SUMMARY:Sunday School
DESCRIPTION:
URL:https://loverabaptist.org/event/sunday-school-285/
CATEGORIES:Regular Service
END:VEVENT
BEGIN:VEVENT
DTSTART;TZID=America/Chicago:20221009T094500
DTEND;TZID=America/Chicago:20221009T104500
DTSTAMP:20260420T222539
CREATED:20220925T232922Z
LAST-MODIFIED:20220925T232922Z
UID:8737-1665308700-1665312300@loverabaptist.org
SUMMARY:Sunday School
DESCRIPTION:
URL:https://loverabaptist.org/event/sunday-school-273/
CATEGORIES:Regular Service
END:VEVENT
BEGIN:VEVENT
DTSTART;TZID=America/Chicago:20221009T094500
DTEND;TZID=America/Chicago:20221009T104500
DTSTAMP:20260420T222539
CREATED:20220924T231442Z
LAST-MODIFIED:20220924T231442Z
UID:8699-1665308700-1665312300@loverabaptist.org
SUMMARY:Sunday School
DESCRIPTION:
URL:https://loverabaptist.org/event/sunday-school-261/
CATEGORIES:Regular Service
END:VEVENT
BEGIN:VEVENT
DTSTART;TZID=America/Chicago:20221009T094500
DTEND;TZID=America/Chicago:20221009T104500
DTSTAMP:20260420T222539
CREATED:20220923T225322Z
LAST-MODIFIED:20220923T225322Z
UID:8659-1665308700-1665312300@loverabaptist.org
SUMMARY:Sunday School
DESCRIPTION:
URL:https://loverabaptist.org/event/sunday-school-248/
CATEGORIES:Regular Service
END:VEVENT
BEGIN:VEVENT
DTSTART;TZID=America/Chicago:20221009T094500
DTEND;TZID=America/Chicago:20221009T104500
DTSTAMP:20260420T222539
CREATED:20220711T130944Z
LAST-MODIFIED:20221009T125235Z
UID:8515-1665308700-1665312300@loverabaptist.org
SUMMARY:Sunday School
DESCRIPTION:
URL:https://loverabaptist.org/event/sunday-school-235/
CATEGORIES:Regular Service
END:VEVENT
BEGIN:VEVENT
DTSTART;TZID=America/Chicago:20221005T190000
DTEND;TZID=America/Chicago:20221005T200000
DTSTAMP:20260420T222539
CREATED:20220929T235311Z
LAST-MODIFIED:20220929T235311Z
UID:8930-1664996400-1665000000@loverabaptist.org
SUMMARY:Worship Service
DESCRIPTION:
URL:https://loverabaptist.org/event/worship-service-619/
CATEGORIES:Regular Service
END:VEVENT
END:VCALENDAR