BEGIN:VCALENDAR
VERSION:2.0
PRODID:-//Lovera Baptist Church San Antonio - ECPv6.15.20//NONSGML v1.0//EN
CALSCALE:GREGORIAN
METHOD:PUBLISH
X-WR-CALNAME:Lovera Baptist Church San Antonio
X-ORIGINAL-URL:https://loverabaptist.org
X-WR-CALDESC:Events for Lovera Baptist Church San Antonio
REFRESH-INTERVAL;VALUE=DURATION:PT1H
X-Robots-Tag:noindex
X-PUBLISHED-TTL:PT1H
BEGIN:VTIMEZONE
TZID:America/Chicago
BEGIN:DAYLIGHT
TZOFFSETFROM:-0600
TZOFFSETTO:-0500
TZNAME:CDT
DTSTART:20210314T080000
END:DAYLIGHT
BEGIN:STANDARD
TZOFFSETFROM:-0500
TZOFFSETTO:-0600
TZNAME:CST
DTSTART:20211107T070000
END:STANDARD
BEGIN:DAYLIGHT
TZOFFSETFROM:-0600
TZOFFSETTO:-0500
TZNAME:CDT
DTSTART:20220313T080000
END:DAYLIGHT
BEGIN:STANDARD
TZOFFSETFROM:-0500
TZOFFSETTO:-0600
TZNAME:CST
DTSTART:20221106T070000
END:STANDARD
BEGIN:DAYLIGHT
TZOFFSETFROM:-0600
TZOFFSETTO:-0500
TZNAME:CDT
DTSTART:20230312T080000
END:DAYLIGHT
BEGIN:STANDARD
TZOFFSETFROM:-0500
TZOFFSETTO:-0600
TZNAME:CST
DTSTART:20231105T070000
END:STANDARD
END:VTIMEZONE
BEGIN:VEVENT
DTSTART;TZID=America/Chicago:20221123T190000
DTEND;TZID=America/Chicago:20221123T200000
DTSTAMP:20260420T134228
CREATED:20221108T225927Z
LAST-MODIFIED:20221123T122401Z
UID:9249-1669230000-1669233600@loverabaptist.org
SUMMARY:Worship Service
DESCRIPTION:
URL:https://loverabaptist.org/event/worship-service-429/
CATEGORIES:Regular Service
END:VEVENT
BEGIN:VEVENT
DTSTART;TZID=America/Chicago:20221120T110000
DTEND;TZID=America/Chicago:20221120T120000
DTSTAMP:20260420T134228
CREATED:20221108T225926Z
LAST-MODIFIED:20221120T120745Z
UID:9248-1668942000-1668945600@loverabaptist.org
SUMMARY:Worship Service
DESCRIPTION:
URL:https://loverabaptist.org/event/worship-service-428/
CATEGORIES:Regular Service
END:VEVENT
BEGIN:VEVENT
DTSTART;TZID=America/Chicago:20221120T094500
DTEND;TZID=America/Chicago:20221120T104500
DTSTAMP:20260420T134228
CREATED:20221108T225926Z
LAST-MODIFIED:20221120T120745Z
UID:9247-1668937500-1668941100@loverabaptist.org
SUMMARY:Sunday School
DESCRIPTION:
URL:https://loverabaptist.org/event/sunday-school-240/
CATEGORIES:Regular Service
END:VEVENT
BEGIN:VEVENT
DTSTART;TZID=America/Chicago:20221116T190000
DTEND;TZID=America/Chicago:20221116T200000
DTSTAMP:20260420T134228
CREATED:20221108T225926Z
LAST-MODIFIED:20221115T235736Z
UID:9246-1668625200-1668628800@loverabaptist.org
SUMMARY:Worship Service
DESCRIPTION:
URL:https://loverabaptist.org/event/worship-service-427/
CATEGORIES:Regular Service
END:VEVENT
BEGIN:VEVENT
DTSTART;TZID=America/Chicago:20221113T110000
DTEND;TZID=America/Chicago:20221113T120000
DTSTAMP:20260420T134228
CREATED:20221108T225926Z
LAST-MODIFIED:20221112T234059Z
UID:9245-1668337200-1668340800@loverabaptist.org
SUMMARY:Worship Service
DESCRIPTION:
URL:https://loverabaptist.org/event/worship-service-426/
CATEGORIES:Regular Service
END:VEVENT
BEGIN:VEVENT
DTSTART;TZID=America/Chicago:20221113T094500
DTEND;TZID=America/Chicago:20221113T104500
DTSTAMP:20260420T134228
CREATED:20221108T225925Z
LAST-MODIFIED:20221112T234059Z
UID:9244-1668332700-1668336300@loverabaptist.org
SUMMARY:Sunday School
DESCRIPTION:
URL:https://loverabaptist.org/event/sunday-school-239/
CATEGORIES:Regular Service
END:VEVENT
BEGIN:VEVENT
DTSTART;TZID=America/Chicago:20221109T190000
DTEND;TZID=America/Chicago:20221109T200000
DTSTAMP:20260420T134228
CREATED:20221108T225925Z
LAST-MODIFIED:20221109T230737Z
UID:9243-1668020400-1668024000@loverabaptist.org
SUMMARY:Worship Service
DESCRIPTION:
URL:https://loverabaptist.org/event/worship-service-425/
CATEGORIES:Regular Service
END:VEVENT
BEGIN:VEVENT
DTSTART;TZID=America/Chicago:20221102T190000
DTEND;TZID=America/Chicago:20221102T200000
DTSTAMP:20260420T134228
CREATED:20220805T162422Z
LAST-MODIFIED:20221102T170753Z
UID:8562-1667415600-1667419200@loverabaptist.org
SUMMARY:Worship Service
DESCRIPTION:
URL:https://loverabaptist.org/event/worship-service-424/
CATEGORIES:Regular Service
END:VEVENT
BEGIN:VEVENT
DTSTART;TZID=America/Chicago:20221030T110000
DTEND;TZID=America/Chicago:20221030T120000
DTSTAMP:20260420T134228
CREATED:20220801T154400Z
LAST-MODIFIED:20221028T142250Z
UID:8555-1667127600-1667131200@loverabaptist.org
SUMMARY:Worship Service
DESCRIPTION:
URL:https://loverabaptist.org/event/worship-service-423/
CATEGORIES:Regular Service
END:VEVENT
BEGIN:VEVENT
DTSTART;TZID=America/Chicago:20221030T094500
DTEND;TZID=America/Chicago:20221030T104500
DTSTAMP:20260420T134228
CREATED:20220801T154400Z
LAST-MODIFIED:20221028T142244Z
UID:8554-1667123100-1667126700@loverabaptist.org
SUMMARY:Sunday School
DESCRIPTION:
URL:https://loverabaptist.org/event/sunday-school-238/
CATEGORIES:Regular Service
END:VEVENT
BEGIN:VEVENT
DTSTART;TZID=America/Chicago:20221026T190000
DTEND;TZID=America/Chicago:20221026T200000
DTSTAMP:20260420T134228
CREATED:20220927T233747Z
LAST-MODIFIED:20220927T233747Z
UID:8860-1666810800-1666814400@loverabaptist.org
SUMMARY:Worship Service
DESCRIPTION:
URL:https://loverabaptist.org/event/worship-service-574/
CATEGORIES:Regular Service
END:VEVENT
BEGIN:VEVENT
DTSTART;TZID=America/Chicago:20221026T190000
DTEND;TZID=America/Chicago:20221026T200000
DTSTAMP:20260420T134228
CREATED:20220926T233801Z
LAST-MODIFIED:20220926T233801Z
UID:8820-1666810800-1666814400@loverabaptist.org
SUMMARY:Worship Service
DESCRIPTION:
URL:https://loverabaptist.org/event/worship-service-548/
CATEGORIES:Regular Service
END:VEVENT
BEGIN:VEVENT
DTSTART;TZID=America/Chicago:20221026T190000
DTEND;TZID=America/Chicago:20221026T200000
DTSTAMP:20260420T134228
CREATED:20220925T232935Z
LAST-MODIFIED:20220925T232935Z
UID:8782-1666810800-1666814400@loverabaptist.org
SUMMARY:Worship Service
DESCRIPTION:
URL:https://loverabaptist.org/event/worship-service-523/
CATEGORIES:Regular Service
END:VEVENT
BEGIN:VEVENT
DTSTART;TZID=America/Chicago:20221026T190000
DTEND;TZID=America/Chicago:20221026T200000
DTSTAMP:20260420T134228
CREATED:20220925T232924Z
LAST-MODIFIED:20220925T232924Z
UID:8745-1666810800-1666814400@loverabaptist.org
SUMMARY:Worship Service
DESCRIPTION:
URL:https://loverabaptist.org/event/worship-service-498/
CATEGORIES:Regular Service
END:VEVENT
BEGIN:VEVENT
DTSTART;TZID=America/Chicago:20221026T190000
DTEND;TZID=America/Chicago:20221026T200000
DTSTAMP:20260420T134228
CREATED:20220924T231444Z
LAST-MODIFIED:20220924T231444Z
UID:8707-1666810800-1666814400@loverabaptist.org
SUMMARY:Worship Service
DESCRIPTION:
URL:https://loverabaptist.org/event/worship-service-473/
CATEGORIES:Regular Service
END:VEVENT
BEGIN:VEVENT
DTSTART;TZID=America/Chicago:20221026T190000
DTEND;TZID=America/Chicago:20221026T200000
DTSTAMP:20260420T134228
CREATED:20220923T225324Z
LAST-MODIFIED:20220923T225324Z
UID:8667-1666810800-1666814400@loverabaptist.org
SUMMARY:Worship Service
DESCRIPTION:
URL:https://loverabaptist.org/event/worship-service-447/
CATEGORIES:Regular Service
END:VEVENT
BEGIN:VEVENT
DTSTART;TZID=America/Chicago:20221026T190000
DTEND;TZID=America/Chicago:20221026T200000
DTSTAMP:20260420T134228
CREATED:20220729T151248Z
LAST-MODIFIED:20221026T142248Z
UID:8549-1666810800-1666814400@loverabaptist.org
SUMMARY:Worship Service
DESCRIPTION:
URL:https://loverabaptist.org/event/worship-service-422/
CATEGORIES:Regular Service
END:VEVENT
BEGIN:VEVENT
DTSTART;TZID=America/Chicago:20221023T110000
DTEND;TZID=America/Chicago:20221023T120000
DTSTAMP:20260420T134228
CREATED:20220929T235313Z
LAST-MODIFIED:20220929T235313Z
UID:8938-1666522800-1666526400@loverabaptist.org
SUMMARY:Worship Service
DESCRIPTION:
URL:https://loverabaptist.org/event/worship-service-624/
CATEGORIES:Regular Service
END:VEVENT
BEGIN:VEVENT
DTSTART;TZID=America/Chicago:20221023T110000
DTEND;TZID=America/Chicago:20221023T120000
DTSTAMP:20260420T134228
CREATED:20220928T234706Z
LAST-MODIFIED:20220928T234706Z
UID:8899-1666522800-1666526400@loverabaptist.org
SUMMARY:Worship Service
DESCRIPTION:
URL:https://loverabaptist.org/event/worship-service-599/
CATEGORIES:Regular Service
END:VEVENT
BEGIN:VEVENT
DTSTART;TZID=America/Chicago:20221023T110000
DTEND;TZID=America/Chicago:20221023T120000
DTSTAMP:20260420T134228
CREATED:20220927T233746Z
LAST-MODIFIED:20220927T233746Z
UID:8859-1666522800-1666526400@loverabaptist.org
SUMMARY:Worship Service
DESCRIPTION:
URL:https://loverabaptist.org/event/worship-service-573/
CATEGORIES:Regular Service
END:VEVENT
BEGIN:VEVENT
DTSTART;TZID=America/Chicago:20221023T110000
DTEND;TZID=America/Chicago:20221023T120000
DTSTAMP:20260420T134228
CREATED:20220926T233800Z
LAST-MODIFIED:20220926T233800Z
UID:8819-1666522800-1666526400@loverabaptist.org
SUMMARY:Worship Service
DESCRIPTION:
URL:https://loverabaptist.org/event/worship-service-547/
CATEGORIES:Regular Service
END:VEVENT
BEGIN:VEVENT
DTSTART;TZID=America/Chicago:20221023T110000
DTEND;TZID=America/Chicago:20221023T120000
DTSTAMP:20260420T134228
CREATED:20220925T232934Z
LAST-MODIFIED:20220925T232934Z
UID:8781-1666522800-1666526400@loverabaptist.org
SUMMARY:Worship Service
DESCRIPTION:
URL:https://loverabaptist.org/event/worship-service-522/
CATEGORIES:Regular Service
END:VEVENT
BEGIN:VEVENT
DTSTART;TZID=America/Chicago:20221023T110000
DTEND;TZID=America/Chicago:20221023T120000
DTSTAMP:20260420T134228
CREATED:20220925T232924Z
LAST-MODIFIED:20220925T232924Z
UID:8744-1666522800-1666526400@loverabaptist.org
SUMMARY:Worship Service
DESCRIPTION:
URL:https://loverabaptist.org/event/worship-service-497/
CATEGORIES:Regular Service
END:VEVENT
BEGIN:VEVENT
DTSTART;TZID=America/Chicago:20221023T110000
DTEND;TZID=America/Chicago:20221023T120000
DTSTAMP:20260420T134228
CREATED:20220924T231444Z
LAST-MODIFIED:20220924T231444Z
UID:8706-1666522800-1666526400@loverabaptist.org
SUMMARY:Worship Service
DESCRIPTION:
URL:https://loverabaptist.org/event/worship-service-472/
CATEGORIES:Regular Service
END:VEVENT
BEGIN:VEVENT
DTSTART;TZID=America/Chicago:20221023T110000
DTEND;TZID=America/Chicago:20221023T120000
DTSTAMP:20260420T134228
CREATED:20220923T225324Z
LAST-MODIFIED:20220923T225324Z
UID:8666-1666522800-1666526400@loverabaptist.org
SUMMARY:Worship Service
DESCRIPTION:
URL:https://loverabaptist.org/event/worship-service-446/
CATEGORIES:Regular Service
END:VEVENT
BEGIN:VEVENT
DTSTART;TZID=America/Chicago:20221023T110000
DTEND;TZID=America/Chicago:20221023T120000
DTSTAMP:20260420T134228
CREATED:20220725T144250Z
LAST-MODIFIED:20221023T140811Z
UID:8542-1666522800-1666526400@loverabaptist.org
SUMMARY:Worship Service
DESCRIPTION:
URL:https://loverabaptist.org/event/worship-service-421/
CATEGORIES:Regular Service
END:VEVENT
BEGIN:VEVENT
DTSTART;TZID=America/Chicago:20221023T094500
DTEND;TZID=America/Chicago:20221023T104500
DTSTAMP:20260420T134228
CREATED:20220929T235313Z
LAST-MODIFIED:20220929T235313Z
UID:8937-1666518300-1666521900@loverabaptist.org
SUMMARY:Sunday School
DESCRIPTION:
URL:https://loverabaptist.org/event/sunday-school-338/
CATEGORIES:Regular Service
END:VEVENT
BEGIN:VEVENT
DTSTART;TZID=America/Chicago:20221023T094500
DTEND;TZID=America/Chicago:20221023T104500
DTSTAMP:20260420T134228
CREATED:20220928T234706Z
LAST-MODIFIED:20220928T234706Z
UID:8898-1666518300-1666521900@loverabaptist.org
SUMMARY:Sunday School
DESCRIPTION:
URL:https://loverabaptist.org/event/sunday-school-325/
CATEGORIES:Regular Service
END:VEVENT
BEGIN:VEVENT
DTSTART;TZID=America/Chicago:20221023T094500
DTEND;TZID=America/Chicago:20221023T104500
DTSTAMP:20260420T134228
CREATED:20220927T233746Z
LAST-MODIFIED:20220927T233746Z
UID:8858-1666518300-1666521900@loverabaptist.org
SUMMARY:Sunday School
DESCRIPTION:
URL:https://loverabaptist.org/event/sunday-school-312/
CATEGORIES:Regular Service
END:VEVENT
BEGIN:VEVENT
DTSTART;TZID=America/Chicago:20221023T094500
DTEND;TZID=America/Chicago:20221023T104500
DTSTAMP:20260420T134228
CREATED:20220926T233800Z
LAST-MODIFIED:20220926T233800Z
UID:8818-1666518300-1666521900@loverabaptist.org
SUMMARY:Sunday School
DESCRIPTION:
URL:https://loverabaptist.org/event/sunday-school-299/
CATEGORIES:Regular Service
END:VEVENT
END:VCALENDAR