BEGIN:VCALENDAR
VERSION:2.0
PRODID:-//Lovera Baptist Church San Antonio - ECPv6.15.20//NONSGML v1.0//EN
CALSCALE:GREGORIAN
METHOD:PUBLISH
X-WR-CALNAME:Lovera Baptist Church San Antonio
X-ORIGINAL-URL:https://loverabaptist.org
X-WR-CALDESC:Events for Lovera Baptist Church San Antonio
REFRESH-INTERVAL;VALUE=DURATION:PT1H
X-Robots-Tag:noindex
X-PUBLISHED-TTL:PT1H
BEGIN:VTIMEZONE
TZID:America/Chicago
BEGIN:DAYLIGHT
TZOFFSETFROM:-0600
TZOFFSETTO:-0500
TZNAME:CDT
DTSTART:20210314T080000
END:DAYLIGHT
BEGIN:STANDARD
TZOFFSETFROM:-0500
TZOFFSETTO:-0600
TZNAME:CST
DTSTART:20211107T070000
END:STANDARD
BEGIN:DAYLIGHT
TZOFFSETFROM:-0600
TZOFFSETTO:-0500
TZNAME:CDT
DTSTART:20220313T080000
END:DAYLIGHT
BEGIN:STANDARD
TZOFFSETFROM:-0500
TZOFFSETTO:-0600
TZNAME:CST
DTSTART:20221106T070000
END:STANDARD
BEGIN:DAYLIGHT
TZOFFSETFROM:-0600
TZOFFSETTO:-0500
TZNAME:CDT
DTSTART:20230312T080000
END:DAYLIGHT
BEGIN:STANDARD
TZOFFSETFROM:-0500
TZOFFSETTO:-0600
TZNAME:CST
DTSTART:20231105T070000
END:STANDARD
BEGIN:DAYLIGHT
TZOFFSETFROM:-0600
TZOFFSETTO:-0500
TZNAME:CDT
DTSTART:20240310T080000
END:DAYLIGHT
BEGIN:STANDARD
TZOFFSETFROM:-0500
TZOFFSETTO:-0600
TZNAME:CST
DTSTART:20241103T070000
END:STANDARD
END:VTIMEZONE
BEGIN:VEVENT
DTSTART;TZID=America/Chicago:20230108T110000
DTEND;TZID=America/Chicago:20230108T120000
DTSTAMP:20260420T103659
CREATED:20221010T125547Z
LAST-MODIFIED:20230108T141019Z
UID:8988-1673175600-1673179200@loverabaptist.org
SUMMARY:Worship Service
DESCRIPTION:
URL:https://loverabaptist.org/event/worship-service-646/
CATEGORIES:Regular Service
END:VEVENT
BEGIN:VEVENT
DTSTART;TZID=America/Chicago:20230108T094500
DTEND;TZID=America/Chicago:20230108T104500
DTSTAMP:20260420T103659
CREATED:20221010T125547Z
LAST-MODIFIED:20230108T141019Z
UID:8987-1673171100-1673174700@loverabaptist.org
SUMMARY:Sunday School
DESCRIPTION:
URL:https://loverabaptist.org/event/sunday-school-349/
CATEGORIES:Regular Service
END:VEVENT
BEGIN:VEVENT
DTSTART;TZID=America/Chicago:20230104T190000
DTEND;TZID=America/Chicago:20230104T200000
DTSTAMP:20260420T103659
CREATED:20221007T123944Z
LAST-MODIFIED:20230104T135448Z
UID:8982-1672858800-1672862400@loverabaptist.org
SUMMARY:Worship Service
DESCRIPTION:
URL:https://loverabaptist.org/event/worship-service-645/
CATEGORIES:Regular Service
END:VEVENT
BEGIN:VEVENT
DTSTART;TZID=America/Chicago:20230101T110000
DTEND;TZID=America/Chicago:20230101T120000
DTSTAMP:20260420T103659
CREATED:20221004T120805Z
LAST-MODIFIED:20230101T133927Z
UID:8976-1672570800-1672574400@loverabaptist.org
SUMMARY:Worship Service
DESCRIPTION:
URL:https://loverabaptist.org/event/worship-service-644/
CATEGORIES:Regular Service
END:VEVENT
BEGIN:VEVENT
DTSTART;TZID=America/Chicago:20230101T094500
DTEND;TZID=America/Chicago:20230101T104500
DTSTAMP:20260420T103659
CREATED:20221004T120804Z
LAST-MODIFIED:20230101T133927Z
UID:8975-1672566300-1672569900@loverabaptist.org
SUMMARY:Sunday School
DESCRIPTION:
URL:https://loverabaptist.org/event/sunday-school-348/
CATEGORIES:Regular Service
END:VEVENT
BEGIN:VEVENT
DTSTART;TZID=America/Chicago:20221228T190000
DTEND;TZID=America/Chicago:20221228T200000
DTSTAMP:20260420T103659
CREATED:20220930T235328Z
LAST-MODIFIED:20221228T132353Z
UID:8970-1672254000-1672257600@loverabaptist.org
SUMMARY:Worship Service
DESCRIPTION:
URL:https://loverabaptist.org/event/worship-service-643/
CATEGORIES:Regular Service
END:VEVENT
BEGIN:VEVENT
DTSTART;TZID=America/Chicago:20221225T110000
DTEND;TZID=America/Chicago:20221225T120000
DTSTAMP:20260420T103659
CREATED:20220929T235323Z
LAST-MODIFIED:20221225T132329Z
UID:8965-1671966000-1671969600@loverabaptist.org
SUMMARY:Worship Service
DESCRIPTION:
URL:https://loverabaptist.org/event/worship-service-642/
CATEGORIES:Regular Service
END:VEVENT
BEGIN:VEVENT
DTSTART;TZID=America/Chicago:20221225T094500
DTEND;TZID=America/Chicago:20221225T104500
DTSTAMP:20260420T103659
CREATED:20221108T225930Z
LAST-MODIFIED:20221225T132329Z
UID:9262-1671961500-1671965100@loverabaptist.org
SUMMARY:Sunday School
DESCRIPTION:
URL:https://loverabaptist.org/event/sunday-school-245/
CATEGORIES:Regular Service
END:VEVENT
BEGIN:VEVENT
DTSTART;TZID=America/Chicago:20221221T190000
DTEND;TZID=America/Chicago:20221221T200000
DTSTAMP:20260420T103659
CREATED:20221108T225930Z
LAST-MODIFIED:20221221T132454Z
UID:9261-1671649200-1671652800@loverabaptist.org
SUMMARY:Worship Service
DESCRIPTION:
URL:https://loverabaptist.org/event/worship-service-437/
CATEGORIES:Regular Service
END:VEVENT
BEGIN:VEVENT
DTSTART;TZID=America/Chicago:20221218T110000
DTEND;TZID=America/Chicago:20221218T120000
DTSTAMP:20260420T103659
CREATED:20221108T225930Z
LAST-MODIFIED:20221218T132247Z
UID:9260-1671361200-1671364800@loverabaptist.org
SUMMARY:Worship Service
DESCRIPTION:
URL:https://loverabaptist.org/event/worship-service-436/
CATEGORIES:Regular Service
END:VEVENT
BEGIN:VEVENT
DTSTART;TZID=America/Chicago:20221218T094500
DTEND;TZID=America/Chicago:20221218T104500
DTSTAMP:20260420T103659
CREATED:20221108T225930Z
LAST-MODIFIED:20221218T132246Z
UID:9259-1671356700-1671360300@loverabaptist.org
SUMMARY:Sunday School
DESCRIPTION:
URL:https://loverabaptist.org/event/sunday-school-244/
CATEGORIES:Regular Service
END:VEVENT
BEGIN:VEVENT
DTSTART;TZID=America/Chicago:20221214T190000
DTEND;TZID=America/Chicago:20221214T200000
DTSTAMP:20260420T103659
CREATED:20221108T225929Z
LAST-MODIFIED:20221214T130738Z
UID:9258-1671044400-1671048000@loverabaptist.org
SUMMARY:Worship Service
DESCRIPTION:
URL:https://loverabaptist.org/event/worship-service-435/
CATEGORIES:Regular Service
END:VEVENT
BEGIN:VEVENT
DTSTART;TZID=America/Chicago:20221211T110000
DTEND;TZID=America/Chicago:20221211T120000
DTSTAMP:20260420T103659
CREATED:20221108T225929Z
LAST-MODIFIED:20221211T131013Z
UID:9257-1670756400-1670760000@loverabaptist.org
SUMMARY:Worship Service
DESCRIPTION:
URL:https://loverabaptist.org/event/worship-service-434/
CATEGORIES:Regular Service
END:VEVENT
BEGIN:VEVENT
DTSTART;TZID=America/Chicago:20221211T094500
DTEND;TZID=America/Chicago:20221211T104500
DTSTAMP:20260420T103659
CREATED:20221108T225929Z
LAST-MODIFIED:20221211T131013Z
UID:9256-1670751900-1670755500@loverabaptist.org
SUMMARY:Sunday School
DESCRIPTION:
URL:https://loverabaptist.org/event/sunday-school-243/
CATEGORIES:Regular Service
END:VEVENT
BEGIN:VEVENT
DTSTART;TZID=America/Chicago:20221207T190000
DTEND;TZID=America/Chicago:20221207T200000
DTSTAMP:20260420T103659
CREATED:20221108T225929Z
LAST-MODIFIED:20221207T130857Z
UID:9255-1670439600-1670443200@loverabaptist.org
SUMMARY:Worship Service
DESCRIPTION:
URL:https://loverabaptist.org/event/worship-service-433/
CATEGORIES:Regular Service
END:VEVENT
BEGIN:VEVENT
DTSTART;TZID=America/Chicago:20221204T110000
DTEND;TZID=America/Chicago:20221204T120000
DTSTAMP:20260420T103659
CREATED:20221108T225928Z
LAST-MODIFIED:20221204T130928Z
UID:9254-1670151600-1670155200@loverabaptist.org
SUMMARY:Worship Service
DESCRIPTION:
URL:https://loverabaptist.org/event/worship-service-432/
CATEGORIES:Regular Service
END:VEVENT
BEGIN:VEVENT
DTSTART;TZID=America/Chicago:20221204T094500
DTEND;TZID=America/Chicago:20221204T104500
DTSTAMP:20260420T103659
CREATED:20221108T225928Z
LAST-MODIFIED:20221204T130927Z
UID:9253-1670147100-1670150700@loverabaptist.org
SUMMARY:Sunday School
DESCRIPTION:
URL:https://loverabaptist.org/event/sunday-school-242/
CATEGORIES:Regular Service
END:VEVENT
BEGIN:VEVENT
DTSTART;TZID=America/Chicago:20221130T190000
DTEND;TZID=America/Chicago:20221130T200000
DTSTAMP:20260420T103659
CREATED:20221108T225928Z
LAST-MODIFIED:20221130T125406Z
UID:9252-1669834800-1669838400@loverabaptist.org
SUMMARY:Worship Service
DESCRIPTION:
URL:https://loverabaptist.org/event/worship-service-431/
CATEGORIES:Regular Service
END:VEVENT
BEGIN:VEVENT
DTSTART;TZID=America/Chicago:20221127T110000
DTEND;TZID=America/Chicago:20221127T120000
DTSTAMP:20260420T103659
CREATED:20221108T225927Z
LAST-MODIFIED:20221127T122441Z
UID:9251-1669546800-1669550400@loverabaptist.org
SUMMARY:Worship Service
DESCRIPTION:
URL:https://loverabaptist.org/event/worship-service-430/
CATEGORIES:Regular Service
END:VEVENT
BEGIN:VEVENT
DTSTART;TZID=America/Chicago:20221127T094500
DTEND;TZID=America/Chicago:20221127T104500
DTSTAMP:20260420T103659
CREATED:20221108T225927Z
LAST-MODIFIED:20221127T122441Z
UID:9250-1669542300-1669545900@loverabaptist.org
SUMMARY:Sunday School
DESCRIPTION:
URL:https://loverabaptist.org/event/sunday-school-241/
CATEGORIES:Regular Service
END:VEVENT
BEGIN:VEVENT
DTSTART;TZID=America/Chicago:20221123T190000
DTEND;TZID=America/Chicago:20221123T200000
DTSTAMP:20260420T103659
CREATED:20221108T225927Z
LAST-MODIFIED:20221123T122401Z
UID:9249-1669230000-1669233600@loverabaptist.org
SUMMARY:Worship Service
DESCRIPTION:
URL:https://loverabaptist.org/event/worship-service-429/
CATEGORIES:Regular Service
END:VEVENT
BEGIN:VEVENT
DTSTART;TZID=America/Chicago:20221120T110000
DTEND;TZID=America/Chicago:20221120T120000
DTSTAMP:20260420T103659
CREATED:20221108T225926Z
LAST-MODIFIED:20221120T120745Z
UID:9248-1668942000-1668945600@loverabaptist.org
SUMMARY:Worship Service
DESCRIPTION:
URL:https://loverabaptist.org/event/worship-service-428/
CATEGORIES:Regular Service
END:VEVENT
BEGIN:VEVENT
DTSTART;TZID=America/Chicago:20221120T094500
DTEND;TZID=America/Chicago:20221120T104500
DTSTAMP:20260420T103659
CREATED:20221108T225926Z
LAST-MODIFIED:20221120T120745Z
UID:9247-1668937500-1668941100@loverabaptist.org
SUMMARY:Sunday School
DESCRIPTION:
URL:https://loverabaptist.org/event/sunday-school-240/
CATEGORIES:Regular Service
END:VEVENT
BEGIN:VEVENT
DTSTART;TZID=America/Chicago:20221116T190000
DTEND;TZID=America/Chicago:20221116T200000
DTSTAMP:20260420T103659
CREATED:20221108T225926Z
LAST-MODIFIED:20221115T235736Z
UID:9246-1668625200-1668628800@loverabaptist.org
SUMMARY:Worship Service
DESCRIPTION:
URL:https://loverabaptist.org/event/worship-service-427/
CATEGORIES:Regular Service
END:VEVENT
BEGIN:VEVENT
DTSTART;TZID=America/Chicago:20221113T110000
DTEND;TZID=America/Chicago:20221113T120000
DTSTAMP:20260420T103659
CREATED:20221108T225926Z
LAST-MODIFIED:20221112T234059Z
UID:9245-1668337200-1668340800@loverabaptist.org
SUMMARY:Worship Service
DESCRIPTION:
URL:https://loverabaptist.org/event/worship-service-426/
CATEGORIES:Regular Service
END:VEVENT
BEGIN:VEVENT
DTSTART;TZID=America/Chicago:20221113T094500
DTEND;TZID=America/Chicago:20221113T104500
DTSTAMP:20260420T103659
CREATED:20221108T225925Z
LAST-MODIFIED:20221112T234059Z
UID:9244-1668332700-1668336300@loverabaptist.org
SUMMARY:Sunday School
DESCRIPTION:
URL:https://loverabaptist.org/event/sunday-school-239/
CATEGORIES:Regular Service
END:VEVENT
BEGIN:VEVENT
DTSTART;TZID=America/Chicago:20221109T190000
DTEND;TZID=America/Chicago:20221109T200000
DTSTAMP:20260420T103659
CREATED:20221108T225925Z
LAST-MODIFIED:20221109T230737Z
UID:9243-1668020400-1668024000@loverabaptist.org
SUMMARY:Worship Service
DESCRIPTION:
URL:https://loverabaptist.org/event/worship-service-425/
CATEGORIES:Regular Service
END:VEVENT
BEGIN:VEVENT
DTSTART;TZID=America/Chicago:20221102T190000
DTEND;TZID=America/Chicago:20221102T200000
DTSTAMP:20260420T103659
CREATED:20220805T162422Z
LAST-MODIFIED:20221102T170753Z
UID:8562-1667415600-1667419200@loverabaptist.org
SUMMARY:Worship Service
DESCRIPTION:
URL:https://loverabaptist.org/event/worship-service-424/
CATEGORIES:Regular Service
END:VEVENT
BEGIN:VEVENT
DTSTART;TZID=America/Chicago:20221030T110000
DTEND;TZID=America/Chicago:20221030T120000
DTSTAMP:20260420T103659
CREATED:20220801T154400Z
LAST-MODIFIED:20221028T142250Z
UID:8555-1667127600-1667131200@loverabaptist.org
SUMMARY:Worship Service
DESCRIPTION:
URL:https://loverabaptist.org/event/worship-service-423/
CATEGORIES:Regular Service
END:VEVENT
BEGIN:VEVENT
DTSTART;TZID=America/Chicago:20221030T094500
DTEND;TZID=America/Chicago:20221030T104500
DTSTAMP:20260420T103659
CREATED:20220801T154400Z
LAST-MODIFIED:20221028T142244Z
UID:8554-1667123100-1667126700@loverabaptist.org
SUMMARY:Sunday School
DESCRIPTION:
URL:https://loverabaptist.org/event/sunday-school-238/
CATEGORIES:Regular Service
END:VEVENT
END:VCALENDAR