BEGIN:VCALENDAR
VERSION:2.0
PRODID:-//Lovera Baptist Church San Antonio - ECPv6.15.20//NONSGML v1.0//EN
CALSCALE:GREGORIAN
METHOD:PUBLISH
X-ORIGINAL-URL:https://loverabaptist.org
X-WR-CALDESC:Events for Lovera Baptist Church San Antonio
REFRESH-INTERVAL;VALUE=DURATION:PT1H
X-Robots-Tag:noindex
X-PUBLISHED-TTL:PT1H
BEGIN:VTIMEZONE
TZID:America/Chicago
BEGIN:DAYLIGHT
TZOFFSETFROM:-0600
TZOFFSETTO:-0500
TZNAME:CDT
DTSTART:20220313T080000
END:DAYLIGHT
BEGIN:STANDARD
TZOFFSETFROM:-0500
TZOFFSETTO:-0600
TZNAME:CST
DTSTART:20221106T070000
END:STANDARD
BEGIN:DAYLIGHT
TZOFFSETFROM:-0600
TZOFFSETTO:-0500
TZNAME:CDT
DTSTART:20230312T080000
END:DAYLIGHT
BEGIN:STANDARD
TZOFFSETFROM:-0500
TZOFFSETTO:-0600
TZNAME:CST
DTSTART:20231105T070000
END:STANDARD
BEGIN:DAYLIGHT
TZOFFSETFROM:-0600
TZOFFSETTO:-0500
TZNAME:CDT
DTSTART:20240310T080000
END:DAYLIGHT
BEGIN:STANDARD
TZOFFSETFROM:-0500
TZOFFSETTO:-0600
TZNAME:CST
DTSTART:20241103T070000
END:STANDARD
END:VTIMEZONE
BEGIN:VEVENT
DTSTART;TZID=America/Chicago:20230412T190000
DTEND;TZID=America/Chicago:20230412T200000
DTSTAMP:20260420T042750
CREATED:20230113T143406Z
LAST-MODIFIED:20230412T132407Z
UID:9403-1681326000-1681329600@loverabaptist.org
SUMMARY:Worship Service
DESCRIPTION:
URL:https://loverabaptist.org/event/worship-service-476/
CATEGORIES:Regular Service
END:VEVENT
BEGIN:VEVENT
DTSTART;TZID=America/Chicago:20230409T110000
DTEND;TZID=America/Chicago:20230409T120000
DTSTAMP:20260420T042750
CREATED:20230109T140819Z
LAST-MODIFIED:20230409T130925Z
UID:9396-1681038000-1681041600@loverabaptist.org
SUMMARY:Worship Service
DESCRIPTION:
URL:https://loverabaptist.org/event/worship-service-475/
CATEGORIES:Regular Service
END:VEVENT
BEGIN:VEVENT
DTSTART;TZID=America/Chicago:20230409T094500
DTEND;TZID=America/Chicago:20230409T104500
DTSTAMP:20260420T042750
CREATED:20230109T140819Z
LAST-MODIFIED:20230409T130925Z
UID:9395-1681033500-1681037100@loverabaptist.org
SUMMARY:Sunday School
DESCRIPTION:
URL:https://loverabaptist.org/event/sunday-school-264/
CATEGORIES:Regular Service
END:VEVENT
BEGIN:VEVENT
DTSTART;TZID=America/Chicago:20230405T190000
DTEND;TZID=America/Chicago:20230405T200000
DTSTAMP:20260420T042750
CREATED:20230106T140753Z
LAST-MODIFIED:20230405T124312Z
UID:9390-1680721200-1680724800@loverabaptist.org
SUMMARY:Worship Service
DESCRIPTION:
URL:https://loverabaptist.org/event/worship-service-474/
CATEGORIES:Regular Service
END:VEVENT
BEGIN:VEVENT
DTSTART;TZID=America/Chicago:20230402T110000
DTEND;TZID=America/Chicago:20230402T120000
DTSTAMP:20260420T042750
CREATED:20230102T133821Z
LAST-MODIFIED:20230402T122420Z
UID:9383-1680433200-1680436800@loverabaptist.org
SUMMARY:Worship Service
DESCRIPTION:
URL:https://loverabaptist.org/event/worship-service-463/
CATEGORIES:Regular Service
END:VEVENT
BEGIN:VEVENT
DTSTART;TZID=America/Chicago:20230402T094500
DTEND;TZID=America/Chicago:20230402T104500
DTSTAMP:20260420T042750
CREATED:20230102T133821Z
LAST-MODIFIED:20230402T122420Z
UID:9382-1680428700-1680432300@loverabaptist.org
SUMMARY:Sunday School
DESCRIPTION:
URL:https://loverabaptist.org/event/sunday-school-258/
CATEGORIES:Regular Service
END:VEVENT
BEGIN:VEVENT
DTSTART;TZID=America/Chicago:20230329T190000
DTEND;TZID=America/Chicago:20230329T200000
DTSTAMP:20260420T042750
CREATED:20221230T133940Z
LAST-MODIFIED:20230329T233924Z
UID:9377-1680116400-1680120000@loverabaptist.org
SUMMARY:Worship Service
DESCRIPTION:
URL:https://loverabaptist.org/event/worship-service-462/
CATEGORIES:Regular Service
END:VEVENT
BEGIN:VEVENT
DTSTART;TZID=America/Chicago:20230326T110000
DTEND;TZID=America/Chicago:20230326T120000
DTSTAMP:20260420T042750
CREATED:20221226T132250Z
LAST-MODIFIED:20230325T232502Z
UID:9370-1679828400-1679832000@loverabaptist.org
SUMMARY:Worship Service
DESCRIPTION:
URL:https://loverabaptist.org/event/worship-service-461/
CATEGORIES:Regular Service
END:VEVENT
BEGIN:VEVENT
DTSTART;TZID=America/Chicago:20230326T094500
DTEND;TZID=America/Chicago:20230326T104500
DTSTAMP:20260420T042750
CREATED:20221226T132249Z
LAST-MODIFIED:20230325T232502Z
UID:9369-1679823900-1679827500@loverabaptist.org
SUMMARY:Sunday School
DESCRIPTION:
URL:https://loverabaptist.org/event/sunday-school-257/
CATEGORIES:Regular Service
END:VEVENT
BEGIN:VEVENT
DTSTART;TZID=America/Chicago:20230322T190000
DTEND;TZID=America/Chicago:20230322T200000
DTSTAMP:20260420T042750
CREATED:20221223T132334Z
LAST-MODIFIED:20230322T225940Z
UID:9364-1679511600-1679515200@loverabaptist.org
SUMMARY:Worship Service
DESCRIPTION:
URL:https://loverabaptist.org/event/worship-service-460/
CATEGORIES:Regular Service
END:VEVENT
BEGIN:VEVENT
DTSTART;TZID=America/Chicago:20230319T110000
DTEND;TZID=America/Chicago:20230319T120000
DTSTAMP:20260420T042750
CREATED:20221219T132309Z
LAST-MODIFIED:20230318T222445Z
UID:9357-1679223600-1679227200@loverabaptist.org
SUMMARY:Worship Service
DESCRIPTION:
URL:https://loverabaptist.org/event/worship-service-459/
CATEGORIES:Regular Service
END:VEVENT
BEGIN:VEVENT
DTSTART;TZID=America/Chicago:20230319T094500
DTEND;TZID=America/Chicago:20230319T104500
DTSTAMP:20260420T042750
CREATED:20221219T132309Z
LAST-MODIFIED:20230318T222444Z
UID:9356-1679219100-1679222700@loverabaptist.org
SUMMARY:Sunday School
DESCRIPTION:
URL:https://loverabaptist.org/event/sunday-school-256/
CATEGORIES:Regular Service
END:VEVENT
BEGIN:VEVENT
DTSTART;TZID=America/Chicago:20230315T190000
DTEND;TZID=America/Chicago:20230315T200000
DTSTAMP:20260420T042750
CREATED:20221216T130748Z
LAST-MODIFIED:20230315T215435Z
UID:9351-1678906800-1678910400@loverabaptist.org
SUMMARY:Worship Service
DESCRIPTION:
URL:https://loverabaptist.org/event/worship-service-458/
CATEGORIES:Regular Service
END:VEVENT
BEGIN:VEVENT
DTSTART;TZID=America/Chicago:20230312T110000
DTEND;TZID=America/Chicago:20230312T120000
DTSTAMP:20260420T042750
CREATED:20221212T130750Z
LAST-MODIFIED:20230311T211102Z
UID:9344-1678618800-1678622400@loverabaptist.org
SUMMARY:Worship Service
DESCRIPTION:
URL:https://loverabaptist.org/event/worship-service-457/
CATEGORIES:Regular Service
END:VEVENT
BEGIN:VEVENT
DTSTART;TZID=America/Chicago:20230312T094500
DTEND;TZID=America/Chicago:20230312T104500
DTSTAMP:20260420T042750
CREATED:20221212T130750Z
LAST-MODIFIED:20230311T211102Z
UID:9343-1678614300-1678617900@loverabaptist.org
SUMMARY:Sunday School
DESCRIPTION:
URL:https://loverabaptist.org/event/sunday-school-255/
CATEGORIES:Regular Service
END:VEVENT
BEGIN:VEVENT
DTSTART;TZID=America/Chicago:20230308T190000
DTEND;TZID=America/Chicago:20230308T200000
DTSTAMP:20260420T042750
CREATED:20221209T130739Z
LAST-MODIFIED:20230308T205537Z
UID:9338-1678302000-1678305600@loverabaptist.org
SUMMARY:Worship Service
DESCRIPTION:
URL:https://loverabaptist.org/event/worship-service-456/
CATEGORIES:Regular Service
END:VEVENT
BEGIN:VEVENT
DTSTART;TZID=America/Chicago:20230305T110000
DTEND;TZID=America/Chicago:20230305T120000
DTSTAMP:20260420T042750
CREATED:20221205T131021Z
LAST-MODIFIED:20230304T202654Z
UID:9331-1678014000-1678017600@loverabaptist.org
SUMMARY:Worship Service
DESCRIPTION:
URL:https://loverabaptist.org/event/worship-service-455/
CATEGORIES:Regular Service
END:VEVENT
BEGIN:VEVENT
DTSTART;TZID=America/Chicago:20230305T094500
DTEND;TZID=America/Chicago:20230305T104500
DTSTAMP:20260420T042750
CREATED:20221205T131021Z
LAST-MODIFIED:20230304T202654Z
UID:9330-1678009500-1678013100@loverabaptist.org
SUMMARY:Sunday School
DESCRIPTION:
URL:https://loverabaptist.org/event/sunday-school-254/
CATEGORIES:Regular Service
END:VEVENT
BEGIN:VEVENT
DTSTART;TZID=America/Chicago:20230301T190000
DTEND;TZID=America/Chicago:20230301T200000
DTSTAMP:20260420T042750
CREATED:20221202T125526Z
LAST-MODIFIED:20230301T200956Z
UID:9325-1677697200-1677700800@loverabaptist.org
SUMMARY:Worship Service
DESCRIPTION:
URL:https://loverabaptist.org/event/worship-service-454/
CATEGORIES:Regular Service
END:VEVENT
BEGIN:VEVENT
DTSTART;TZID=America/Chicago:20230226T110000
DTEND;TZID=America/Chicago:20230226T120000
DTSTAMP:20260420T042750
CREATED:20221128T123745Z
LAST-MODIFIED:20230225T193937Z
UID:9318-1677409200-1677412800@loverabaptist.org
SUMMARY:Worship Service
DESCRIPTION:
URL:https://loverabaptist.org/event/worship-service-453/
CATEGORIES:Regular Service
END:VEVENT
BEGIN:VEVENT
DTSTART;TZID=America/Chicago:20230226T094500
DTEND;TZID=America/Chicago:20230226T104500
DTSTAMP:20260420T042750
CREATED:20221128T123745Z
LAST-MODIFIED:20230225T193937Z
UID:9317-1677404700-1677408300@loverabaptist.org
SUMMARY:Sunday School
DESCRIPTION:
URL:https://loverabaptist.org/event/sunday-school-253/
CATEGORIES:Regular Service
END:VEVENT
BEGIN:VEVENT
DTSTART;TZID=America/Chicago:20230222T190000
DTEND;TZID=America/Chicago:20230222T200000
DTSTAMP:20260420T042750
CREATED:20221125T122721Z
LAST-MODIFIED:20230222T190901Z
UID:9312-1677092400-1677096000@loverabaptist.org
SUMMARY:Worship Service
DESCRIPTION:
URL:https://loverabaptist.org/event/worship-service-452/
CATEGORIES:Regular Service
END:VEVENT
BEGIN:VEVENT
DTSTART;TZID=America/Chicago:20230219T110000
DTEND;TZID=America/Chicago:20230219T120000
DTSTAMP:20260420T042750
CREATED:20221121T120945Z
LAST-MODIFIED:20230218T184127Z
UID:9305-1676804400-1676808000@loverabaptist.org
SUMMARY:Worship Service
DESCRIPTION:
URL:https://loverabaptist.org/event/worship-service-451/
CATEGORIES:Regular Service
END:VEVENT
BEGIN:VEVENT
DTSTART;TZID=America/Chicago:20230219T094500
DTEND;TZID=America/Chicago:20230219T104500
DTSTAMP:20260420T042750
CREATED:20221121T120944Z
LAST-MODIFIED:20230218T184127Z
UID:9304-1676799900-1676803500@loverabaptist.org
SUMMARY:Sunday School
DESCRIPTION:
URL:https://loverabaptist.org/event/sunday-school-252/
CATEGORIES:Regular Service
END:VEVENT
BEGIN:VEVENT
DTSTART;TZID=America/Chicago:20230215T190000
DTEND;TZID=America/Chicago:20230215T200000
DTSTAMP:20260420T042750
CREATED:20221118T120838Z
LAST-MODIFIED:20230215T182517Z
UID:9299-1676487600-1676491200@loverabaptist.org
SUMMARY:Worship Service
DESCRIPTION:
URL:https://loverabaptist.org/event/worship-service-450/
CATEGORIES:Regular Service
END:VEVENT
BEGIN:VEVENT
DTSTART;TZID=America/Chicago:20230212T110000
DTEND;TZID=America/Chicago:20230212T120000
DTSTAMP:20260420T042750
CREATED:20221114T235632Z
LAST-MODIFIED:20230211T180809Z
UID:9293-1676199600-1676203200@loverabaptist.org
SUMMARY:Worship Service
DESCRIPTION:
URL:https://loverabaptist.org/event/worship-service-449/
CATEGORIES:Regular Service
END:VEVENT
BEGIN:VEVENT
DTSTART;TZID=America/Chicago:20230212T094500
DTEND;TZID=America/Chicago:20230212T104500
DTSTAMP:20260420T042750
CREATED:20221114T235632Z
LAST-MODIFIED:20230211T180808Z
UID:9292-1676195100-1676198700@loverabaptist.org
SUMMARY:Sunday School
DESCRIPTION:
URL:https://loverabaptist.org/event/sunday-school-251/
CATEGORIES:Regular Service
END:VEVENT
BEGIN:VEVENT
DTSTART;TZID=America/Chicago:20230208T190000
DTEND;TZID=America/Chicago:20230208T200000
DTSTAMP:20260420T042750
CREATED:20221111T232810Z
LAST-MODIFIED:20230208T175455Z
UID:9287-1675882800-1675886400@loverabaptist.org
SUMMARY:Worship Service
DESCRIPTION:
URL:https://loverabaptist.org/event/worship-service-448/
CATEGORIES:Regular Service
END:VEVENT
BEGIN:VEVENT
DTSTART;TZID=America/Chicago:20230205T110000
DTEND;TZID=America/Chicago:20230205T120000
DTSTAMP:20260420T042750
CREATED:20221107T174935Z
LAST-MODIFIED:20230205T172903Z
UID:9040-1675594800-1675598400@loverabaptist.org
SUMMARY:Worship Service
DESCRIPTION:
URL:https://loverabaptist.org/event/worship-service-654/
CATEGORIES:Regular Service
END:VEVENT
BEGIN:VEVENT
DTSTART;TZID=America/Chicago:20230205T094500
DTEND;TZID=America/Chicago:20230205T104500
DTSTAMP:20260420T042750
CREATED:20221107T174934Z
LAST-MODIFIED:20230204T171745Z
UID:9039-1675590300-1675593900@loverabaptist.org
SUMMARY:Sunday School
DESCRIPTION:
URL:https://loverabaptist.org/event/sunday-school-353/
CATEGORIES:Regular Service
END:VEVENT
END:VCALENDAR