BEGIN:VCALENDAR
VERSION:2.0
PRODID:-//Lovera Baptist Church San Antonio - ECPv6.15.20//NONSGML v1.0//EN
CALSCALE:GREGORIAN
METHOD:PUBLISH
X-WR-CALNAME:Lovera Baptist Church San Antonio
X-ORIGINAL-URL:https://loverabaptist.org
X-WR-CALDESC:Events for Lovera Baptist Church San Antonio
REFRESH-INTERVAL;VALUE=DURATION:PT1H
X-Robots-Tag:noindex
X-PUBLISHED-TTL:PT1H
BEGIN:VTIMEZONE
TZID:America/Chicago
BEGIN:DAYLIGHT
TZOFFSETFROM:-0600
TZOFFSETTO:-0500
TZNAME:CDT
DTSTART:20220313T080000
END:DAYLIGHT
BEGIN:STANDARD
TZOFFSETFROM:-0500
TZOFFSETTO:-0600
TZNAME:CST
DTSTART:20221106T070000
END:STANDARD
BEGIN:DAYLIGHT
TZOFFSETFROM:-0600
TZOFFSETTO:-0500
TZNAME:CDT
DTSTART:20230312T080000
END:DAYLIGHT
BEGIN:STANDARD
TZOFFSETFROM:-0500
TZOFFSETTO:-0600
TZNAME:CST
DTSTART:20231105T070000
END:STANDARD
BEGIN:DAYLIGHT
TZOFFSETFROM:-0600
TZOFFSETTO:-0500
TZNAME:CDT
DTSTART:20240310T080000
END:DAYLIGHT
BEGIN:STANDARD
TZOFFSETFROM:-0500
TZOFFSETTO:-0600
TZNAME:CST
DTSTART:20241103T070000
END:STANDARD
END:VTIMEZONE
BEGIN:VEVENT
DTSTART;TZID=America/Chicago:20230528T110000
DTEND;TZID=America/Chicago:20230528T120000
DTSTAMP:20260420T011504
CREATED:20230227T195752Z
LAST-MODIFIED:20230426T143921Z
UID:9487-1685271600-1685275200@loverabaptist.org
SUMMARY:Worship Service
DESCRIPTION:
URL:https://loverabaptist.org/event/worship-service-489/
CATEGORIES:Regular Service
END:VEVENT
BEGIN:VEVENT
DTSTART;TZID=America/Chicago:20230528T094500
DTEND;TZID=America/Chicago:20230528T104500
DTSTAMP:20260420T011504
CREATED:20230227T195751Z
LAST-MODIFIED:20230426T143921Z
UID:9486-1685267100-1685270700@loverabaptist.org
SUMMARY:Sunday School
DESCRIPTION:
URL:https://loverabaptist.org/event/sunday-school-271/
CATEGORIES:Regular Service
END:VEVENT
BEGIN:VEVENT
DTSTART;TZID=America/Chicago:20230524T190000
DTEND;TZID=America/Chicago:20230524T200000
DTSTAMP:20260420T011504
CREATED:20230224T192513Z
LAST-MODIFIED:20230426T143920Z
UID:9481-1684954800-1684958400@loverabaptist.org
SUMMARY:Worship Service
DESCRIPTION:
URL:https://loverabaptist.org/event/worship-service-488/
CATEGORIES:Regular Service
END:VEVENT
BEGIN:VEVENT
DTSTART;TZID=America/Chicago:20230521T110000
DTEND;TZID=America/Chicago:20230521T120000
DTSTAMP:20260420T011504
CREATED:20230220T190727Z
LAST-MODIFIED:20230426T143920Z
UID:9474-1684666800-1684670400@loverabaptist.org
SUMMARY:Worship Service
DESCRIPTION:
URL:https://loverabaptist.org/event/worship-service-487/
CATEGORIES:Regular Service
END:VEVENT
BEGIN:VEVENT
DTSTART;TZID=America/Chicago:20230521T094500
DTEND;TZID=America/Chicago:20230521T104500
DTSTAMP:20260420T011504
CREATED:20230220T190727Z
LAST-MODIFIED:20230426T143920Z
UID:9473-1684662300-1684665900@loverabaptist.org
SUMMARY:Sunday School
DESCRIPTION:
URL:https://loverabaptist.org/event/sunday-school-270/
CATEGORIES:Regular Service
END:VEVENT
BEGIN:VEVENT
DTSTART;TZID=America/Chicago:20230517T190000
DTEND;TZID=America/Chicago:20230517T200000
DTSTAMP:20260420T011504
CREATED:20230217T182637Z
LAST-MODIFIED:20230426T143920Z
UID:9468-1684350000-1684353600@loverabaptist.org
SUMMARY:Worship Service
DESCRIPTION:
URL:https://loverabaptist.org/event/worship-service-486/
CATEGORIES:Regular Service
END:VEVENT
BEGIN:VEVENT
DTSTART;TZID=America/Chicago:20230514T110000
DTEND;TZID=America/Chicago:20230514T120000
DTSTAMP:20260420T011504
CREATED:20230213T181036Z
LAST-MODIFIED:20230426T143920Z
UID:9461-1684062000-1684065600@loverabaptist.org
SUMMARY:Worship Service
DESCRIPTION:
URL:https://loverabaptist.org/event/worship-service-485/
CATEGORIES:Regular Service
END:VEVENT
BEGIN:VEVENT
DTSTART;TZID=America/Chicago:20230514T094500
DTEND;TZID=America/Chicago:20230514T104500
DTSTAMP:20260420T011504
CREATED:20230213T181036Z
LAST-MODIFIED:20230426T143919Z
UID:9460-1684057500-1684061100@loverabaptist.org
SUMMARY:Sunday School
DESCRIPTION:
URL:https://loverabaptist.org/event/sunday-school-269/
CATEGORIES:Regular Service
END:VEVENT
BEGIN:VEVENT
DTSTART;TZID=America/Chicago:20230510T190000
DTEND;TZID=America/Chicago:20230510T200000
DTSTAMP:20260420T011504
CREATED:20230210T175553Z
LAST-MODIFIED:20230426T143919Z
UID:9455-1683745200-1683748800@loverabaptist.org
SUMMARY:Worship Service
DESCRIPTION:
URL:https://loverabaptist.org/event/worship-service-484/
CATEGORIES:Regular Service
END:VEVENT
BEGIN:VEVENT
DTSTART;TZID=America/Chicago:20230507T110000
DTEND;TZID=America/Chicago:20230507T120000
DTSTAMP:20260420T011504
CREATED:20230206T175119Z
LAST-MODIFIED:20230426T143919Z
UID:9448-1683457200-1683460800@loverabaptist.org
SUMMARY:Worship Service
DESCRIPTION:
URL:https://loverabaptist.org/event/worship-service-483/
CATEGORIES:Regular Service
END:VEVENT
BEGIN:VEVENT
DTSTART;TZID=America/Chicago:20230507T094500
DTEND;TZID=America/Chicago:20230507T104500
DTSTAMP:20260420T011504
CREATED:20230206T175119Z
LAST-MODIFIED:20230426T143919Z
UID:9447-1683452700-1683456300@loverabaptist.org
SUMMARY:Sunday School
DESCRIPTION:
URL:https://loverabaptist.org/event/sunday-school-268/
CATEGORIES:Regular Service
END:VEVENT
BEGIN:VEVENT
DTSTART;TZID=America/Chicago:20230503T190000
DTEND;TZID=America/Chicago:20230503T200000
DTSTAMP:20260420T011504
CREATED:20230203T165607Z
LAST-MODIFIED:20230426T143919Z
UID:9442-1683140400-1683144000@loverabaptist.org
SUMMARY:Worship Service
DESCRIPTION:
URL:https://loverabaptist.org/event/worship-service-482/
CATEGORIES:Regular Service
END:VEVENT
BEGIN:VEVENT
DTSTART;TZID=America/Chicago:20230430T110000
DTEND;TZID=America/Chicago:20230430T120000
DTSTAMP:20260420T011504
CREATED:20230130T164007Z
LAST-MODIFIED:20230426T143919Z
UID:9435-1682852400-1682856000@loverabaptist.org
SUMMARY:Worship Service
DESCRIPTION:
URL:https://loverabaptist.org/event/worship-service-481/
CATEGORIES:Regular Service
END:VEVENT
BEGIN:VEVENT
DTSTART;TZID=America/Chicago:20230430T094500
DTEND;TZID=America/Chicago:20230430T104500
DTSTAMP:20260420T011504
CREATED:20230130T164007Z
LAST-MODIFIED:20230426T143918Z
UID:9434-1682847900-1682851500@loverabaptist.org
SUMMARY:Sunday School
DESCRIPTION:
URL:https://loverabaptist.org/event/sunday-school-267/
CATEGORIES:Regular Service
END:VEVENT
BEGIN:VEVENT
DTSTART;TZID=America/Chicago:20230426T190000
DTEND;TZID=America/Chicago:20230426T200000
DTSTAMP:20260420T011504
CREATED:20230127T162254Z
LAST-MODIFIED:20230426T143918Z
UID:9429-1682535600-1682539200@loverabaptist.org
SUMMARY:Worship Service
DESCRIPTION:
URL:https://loverabaptist.org/event/worship-service-480/
CATEGORIES:Regular Service
END:VEVENT
BEGIN:VEVENT
DTSTART;TZID=America/Chicago:20230423T110000
DTEND;TZID=America/Chicago:20230423T120000
DTSTAMP:20260420T011504
CREATED:20230123T155308Z
LAST-MODIFIED:20230423T140827Z
UID:9422-1682247600-1682251200@loverabaptist.org
SUMMARY:Worship Service
DESCRIPTION:
URL:https://loverabaptist.org/event/worship-service-479/
CATEGORIES:Regular Service
END:VEVENT
BEGIN:VEVENT
DTSTART;TZID=America/Chicago:20230423T094500
DTEND;TZID=America/Chicago:20230423T104500
DTSTAMP:20260420T011504
CREATED:20230123T155308Z
LAST-MODIFIED:20230423T140827Z
UID:9421-1682243100-1682246700@loverabaptist.org
SUMMARY:Sunday School
DESCRIPTION:
URL:https://loverabaptist.org/event/sunday-school-266/
CATEGORIES:Regular Service
END:VEVENT
BEGIN:VEVENT
DTSTART;TZID=America/Chicago:20230419T190000
DTEND;TZID=America/Chicago:20230419T200000
DTSTAMP:20260420T011504
CREATED:20230120T152308Z
LAST-MODIFIED:20230419T141150Z
UID:9416-1681930800-1681934400@loverabaptist.org
SUMMARY:Worship Service
DESCRIPTION:
URL:https://loverabaptist.org/event/worship-service-478/
CATEGORIES:Regular Service
END:VEVENT
BEGIN:VEVENT
DTSTART;TZID=America/Chicago:20230416T110000
DTEND;TZID=America/Chicago:20230416T120000
DTSTAMP:20260420T011504
CREATED:20230116T145447Z
LAST-MODIFIED:20230416T135240Z
UID:9409-1681642800-1681646400@loverabaptist.org
SUMMARY:Worship Service
DESCRIPTION:
URL:https://loverabaptist.org/event/worship-service-477/
CATEGORIES:Regular Service
END:VEVENT
BEGIN:VEVENT
DTSTART;TZID=America/Chicago:20230416T094500
DTEND;TZID=America/Chicago:20230416T104500
DTSTAMP:20260420T011504
CREATED:20230116T145447Z
LAST-MODIFIED:20230416T135240Z
UID:9408-1681638300-1681641900@loverabaptist.org
SUMMARY:Sunday School
DESCRIPTION:
URL:https://loverabaptist.org/event/sunday-school-265/
CATEGORIES:Regular Service
END:VEVENT
BEGIN:VEVENT
DTSTART;TZID=America/Chicago:20230412T190000
DTEND;TZID=America/Chicago:20230412T200000
DTSTAMP:20260420T011504
CREATED:20230113T143406Z
LAST-MODIFIED:20230412T132407Z
UID:9403-1681326000-1681329600@loverabaptist.org
SUMMARY:Worship Service
DESCRIPTION:
URL:https://loverabaptist.org/event/worship-service-476/
CATEGORIES:Regular Service
END:VEVENT
BEGIN:VEVENT
DTSTART;TZID=America/Chicago:20230409T110000
DTEND;TZID=America/Chicago:20230409T120000
DTSTAMP:20260420T011504
CREATED:20230109T140819Z
LAST-MODIFIED:20230409T130925Z
UID:9396-1681038000-1681041600@loverabaptist.org
SUMMARY:Worship Service
DESCRIPTION:
URL:https://loverabaptist.org/event/worship-service-475/
CATEGORIES:Regular Service
END:VEVENT
BEGIN:VEVENT
DTSTART;TZID=America/Chicago:20230409T094500
DTEND;TZID=America/Chicago:20230409T104500
DTSTAMP:20260420T011504
CREATED:20230109T140819Z
LAST-MODIFIED:20230409T130925Z
UID:9395-1681033500-1681037100@loverabaptist.org
SUMMARY:Sunday School
DESCRIPTION:
URL:https://loverabaptist.org/event/sunday-school-264/
CATEGORIES:Regular Service
END:VEVENT
BEGIN:VEVENT
DTSTART;TZID=America/Chicago:20230405T190000
DTEND;TZID=America/Chicago:20230405T200000
DTSTAMP:20260420T011504
CREATED:20230106T140753Z
LAST-MODIFIED:20230405T124312Z
UID:9390-1680721200-1680724800@loverabaptist.org
SUMMARY:Worship Service
DESCRIPTION:
URL:https://loverabaptist.org/event/worship-service-474/
CATEGORIES:Regular Service
END:VEVENT
BEGIN:VEVENT
DTSTART;TZID=America/Chicago:20230402T110000
DTEND;TZID=America/Chicago:20230402T120000
DTSTAMP:20260420T011504
CREATED:20230102T133821Z
LAST-MODIFIED:20230402T122420Z
UID:9383-1680433200-1680436800@loverabaptist.org
SUMMARY:Worship Service
DESCRIPTION:
URL:https://loverabaptist.org/event/worship-service-463/
CATEGORIES:Regular Service
END:VEVENT
BEGIN:VEVENT
DTSTART;TZID=America/Chicago:20230402T094500
DTEND;TZID=America/Chicago:20230402T104500
DTSTAMP:20260420T011504
CREATED:20230102T133821Z
LAST-MODIFIED:20230402T122420Z
UID:9382-1680428700-1680432300@loverabaptist.org
SUMMARY:Sunday School
DESCRIPTION:
URL:https://loverabaptist.org/event/sunday-school-258/
CATEGORIES:Regular Service
END:VEVENT
BEGIN:VEVENT
DTSTART;TZID=America/Chicago:20230329T190000
DTEND;TZID=America/Chicago:20230329T200000
DTSTAMP:20260420T011504
CREATED:20221230T133940Z
LAST-MODIFIED:20230329T233924Z
UID:9377-1680116400-1680120000@loverabaptist.org
SUMMARY:Worship Service
DESCRIPTION:
URL:https://loverabaptist.org/event/worship-service-462/
CATEGORIES:Regular Service
END:VEVENT
BEGIN:VEVENT
DTSTART;TZID=America/Chicago:20230326T110000
DTEND;TZID=America/Chicago:20230326T120000
DTSTAMP:20260420T011504
CREATED:20221226T132250Z
LAST-MODIFIED:20230325T232502Z
UID:9370-1679828400-1679832000@loverabaptist.org
SUMMARY:Worship Service
DESCRIPTION:
URL:https://loverabaptist.org/event/worship-service-461/
CATEGORIES:Regular Service
END:VEVENT
BEGIN:VEVENT
DTSTART;TZID=America/Chicago:20230326T094500
DTEND;TZID=America/Chicago:20230326T104500
DTSTAMP:20260420T011504
CREATED:20221226T132249Z
LAST-MODIFIED:20230325T232502Z
UID:9369-1679823900-1679827500@loverabaptist.org
SUMMARY:Sunday School
DESCRIPTION:
URL:https://loverabaptist.org/event/sunday-school-257/
CATEGORIES:Regular Service
END:VEVENT
BEGIN:VEVENT
DTSTART;TZID=America/Chicago:20230322T190000
DTEND;TZID=America/Chicago:20230322T200000
DTSTAMP:20260420T011504
CREATED:20221223T132334Z
LAST-MODIFIED:20230322T225940Z
UID:9364-1679511600-1679515200@loverabaptist.org
SUMMARY:Worship Service
DESCRIPTION:
URL:https://loverabaptist.org/event/worship-service-460/
CATEGORIES:Regular Service
END:VEVENT
END:VCALENDAR