BEGIN:VCALENDAR
VERSION:2.0
PRODID:-//Lovera Baptist Church San Antonio - ECPv6.15.20//NONSGML v1.0//EN
CALSCALE:GREGORIAN
METHOD:PUBLISH
X-ORIGINAL-URL:https://loverabaptist.org
X-WR-CALDESC:Events for Lovera Baptist Church San Antonio
REFRESH-INTERVAL;VALUE=DURATION:PT1H
X-Robots-Tag:noindex
X-PUBLISHED-TTL:PT1H
BEGIN:VTIMEZONE
TZID:America/Chicago
BEGIN:DAYLIGHT
TZOFFSETFROM:-0600
TZOFFSETTO:-0500
TZNAME:CDT
DTSTART:20220313T080000
END:DAYLIGHT
BEGIN:STANDARD
TZOFFSETFROM:-0500
TZOFFSETTO:-0600
TZNAME:CST
DTSTART:20221106T070000
END:STANDARD
BEGIN:DAYLIGHT
TZOFFSETFROM:-0600
TZOFFSETTO:-0500
TZNAME:CDT
DTSTART:20230312T080000
END:DAYLIGHT
BEGIN:STANDARD
TZOFFSETFROM:-0500
TZOFFSETTO:-0600
TZNAME:CST
DTSTART:20231105T070000
END:STANDARD
BEGIN:DAYLIGHT
TZOFFSETFROM:-0600
TZOFFSETTO:-0500
TZNAME:CDT
DTSTART:20240310T080000
END:DAYLIGHT
BEGIN:STANDARD
TZOFFSETFROM:-0500
TZOFFSETTO:-0600
TZNAME:CST
DTSTART:20241103T070000
END:STANDARD
END:VTIMEZONE
BEGIN:VEVENT
DTSTART;TZID=America/Chicago:20230716T094500
DTEND;TZID=America/Chicago:20230716T104500
DTSTAMP:20260419T220341
CREATED:20230417T135505Z
LAST-MODIFIED:20230426T143925Z
UID:9576-1689500700-1689504300@loverabaptist.org
SUMMARY:Sunday School
DESCRIPTION:
URL:https://loverabaptist.org/event/sunday-school-282/
CATEGORIES:Regular Service
END:VEVENT
BEGIN:VEVENT
DTSTART;TZID=America/Chicago:20230712T190000
DTEND;TZID=America/Chicago:20230712T200000
DTSTAMP:20260419T220341
CREATED:20230414T133905Z
LAST-MODIFIED:20230426T143925Z
UID:9571-1689188400-1689192000@loverabaptist.org
SUMMARY:Worship Service
DESCRIPTION:
URL:https://loverabaptist.org/event/worship-service-511/
CATEGORIES:Regular Service
END:VEVENT
BEGIN:VEVENT
DTSTART;TZID=America/Chicago:20230709T110000
DTEND;TZID=America/Chicago:20230709T120000
DTSTAMP:20260419T220341
CREATED:20230410T132515Z
LAST-MODIFIED:20230426T143925Z
UID:9564-1688900400-1688904000@loverabaptist.org
SUMMARY:Worship Service
DESCRIPTION:
URL:https://loverabaptist.org/event/worship-service-510/
CATEGORIES:Regular Service
END:VEVENT
BEGIN:VEVENT
DTSTART;TZID=America/Chicago:20230709T094500
DTEND;TZID=America/Chicago:20230709T104500
DTSTAMP:20260419T220341
CREATED:20230410T132515Z
LAST-MODIFIED:20230426T143924Z
UID:9563-1688895900-1688899500@loverabaptist.org
SUMMARY:Sunday School
DESCRIPTION:
URL:https://loverabaptist.org/event/sunday-school-281/
CATEGORIES:Regular Service
END:VEVENT
BEGIN:VEVENT
DTSTART;TZID=America/Chicago:20230705T190000
DTEND;TZID=America/Chicago:20230705T200000
DTSTAMP:20260419T220341
CREATED:20230407T130847Z
LAST-MODIFIED:20230426T143924Z
UID:9558-1688583600-1688587200@loverabaptist.org
SUMMARY:Worship Service
DESCRIPTION:
URL:https://loverabaptist.org/event/worship-service-509/
CATEGORIES:Regular Service
END:VEVENT
BEGIN:VEVENT
DTSTART;TZID=America/Chicago:20230702T110000
DTEND;TZID=America/Chicago:20230702T120000
DTSTAMP:20260419T220341
CREATED:20230403T122413Z
LAST-MODIFIED:20230426T143924Z
UID:9551-1688295600-1688299200@loverabaptist.org
SUMMARY:Worship Service
DESCRIPTION:
URL:https://loverabaptist.org/event/worship-service-508/
CATEGORIES:Regular Service
END:VEVENT
BEGIN:VEVENT
DTSTART;TZID=America/Chicago:20230702T094500
DTEND;TZID=America/Chicago:20230702T104500
DTSTAMP:20260419T220341
CREATED:20230403T122413Z
LAST-MODIFIED:20230426T143924Z
UID:9550-1688291100-1688294700@loverabaptist.org
SUMMARY:Sunday School
DESCRIPTION:
URL:https://loverabaptist.org/event/sunday-school-280/
CATEGORIES:Regular Service
END:VEVENT
BEGIN:VEVENT
DTSTART;TZID=America/Chicago:20230628T190000
DTEND;TZID=America/Chicago:20230628T200000
DTSTAMP:20260419T220341
CREATED:20230401T121316Z
LAST-MODIFIED:20230426T143924Z
UID:9546-1687978800-1687982400@loverabaptist.org
SUMMARY:Worship Service
DESCRIPTION:
URL:https://loverabaptist.org/event/worship-service-507/
CATEGORIES:Regular Service
END:VEVENT
BEGIN:VEVENT
DTSTART;TZID=America/Chicago:20230625T110000
DTEND;TZID=America/Chicago:20230625T120000
DTSTAMP:20260419T220341
CREATED:20230327T233901Z
LAST-MODIFIED:20230426T143923Z
UID:9539-1687690800-1687694400@loverabaptist.org
SUMMARY:Worship Service
DESCRIPTION:
URL:https://loverabaptist.org/event/worship-service-506/
CATEGORIES:Regular Service
END:VEVENT
BEGIN:VEVENT
DTSTART;TZID=America/Chicago:20230625T094500
DTEND;TZID=America/Chicago:20230625T104500
DTSTAMP:20260419T220341
CREATED:20230327T233900Z
LAST-MODIFIED:20230426T143923Z
UID:9538-1687686300-1687689900@loverabaptist.org
SUMMARY:Sunday School
DESCRIPTION:
URL:https://loverabaptist.org/event/sunday-school-279/
CATEGORIES:Regular Service
END:VEVENT
BEGIN:VEVENT
DTSTART;TZID=America/Chicago:20230621T190000
DTEND;TZID=America/Chicago:20230621T200000
DTSTAMP:20260419T220341
CREATED:20230324T232410Z
LAST-MODIFIED:20230426T143923Z
UID:9533-1687374000-1687377600@loverabaptist.org
SUMMARY:Worship Service
DESCRIPTION:
URL:https://loverabaptist.org/event/worship-service-505/
CATEGORIES:Regular Service
END:VEVENT
BEGIN:VEVENT
DTSTART;TZID=America/Chicago:20230618T110000
DTEND;TZID=America/Chicago:20230618T120000
DTSTAMP:20260419T220341
CREATED:20230320T224146Z
LAST-MODIFIED:20230426T143923Z
UID:9526-1687086000-1687089600@loverabaptist.org
SUMMARY:Worship Service
DESCRIPTION:
URL:https://loverabaptist.org/event/worship-service-504/
CATEGORIES:Regular Service
END:VEVENT
BEGIN:VEVENT
DTSTART;TZID=America/Chicago:20230618T094500
DTEND;TZID=America/Chicago:20230618T104500
DTSTAMP:20260419T220341
CREATED:20230320T224145Z
LAST-MODIFIED:20230426T143922Z
UID:9525-1687081500-1687085100@loverabaptist.org
SUMMARY:Sunday School
DESCRIPTION:
URL:https://loverabaptist.org/event/sunday-school-278/
CATEGORIES:Regular Service
END:VEVENT
BEGIN:VEVENT
DTSTART;TZID=America/Chicago:20230614T190000
DTEND;TZID=America/Chicago:20230614T200000
DTSTAMP:20260419T220341
CREATED:20230317T221234Z
LAST-MODIFIED:20230426T143922Z
UID:9520-1686769200-1686772800@loverabaptist.org
SUMMARY:Worship Service
DESCRIPTION:
URL:https://loverabaptist.org/event/worship-service-503/
CATEGORIES:Regular Service
END:VEVENT
BEGIN:VEVENT
DTSTART;TZID=America/Chicago:20230611T110000
DTEND;TZID=America/Chicago:20230611T120000
DTSTAMP:20260419T220341
CREATED:20230313T212624Z
LAST-MODIFIED:20230426T143922Z
UID:9513-1686481200-1686484800@loverabaptist.org
SUMMARY:Worship Service
DESCRIPTION:
URL:https://loverabaptist.org/event/worship-service-502/
CATEGORIES:Regular Service
END:VEVENT
BEGIN:VEVENT
DTSTART;TZID=America/Chicago:20230611T094500
DTEND;TZID=America/Chicago:20230611T104500
DTSTAMP:20260419T220341
CREATED:20230313T212624Z
LAST-MODIFIED:20230426T143922Z
UID:9512-1686476700-1686480300@loverabaptist.org
SUMMARY:Sunday School
DESCRIPTION:
URL:https://loverabaptist.org/event/sunday-school-277/
CATEGORIES:Regular Service
END:VEVENT
BEGIN:VEVENT
DTSTART;TZID=America/Chicago:20230607T190000
DTEND;TZID=America/Chicago:20230607T200000
DTSTAMP:20260419T220341
CREATED:20230310T210851Z
LAST-MODIFIED:20230426T143922Z
UID:9507-1686164400-1686168000@loverabaptist.org
SUMMARY:Worship Service
DESCRIPTION:
URL:https://loverabaptist.org/event/worship-service-501/
CATEGORIES:Regular Service
END:VEVENT
BEGIN:VEVENT
DTSTART;TZID=America/Chicago:20230604T110000
DTEND;TZID=America/Chicago:20230604T120000
DTSTAMP:20260419T220341
CREATED:20230306T203933Z
LAST-MODIFIED:20230426T143921Z
UID:9500-1685876400-1685880000@loverabaptist.org
SUMMARY:Worship Service
DESCRIPTION:
URL:https://loverabaptist.org/event/worship-service-500/
CATEGORIES:Regular Service
END:VEVENT
BEGIN:VEVENT
DTSTART;TZID=America/Chicago:20230604T094500
DTEND;TZID=America/Chicago:20230604T104500
DTSTAMP:20260419T220341
CREATED:20230306T203932Z
LAST-MODIFIED:20230426T143921Z
UID:9499-1685871900-1685875500@loverabaptist.org
SUMMARY:Sunday School
DESCRIPTION:
URL:https://loverabaptist.org/event/sunday-school-276/
CATEGORIES:Regular Service
END:VEVENT
BEGIN:VEVENT
DTSTART;TZID=America/Chicago:20230531T190000
DTEND;TZID=America/Chicago:20230531T200000
DTSTAMP:20260419T220341
CREATED:20230303T201444Z
LAST-MODIFIED:20230426T143921Z
UID:9494-1685559600-1685563200@loverabaptist.org
SUMMARY:Worship Service
DESCRIPTION:
URL:https://loverabaptist.org/event/worship-service-499/
CATEGORIES:Regular Service
END:VEVENT
BEGIN:VEVENT
DTSTART;TZID=America/Chicago:20230528T110000
DTEND;TZID=America/Chicago:20230528T120000
DTSTAMP:20260419T220341
CREATED:20230227T195752Z
LAST-MODIFIED:20230426T143921Z
UID:9487-1685271600-1685275200@loverabaptist.org
SUMMARY:Worship Service
DESCRIPTION:
URL:https://loverabaptist.org/event/worship-service-489/
CATEGORIES:Regular Service
END:VEVENT
BEGIN:VEVENT
DTSTART;TZID=America/Chicago:20230528T094500
DTEND;TZID=America/Chicago:20230528T104500
DTSTAMP:20260419T220341
CREATED:20230227T195751Z
LAST-MODIFIED:20230426T143921Z
UID:9486-1685267100-1685270700@loverabaptist.org
SUMMARY:Sunday School
DESCRIPTION:
URL:https://loverabaptist.org/event/sunday-school-271/
CATEGORIES:Regular Service
END:VEVENT
BEGIN:VEVENT
DTSTART;TZID=America/Chicago:20230524T190000
DTEND;TZID=America/Chicago:20230524T200000
DTSTAMP:20260419T220341
CREATED:20230224T192513Z
LAST-MODIFIED:20230426T143920Z
UID:9481-1684954800-1684958400@loverabaptist.org
SUMMARY:Worship Service
DESCRIPTION:
URL:https://loverabaptist.org/event/worship-service-488/
CATEGORIES:Regular Service
END:VEVENT
BEGIN:VEVENT
DTSTART;TZID=America/Chicago:20230521T110000
DTEND;TZID=America/Chicago:20230521T120000
DTSTAMP:20260419T220341
CREATED:20230220T190727Z
LAST-MODIFIED:20230426T143920Z
UID:9474-1684666800-1684670400@loverabaptist.org
SUMMARY:Worship Service
DESCRIPTION:
URL:https://loverabaptist.org/event/worship-service-487/
CATEGORIES:Regular Service
END:VEVENT
BEGIN:VEVENT
DTSTART;TZID=America/Chicago:20230521T094500
DTEND;TZID=America/Chicago:20230521T104500
DTSTAMP:20260419T220341
CREATED:20230220T190727Z
LAST-MODIFIED:20230426T143920Z
UID:9473-1684662300-1684665900@loverabaptist.org
SUMMARY:Sunday School
DESCRIPTION:
URL:https://loverabaptist.org/event/sunday-school-270/
CATEGORIES:Regular Service
END:VEVENT
BEGIN:VEVENT
DTSTART;TZID=America/Chicago:20230517T190000
DTEND;TZID=America/Chicago:20230517T200000
DTSTAMP:20260419T220341
CREATED:20230217T182637Z
LAST-MODIFIED:20230426T143920Z
UID:9468-1684350000-1684353600@loverabaptist.org
SUMMARY:Worship Service
DESCRIPTION:
URL:https://loverabaptist.org/event/worship-service-486/
CATEGORIES:Regular Service
END:VEVENT
BEGIN:VEVENT
DTSTART;TZID=America/Chicago:20230514T110000
DTEND;TZID=America/Chicago:20230514T120000
DTSTAMP:20260419T220341
CREATED:20230213T181036Z
LAST-MODIFIED:20230426T143920Z
UID:9461-1684062000-1684065600@loverabaptist.org
SUMMARY:Worship Service
DESCRIPTION:
URL:https://loverabaptist.org/event/worship-service-485/
CATEGORIES:Regular Service
END:VEVENT
BEGIN:VEVENT
DTSTART;TZID=America/Chicago:20230514T094500
DTEND;TZID=America/Chicago:20230514T104500
DTSTAMP:20260419T220341
CREATED:20230213T181036Z
LAST-MODIFIED:20230426T143919Z
UID:9460-1684057500-1684061100@loverabaptist.org
SUMMARY:Sunday School
DESCRIPTION:
URL:https://loverabaptist.org/event/sunday-school-269/
CATEGORIES:Regular Service
END:VEVENT
BEGIN:VEVENT
DTSTART;TZID=America/Chicago:20230510T190000
DTEND;TZID=America/Chicago:20230510T200000
DTSTAMP:20260419T220341
CREATED:20230210T175553Z
LAST-MODIFIED:20230426T143919Z
UID:9455-1683745200-1683748800@loverabaptist.org
SUMMARY:Worship Service
DESCRIPTION:
URL:https://loverabaptist.org/event/worship-service-484/
CATEGORIES:Regular Service
END:VEVENT
BEGIN:VEVENT
DTSTART;TZID=America/Chicago:20230507T110000
DTEND;TZID=America/Chicago:20230507T120000
DTSTAMP:20260419T220341
CREATED:20230206T175119Z
LAST-MODIFIED:20230426T143919Z
UID:9448-1683457200-1683460800@loverabaptist.org
SUMMARY:Worship Service
DESCRIPTION:
URL:https://loverabaptist.org/event/worship-service-483/
CATEGORIES:Regular Service
END:VEVENT
END:VCALENDAR