BEGIN:VCALENDAR
VERSION:2.0
PRODID:-//Lovera Baptist Church San Antonio - ECPv6.15.20//NONSGML v1.0//EN
CALSCALE:GREGORIAN
METHOD:PUBLISH
X-WR-CALNAME:Lovera Baptist Church San Antonio
X-ORIGINAL-URL:https://loverabaptist.org
X-WR-CALDESC:Events for Lovera Baptist Church San Antonio
REFRESH-INTERVAL;VALUE=DURATION:PT1H
X-Robots-Tag:noindex
X-PUBLISHED-TTL:PT1H
BEGIN:VTIMEZONE
TZID:America/Chicago
BEGIN:DAYLIGHT
TZOFFSETFROM:-0600
TZOFFSETTO:-0500
TZNAME:CDT
DTSTART:20230312T080000
END:DAYLIGHT
BEGIN:STANDARD
TZOFFSETFROM:-0500
TZOFFSETTO:-0600
TZNAME:CST
DTSTART:20231105T070000
END:STANDARD
BEGIN:DAYLIGHT
TZOFFSETFROM:-0600
TZOFFSETTO:-0500
TZNAME:CDT
DTSTART:20240310T080000
END:DAYLIGHT
BEGIN:STANDARD
TZOFFSETFROM:-0500
TZOFFSETTO:-0600
TZNAME:CST
DTSTART:20241103T070000
END:STANDARD
BEGIN:DAYLIGHT
TZOFFSETFROM:-0600
TZOFFSETTO:-0500
TZNAME:CDT
DTSTART:20250309T080000
END:DAYLIGHT
BEGIN:STANDARD
TZOFFSETFROM:-0500
TZOFFSETTO:-0600
TZNAME:CST
DTSTART:20251102T070000
END:STANDARD
END:VTIMEZONE
BEGIN:VEVENT
DTSTART;TZID=America/Chicago:20240519T110000
DTEND;TZID=America/Chicago:20240519T120000
DTSTAMP:20260419T072318
CREATED:20240219T182301Z
LAST-MODIFIED:20240221T182321Z
UID:10510-1716116400-1716120000@loverabaptist.org
SUMMARY:Worship Service
DESCRIPTION:
URL:https://loverabaptist.org/event/worship-service-606/
CATEGORIES:Regular Service
END:VEVENT
BEGIN:VEVENT
DTSTART;TZID=America/Chicago:20240519T094500
DTEND;TZID=America/Chicago:20240519T104500
DTSTAMP:20260419T072318
CREATED:20240219T182301Z
LAST-MODIFIED:20240221T182321Z
UID:10509-1716111900-1716115500@loverabaptist.org
SUMMARY:Sunday School
DESCRIPTION:
URL:https://loverabaptist.org/event/sunday-school-328/
CATEGORIES:Regular Service
END:VEVENT
BEGIN:VEVENT
DTSTART;TZID=America/Chicago:20240515T190000
DTEND;TZID=America/Chicago:20240515T200000
DTSTAMP:20260419T072318
CREATED:20240216T180734Z
LAST-MODIFIED:20240221T182321Z
UID:10504-1715799600-1715803200@loverabaptist.org
SUMMARY:Worship Service
DESCRIPTION:
URL:https://loverabaptist.org/event/worship-service-605/
CATEGORIES:Regular Service
END:VEVENT
BEGIN:VEVENT
DTSTART;TZID=America/Chicago:20240512T110000
DTEND;TZID=America/Chicago:20240512T120000
DTSTAMP:20260419T072318
CREATED:20240212T180845Z
LAST-MODIFIED:20240221T182320Z
UID:10497-1715511600-1715515200@loverabaptist.org
SUMMARY:Worship Service
DESCRIPTION:
URL:https://loverabaptist.org/event/worship-service-604/
CATEGORIES:Regular Service
END:VEVENT
BEGIN:VEVENT
DTSTART;TZID=America/Chicago:20240512T094500
DTEND;TZID=America/Chicago:20240512T104500
DTSTAMP:20260419T072318
CREATED:20240212T180844Z
LAST-MODIFIED:20240221T182320Z
UID:10496-1715507100-1715510700@loverabaptist.org
SUMMARY:Sunday School
DESCRIPTION:
URL:https://loverabaptist.org/event/sunday-school-327/
CATEGORIES:Regular Service
END:VEVENT
BEGIN:VEVENT
DTSTART;TZID=America/Chicago:20240508T190000
DTEND;TZID=America/Chicago:20240508T200000
DTSTAMP:20260419T072318
CREATED:20240209T181000Z
LAST-MODIFIED:20240221T182320Z
UID:10491-1715194800-1715198400@loverabaptist.org
SUMMARY:Worship Service
DESCRIPTION:
URL:https://loverabaptist.org/event/worship-service-603/
CATEGORIES:Regular Service
END:VEVENT
BEGIN:VEVENT
DTSTART;TZID=America/Chicago:20240505T110000
DTEND;TZID=America/Chicago:20240505T120000
DTSTAMP:20260419T072318
CREATED:20240205T175328Z
LAST-MODIFIED:20240221T182320Z
UID:10484-1714906800-1714910400@loverabaptist.org
SUMMARY:Worship Service
DESCRIPTION:
URL:https://loverabaptist.org/event/worship-service-602/
CATEGORIES:Regular Service
END:VEVENT
BEGIN:VEVENT
DTSTART;TZID=America/Chicago:20240505T094500
DTEND;TZID=America/Chicago:20240505T104500
DTSTAMP:20260419T072318
CREATED:20240205T175328Z
LAST-MODIFIED:20240221T182320Z
UID:10483-1714902300-1714905900@loverabaptist.org
SUMMARY:Sunday School
DESCRIPTION:
URL:https://loverabaptist.org/event/sunday-school-326/
CATEGORIES:Regular Service
END:VEVENT
BEGIN:VEVENT
DTSTART;TZID=America/Chicago:20240501T190000
DTEND;TZID=America/Chicago:20240501T200000
DTSTAMP:20260419T072318
CREATED:20240202T173744Z
LAST-MODIFIED:20240221T182320Z
UID:10478-1714590000-1714593600@loverabaptist.org
SUMMARY:Worship Service
DESCRIPTION:
URL:https://loverabaptist.org/event/worship-service-601/
CATEGORIES:Regular Service
END:VEVENT
BEGIN:VEVENT
DTSTART;TZID=America/Chicago:20240428T110000
DTEND;TZID=America/Chicago:20240428T120000
DTSTAMP:20260419T072318
CREATED:20240129T174050Z
LAST-MODIFIED:20240221T182320Z
UID:10471-1714302000-1714305600@loverabaptist.org
SUMMARY:Worship Service
DESCRIPTION:
URL:https://loverabaptist.org/event/worship-service-600/
CATEGORIES:Regular Service
END:VEVENT
BEGIN:VEVENT
DTSTART;TZID=America/Chicago:20240428T094500
DTEND;TZID=America/Chicago:20240428T104500
DTSTAMP:20260419T072318
CREATED:20240129T174049Z
LAST-MODIFIED:20240221T182320Z
UID:10470-1714297500-1714301100@loverabaptist.org
SUMMARY:Sunday School
DESCRIPTION:
URL:https://loverabaptist.org/event/sunday-school-321/
CATEGORIES:Regular Service
END:VEVENT
BEGIN:VEVENT
DTSTART;TZID=America/Chicago:20240424T190000
DTEND;TZID=America/Chicago:20240424T200000
DTSTAMP:20260419T072318
CREATED:20240126T173807Z
LAST-MODIFIED:20240221T182320Z
UID:10465-1713985200-1713988800@loverabaptist.org
SUMMARY:Worship Service
DESCRIPTION:
URL:https://loverabaptist.org/event/worship-service-591/
CATEGORIES:Regular Service
END:VEVENT
BEGIN:VEVENT
DTSTART;TZID=America/Chicago:20240421T110000
DTEND;TZID=America/Chicago:20240421T120000
DTSTAMP:20260419T072318
CREATED:20240122T170757Z
LAST-MODIFIED:20240221T182320Z
UID:10458-1713697200-1713700800@loverabaptist.org
SUMMARY:Worship Service
DESCRIPTION:
URL:https://loverabaptist.org/event/worship-service-590/
CATEGORIES:Regular Service
END:VEVENT
BEGIN:VEVENT
DTSTART;TZID=America/Chicago:20240421T094500
DTEND;TZID=America/Chicago:20240421T104500
DTSTAMP:20260419T072318
CREATED:20240122T170757Z
LAST-MODIFIED:20240221T182320Z
UID:10457-1713692700-1713696300@loverabaptist.org
SUMMARY:Sunday School
DESCRIPTION:
URL:https://loverabaptist.org/event/sunday-school-320/
CATEGORIES:Regular Service
END:VEVENT
BEGIN:VEVENT
DTSTART;TZID=America/Chicago:20240417T190000
DTEND;TZID=America/Chicago:20240417T200000
DTSTAMP:20260419T072318
CREATED:20240119T165442Z
LAST-MODIFIED:20240221T182320Z
UID:10452-1713380400-1713384000@loverabaptist.org
SUMMARY:Worship Service
DESCRIPTION:
URL:https://loverabaptist.org/event/worship-service-589/
CATEGORIES:Regular Service
END:VEVENT
BEGIN:VEVENT
DTSTART;TZID=America/Chicago:20240414T110000
DTEND;TZID=America/Chicago:20240414T120000
DTSTAMP:20260419T072318
CREATED:20240115T162330Z
LAST-MODIFIED:20240221T182320Z
UID:10445-1713092400-1713096000@loverabaptist.org
SUMMARY:Worship Service
DESCRIPTION:
URL:https://loverabaptist.org/event/worship-service-588/
CATEGORIES:Regular Service
END:VEVENT
BEGIN:VEVENT
DTSTART;TZID=America/Chicago:20240414T094500
DTEND;TZID=America/Chicago:20240414T104500
DTSTAMP:20260419T072318
CREATED:20240115T162330Z
LAST-MODIFIED:20240221T182320Z
UID:10444-1713087900-1713091500@loverabaptist.org
SUMMARY:Sunday School
DESCRIPTION:
URL:https://loverabaptist.org/event/sunday-school-319/
CATEGORIES:Regular Service
END:VEVENT
BEGIN:VEVENT
DTSTART;TZID=America/Chicago:20240410T190000
DTEND;TZID=America/Chicago:20240410T200000
DTSTAMP:20260419T072318
CREATED:20240112T162327Z
LAST-MODIFIED:20240221T182320Z
UID:10439-1712775600-1712779200@loverabaptist.org
SUMMARY:Worship Service
DESCRIPTION:
URL:https://loverabaptist.org/event/worship-service-587/
CATEGORIES:Regular Service
END:VEVENT
BEGIN:VEVENT
DTSTART;TZID=America/Chicago:20240407T110000
DTEND;TZID=America/Chicago:20240407T120000
DTSTAMP:20260419T072318
CREATED:20240108T160910Z
LAST-MODIFIED:20240221T182320Z
UID:10432-1712487600-1712491200@loverabaptist.org
SUMMARY:Worship Service
DESCRIPTION:
URL:https://loverabaptist.org/event/worship-service-586/
CATEGORIES:Regular Service
END:VEVENT
BEGIN:VEVENT
DTSTART;TZID=America/Chicago:20240407T094500
DTEND;TZID=America/Chicago:20240407T104500
DTSTAMP:20260419T072318
CREATED:20240108T160910Z
LAST-MODIFIED:20240221T182320Z
UID:10431-1712483100-1712486700@loverabaptist.org
SUMMARY:Sunday School
DESCRIPTION:
URL:https://loverabaptist.org/event/sunday-school-318/
CATEGORIES:Regular Service
END:VEVENT
BEGIN:VEVENT
DTSTART;TZID=America/Chicago:20240403T190000
DTEND;TZID=America/Chicago:20240403T200000
DTSTAMP:20260419T072318
CREATED:20240105T160830Z
LAST-MODIFIED:20240221T182319Z
UID:10426-1712170800-1712174400@loverabaptist.org
SUMMARY:Worship Service
DESCRIPTION:
URL:https://loverabaptist.org/event/worship-service-585/
CATEGORIES:Regular Service
END:VEVENT
BEGIN:VEVENT
DTSTART;TZID=America/Chicago:20240331T110000
DTEND;TZID=America/Chicago:20240331T120000
DTSTAMP:20260419T072318
CREATED:20240101T155552Z
LAST-MODIFIED:20240221T182319Z
UID:10419-1711882800-1711886400@loverabaptist.org
SUMMARY:Worship Service
DESCRIPTION:
URL:https://loverabaptist.org/event/worship-service-584/
CATEGORIES:Regular Service
END:VEVENT
BEGIN:VEVENT
DTSTART;TZID=America/Chicago:20240331T094500
DTEND;TZID=America/Chicago:20240331T104500
DTSTAMP:20260419T072318
CREATED:20240101T155552Z
LAST-MODIFIED:20240221T182319Z
UID:10418-1711878300-1711881900@loverabaptist.org
SUMMARY:Sunday School
DESCRIPTION:
URL:https://loverabaptist.org/event/sunday-school-317/
CATEGORIES:Regular Service
END:VEVENT
BEGIN:VEVENT
DTSTART;TZID=America/Chicago:20240327T190000
DTEND;TZID=America/Chicago:20240327T200000
DTSTAMP:20260419T072318
CREATED:20231229T152347Z
LAST-MODIFIED:20240221T182319Z
UID:10413-1711566000-1711569600@loverabaptist.org
SUMMARY:Worship Service
DESCRIPTION:
URL:https://loverabaptist.org/event/worship-service-583/
CATEGORIES:Regular Service
END:VEVENT
BEGIN:VEVENT
DTSTART;TZID=America/Chicago:20240324T110000
DTEND;TZID=America/Chicago:20240324T120000
DTSTAMP:20260419T072318
CREATED:20231225T151012Z
LAST-MODIFIED:20240221T182319Z
UID:10406-1711278000-1711281600@loverabaptist.org
SUMMARY:Worship Service
DESCRIPTION:
URL:https://loverabaptist.org/event/worship-service-582/
CATEGORIES:Regular Service
END:VEVENT
BEGIN:VEVENT
DTSTART;TZID=America/Chicago:20240324T094500
DTEND;TZID=America/Chicago:20240324T104500
DTSTAMP:20260419T072318
CREATED:20231225T151012Z
LAST-MODIFIED:20240221T182319Z
UID:10405-1711273500-1711277100@loverabaptist.org
SUMMARY:Sunday School
DESCRIPTION:
URL:https://loverabaptist.org/event/sunday-school-316/
CATEGORIES:Regular Service
END:VEVENT
BEGIN:VEVENT
DTSTART;TZID=America/Chicago:20240320T190000
DTEND;TZID=America/Chicago:20240320T200000
DTSTAMP:20260419T072318
CREATED:20231222T150809Z
LAST-MODIFIED:20240221T182319Z
UID:10400-1710961200-1710964800@loverabaptist.org
SUMMARY:Worship Service
DESCRIPTION:
URL:https://loverabaptist.org/event/worship-service-581/
CATEGORIES:Regular Service
END:VEVENT
BEGIN:VEVENT
DTSTART;TZID=America/Chicago:20240317T110000
DTEND;TZID=America/Chicago:20240317T120000
DTSTAMP:20260419T072318
CREATED:20231218T142820Z
LAST-MODIFIED:20240221T182319Z
UID:10393-1710673200-1710676800@loverabaptist.org
SUMMARY:Worship Service
DESCRIPTION:
URL:https://loverabaptist.org/event/worship-service-580/
CATEGORIES:Regular Service
END:VEVENT
BEGIN:VEVENT
DTSTART;TZID=America/Chicago:20240317T094500
DTEND;TZID=America/Chicago:20240317T104500
DTSTAMP:20260419T072318
CREATED:20231218T142819Z
LAST-MODIFIED:20240221T182319Z
UID:10392-1710668700-1710672300@loverabaptist.org
SUMMARY:Sunday School
DESCRIPTION:
URL:https://loverabaptist.org/event/sunday-school-315/
CATEGORIES:Regular Service
END:VEVENT
BEGIN:VEVENT
DTSTART;TZID=America/Chicago:20240313T190000
DTEND;TZID=America/Chicago:20240313T200000
DTSTAMP:20260419T072318
CREATED:20231215T140922Z
LAST-MODIFIED:20240221T182319Z
UID:10387-1710356400-1710360000@loverabaptist.org
SUMMARY:Worship Service
DESCRIPTION:
URL:https://loverabaptist.org/event/worship-service-579/
CATEGORIES:Regular Service
END:VEVENT
END:VCALENDAR